BEGIN:VCALENDAR
VERSION:2.0
PRODID:-//About Marbella - ECPv6.8.0//NONSGML v1.0//EN
CALSCALE:GREGORIAN
METHOD:PUBLISH
X-ORIGINAL-URL:https://aboutmarbella.com
X-WR-CALDESC:Events for About Marbella
REFRESH-INTERVAL;VALUE=DURATION:PT1H
X-Robots-Tag:noindex
X-PUBLISHED-TTL:PT1H
BEGIN:VTIMEZONE
TZID:Europe/Madrid
BEGIN:DAYLIGHT
TZOFFSETFROM:+0100
TZOFFSETTO:+0200
TZNAME:CEST
DTSTART:20240331T010000
END:DAYLIGHT
BEGIN:STANDARD
TZOFFSETFROM:+0200
TZOFFSETTO:+0100
TZNAME:CET
DTSTART:20241027T010000
END:STANDARD
END:VTIMEZONE
BEGIN:VEVENT
DTSTART;TZID=Europe/Madrid:20240925T110000
DTEND;TZID=Europe/Madrid:20240925T210000
DTSTAMP:20260421T124849
CREATED:20240729T193226Z
LAST-MODIFIED:20240729T193226Z
UID:10000639-1727262000-1727298000@aboutmarbella.com
SUMMARY:Ocean Club Marbella
DESCRIPTION:RETRO
URL:https://aboutmarbella.com/evento/ocean-club-marbella-2/2024-09-25/
LOCATION:Ocean Club Marbella\, Avda. Lola Flores s/n\, Marbella\, Malaga\, 29660\, España
ATTACH;FMTTYPE=image/jpeg:https://aboutmarbella.com/wp-content/uploads/2024/07/Imagen-de-WhatsApp-2024-07-29-a-las-21.20.06_3be2a1ef.jpg
END:VEVENT
BEGIN:VEVENT
DTSTART;TZID=Europe/Madrid:20240922T110000
DTEND;TZID=Europe/Madrid:20240922T210000
DTSTAMP:20260421T124849
CREATED:20240729T193513Z
LAST-MODIFIED:20240729T193513Z
UID:10000660-1727002800-1727038800@aboutmarbella.com
SUMMARY:Ocean Club Marbella
DESCRIPTION:TROPICANA
URL:https://aboutmarbella.com/evento/ocean-club-marbella-3/2024-09-22/
LOCATION:Ocean Club Marbella\, Avda. Lola Flores s/n\, Marbella\, Malaga\, 29660\, España
ATTACH;FMTTYPE=image/jpeg:https://aboutmarbella.com/wp-content/uploads/2024/07/Imagen-de-WhatsApp-2024-07-29-a-las-21.20.06_69df9ac5.jpg
END:VEVENT
BEGIN:VEVENT
DTSTART;TZID=Europe/Madrid:20240920T110000
DTEND;TZID=Europe/Madrid:20240920T210000
DTSTAMP:20260421T124849
CREATED:20240729T193040Z
LAST-MODIFIED:20240729T193040Z
UID:10000617-1726830000-1726866000@aboutmarbella.com
SUMMARY:Ocean Club Marbella
DESCRIPTION:ELEMENTS\n 
URL:https://aboutmarbella.com/evento/ocean-club-marbella/2024-09-20/
LOCATION:Ocean Club Marbella\, Avda. Lola Flores s/n\, Marbella\, Malaga\, 29660\, España
ATTACH;FMTTYPE=image/jpeg:https://aboutmarbella.com/wp-content/uploads/2024/07/Imagen-de-WhatsApp-2024-07-29-a-las-21.20.06_0ea55472.jpg
END:VEVENT
BEGIN:VEVENT
DTSTART;TZID=Europe/Madrid:20240918T110000
DTEND;TZID=Europe/Madrid:20240918T210000
DTSTAMP:20260421T124849
CREATED:20240729T193226Z
LAST-MODIFIED:20240729T193226Z
UID:10000638-1726657200-1726693200@aboutmarbella.com
SUMMARY:Ocean Club Marbella
DESCRIPTION:RETRO
URL:https://aboutmarbella.com/evento/ocean-club-marbella-2/2024-09-18/
LOCATION:Ocean Club Marbella\, Avda. Lola Flores s/n\, Marbella\, Malaga\, 29660\, España
ATTACH;FMTTYPE=image/jpeg:https://aboutmarbella.com/wp-content/uploads/2024/07/Imagen-de-WhatsApp-2024-07-29-a-las-21.20.06_3be2a1ef.jpg
END:VEVENT
BEGIN:VEVENT
DTSTART;TZID=Europe/Madrid:20240915T110000
DTEND;TZID=Europe/Madrid:20240915T210000
DTSTAMP:20260421T124849
CREATED:20240729T193513Z
LAST-MODIFIED:20240729T193513Z
UID:10000659-1726398000-1726434000@aboutmarbella.com
SUMMARY:Ocean Club Marbella
DESCRIPTION:TROPICANA
URL:https://aboutmarbella.com/evento/ocean-club-marbella-3/2024-09-15/
LOCATION:Ocean Club Marbella\, Avda. Lola Flores s/n\, Marbella\, Malaga\, 29660\, España
ATTACH;FMTTYPE=image/jpeg:https://aboutmarbella.com/wp-content/uploads/2024/07/Imagen-de-WhatsApp-2024-07-29-a-las-21.20.06_69df9ac5.jpg
END:VEVENT
BEGIN:VEVENT
DTSTART;TZID=Europe/Madrid:20240913T110000
DTEND;TZID=Europe/Madrid:20240913T210000
DTSTAMP:20260421T124849
CREATED:20240729T193040Z
LAST-MODIFIED:20240729T193040Z
UID:10000616-1726225200-1726261200@aboutmarbella.com
SUMMARY:Ocean Club Marbella
DESCRIPTION:ELEMENTS\n 
URL:https://aboutmarbella.com/evento/ocean-club-marbella/2024-09-13/
LOCATION:Ocean Club Marbella\, Avda. Lola Flores s/n\, Marbella\, Malaga\, 29660\, España
ATTACH;FMTTYPE=image/jpeg:https://aboutmarbella.com/wp-content/uploads/2024/07/Imagen-de-WhatsApp-2024-07-29-a-las-21.20.06_0ea55472.jpg
END:VEVENT
BEGIN:VEVENT
DTSTART;TZID=Europe/Madrid:20240911T110000
DTEND;TZID=Europe/Madrid:20240911T210000
DTSTAMP:20260421T124849
CREATED:20240729T193226Z
LAST-MODIFIED:20240729T193226Z
UID:10000637-1726052400-1726088400@aboutmarbella.com
SUMMARY:Ocean Club Marbella
DESCRIPTION:RETRO
URL:https://aboutmarbella.com/evento/ocean-club-marbella-2/2024-09-11/
LOCATION:Ocean Club Marbella\, Avda. Lola Flores s/n\, Marbella\, Malaga\, 29660\, España
ATTACH;FMTTYPE=image/jpeg:https://aboutmarbella.com/wp-content/uploads/2024/07/Imagen-de-WhatsApp-2024-07-29-a-las-21.20.06_3be2a1ef.jpg
END:VEVENT
BEGIN:VEVENT
DTSTART;TZID=Europe/Madrid:20240908T110000
DTEND;TZID=Europe/Madrid:20240908T210000
DTSTAMP:20260421T124849
CREATED:20240729T193513Z
LAST-MODIFIED:20240729T193513Z
UID:10000658-1725793200-1725829200@aboutmarbella.com
SUMMARY:Ocean Club Marbella
DESCRIPTION:TROPICANA
URL:https://aboutmarbella.com/evento/ocean-club-marbella-3/2024-09-08/
LOCATION:Ocean Club Marbella\, Avda. Lola Flores s/n\, Marbella\, Malaga\, 29660\, España
ATTACH;FMTTYPE=image/jpeg:https://aboutmarbella.com/wp-content/uploads/2024/07/Imagen-de-WhatsApp-2024-07-29-a-las-21.20.06_69df9ac5.jpg
END:VEVENT
BEGIN:VEVENT
DTSTART;TZID=Europe/Madrid:20240906T110000
DTEND;TZID=Europe/Madrid:20240906T210000
DTSTAMP:20260421T124849
CREATED:20240729T193040Z
LAST-MODIFIED:20240729T193040Z
UID:10000615-1725620400-1725656400@aboutmarbella.com
SUMMARY:Ocean Club Marbella
DESCRIPTION:ELEMENTS\n 
URL:https://aboutmarbella.com/evento/ocean-club-marbella/2024-09-06/
LOCATION:Ocean Club Marbella\, Avda. Lola Flores s/n\, Marbella\, Malaga\, 29660\, España
ATTACH;FMTTYPE=image/jpeg:https://aboutmarbella.com/wp-content/uploads/2024/07/Imagen-de-WhatsApp-2024-07-29-a-las-21.20.06_0ea55472.jpg
END:VEVENT
BEGIN:VEVENT
DTSTART;TZID=Europe/Madrid:20240904T110000
DTEND;TZID=Europe/Madrid:20240904T210000
DTSTAMP:20260421T124849
CREATED:20240729T193226Z
LAST-MODIFIED:20240729T193226Z
UID:10000636-1725447600-1725483600@aboutmarbella.com
SUMMARY:Ocean Club Marbella
DESCRIPTION:RETRO
URL:https://aboutmarbella.com/evento/ocean-club-marbella-2/2024-09-04/
LOCATION:Ocean Club Marbella\, Avda. Lola Flores s/n\, Marbella\, Malaga\, 29660\, España
ATTACH;FMTTYPE=image/jpeg:https://aboutmarbella.com/wp-content/uploads/2024/07/Imagen-de-WhatsApp-2024-07-29-a-las-21.20.06_3be2a1ef.jpg
END:VEVENT
BEGIN:VEVENT
DTSTART;TZID=Europe/Madrid:20240901T110000
DTEND;TZID=Europe/Madrid:20240901T210000
DTSTAMP:20260421T124849
CREATED:20240729T193513Z
LAST-MODIFIED:20240729T193513Z
UID:10000657-1725188400-1725224400@aboutmarbella.com
SUMMARY:Ocean Club Marbella
DESCRIPTION:TROPICANA
URL:https://aboutmarbella.com/evento/ocean-club-marbella-3/2024-09-01/
LOCATION:Ocean Club Marbella\, Avda. Lola Flores s/n\, Marbella\, Malaga\, 29660\, España
ATTACH;FMTTYPE=image/jpeg:https://aboutmarbella.com/wp-content/uploads/2024/07/Imagen-de-WhatsApp-2024-07-29-a-las-21.20.06_69df9ac5.jpg
END:VEVENT
BEGIN:VEVENT
DTSTART;TZID=Europe/Madrid:20240830T110000
DTEND;TZID=Europe/Madrid:20240830T210000
DTSTAMP:20260421T124849
CREATED:20240729T193040Z
LAST-MODIFIED:20240729T193040Z
UID:10000614-1725015600-1725051600@aboutmarbella.com
SUMMARY:Ocean Club Marbella
DESCRIPTION:ELEMENTS\n 
URL:https://aboutmarbella.com/evento/ocean-club-marbella/2024-08-30/
LOCATION:Ocean Club Marbella\, Avda. Lola Flores s/n\, Marbella\, Malaga\, 29660\, España
ATTACH;FMTTYPE=image/jpeg:https://aboutmarbella.com/wp-content/uploads/2024/07/Imagen-de-WhatsApp-2024-07-29-a-las-21.20.06_0ea55472.jpg
END:VEVENT
BEGIN:VEVENT
DTSTART;TZID=Europe/Madrid:20240828T110000
DTEND;TZID=Europe/Madrid:20240828T210000
DTSTAMP:20260421T124849
CREATED:20240729T193226Z
LAST-MODIFIED:20240729T193226Z
UID:10000635-1724842800-1724878800@aboutmarbella.com
SUMMARY:Ocean Club Marbella
DESCRIPTION:RETRO
URL:https://aboutmarbella.com/evento/ocean-club-marbella-2/2024-08-28/
LOCATION:Ocean Club Marbella\, Avda. Lola Flores s/n\, Marbella\, Malaga\, 29660\, España
ATTACH;FMTTYPE=image/jpeg:https://aboutmarbella.com/wp-content/uploads/2024/07/Imagen-de-WhatsApp-2024-07-29-a-las-21.20.06_3be2a1ef.jpg
END:VEVENT
BEGIN:VEVENT
DTSTART;TZID=Europe/Madrid:20240825T110000
DTEND;TZID=Europe/Madrid:20240825T210000
DTSTAMP:20260421T124849
CREATED:20240729T193513Z
LAST-MODIFIED:20240729T193513Z
UID:10000656-1724583600-1724619600@aboutmarbella.com
SUMMARY:Ocean Club Marbella
DESCRIPTION:TROPICANA
URL:https://aboutmarbella.com/evento/ocean-club-marbella-3/2024-08-25/
LOCATION:Ocean Club Marbella\, Avda. Lola Flores s/n\, Marbella\, Malaga\, 29660\, España
ATTACH;FMTTYPE=image/jpeg:https://aboutmarbella.com/wp-content/uploads/2024/07/Imagen-de-WhatsApp-2024-07-29-a-las-21.20.06_69df9ac5.jpg
END:VEVENT
BEGIN:VEVENT
DTSTART;TZID=Europe/Madrid:20240823T110000
DTEND;TZID=Europe/Madrid:20240823T210000
DTSTAMP:20260421T124849
CREATED:20240729T193040Z
LAST-MODIFIED:20240729T193040Z
UID:10000613-1724410800-1724446800@aboutmarbella.com
SUMMARY:Ocean Club Marbella
DESCRIPTION:ELEMENTS\n 
URL:https://aboutmarbella.com/evento/ocean-club-marbella/2024-08-23/
LOCATION:Ocean Club Marbella\, Avda. Lola Flores s/n\, Marbella\, Malaga\, 29660\, España
ATTACH;FMTTYPE=image/jpeg:https://aboutmarbella.com/wp-content/uploads/2024/07/Imagen-de-WhatsApp-2024-07-29-a-las-21.20.06_0ea55472.jpg
END:VEVENT
BEGIN:VEVENT
DTSTART;TZID=Europe/Madrid:20240821T110000
DTEND;TZID=Europe/Madrid:20240821T210000
DTSTAMP:20260421T124849
CREATED:20240729T193226Z
LAST-MODIFIED:20240729T193226Z
UID:10000634-1724238000-1724274000@aboutmarbella.com
SUMMARY:Ocean Club Marbella
DESCRIPTION:RETRO
URL:https://aboutmarbella.com/evento/ocean-club-marbella-2/2024-08-21/
LOCATION:Ocean Club Marbella\, Avda. Lola Flores s/n\, Marbella\, Malaga\, 29660\, España
ATTACH;FMTTYPE=image/jpeg:https://aboutmarbella.com/wp-content/uploads/2024/07/Imagen-de-WhatsApp-2024-07-29-a-las-21.20.06_3be2a1ef.jpg
END:VEVENT
BEGIN:VEVENT
DTSTART;TZID=Europe/Madrid:20240818T110000
DTEND;TZID=Europe/Madrid:20240818T210000
DTSTAMP:20260421T124849
CREATED:20240729T193513Z
LAST-MODIFIED:20240729T193513Z
UID:10000655-1723978800-1724014800@aboutmarbella.com
SUMMARY:Ocean Club Marbella
DESCRIPTION:TROPICANA
URL:https://aboutmarbella.com/evento/ocean-club-marbella-3/2024-08-18/
LOCATION:Ocean Club Marbella\, Avda. Lola Flores s/n\, Marbella\, Malaga\, 29660\, España
ATTACH;FMTTYPE=image/jpeg:https://aboutmarbella.com/wp-content/uploads/2024/07/Imagen-de-WhatsApp-2024-07-29-a-las-21.20.06_69df9ac5.jpg
END:VEVENT
BEGIN:VEVENT
DTSTART;TZID=Europe/Madrid:20240816T110000
DTEND;TZID=Europe/Madrid:20240816T210000
DTSTAMP:20260421T124849
CREATED:20240729T193040Z
LAST-MODIFIED:20240729T193040Z
UID:10000612-1723806000-1723842000@aboutmarbella.com
SUMMARY:Ocean Club Marbella
DESCRIPTION:ELEMENTS\n 
URL:https://aboutmarbella.com/evento/ocean-club-marbella/2024-08-16/
LOCATION:Ocean Club Marbella\, Avda. Lola Flores s/n\, Marbella\, Malaga\, 29660\, España
ATTACH;FMTTYPE=image/jpeg:https://aboutmarbella.com/wp-content/uploads/2024/07/Imagen-de-WhatsApp-2024-07-29-a-las-21.20.06_0ea55472.jpg
END:VEVENT
BEGIN:VEVENT
DTSTART;TZID=Europe/Madrid:20240814T110000
DTEND;TZID=Europe/Madrid:20240814T210000
DTSTAMP:20260421T124849
CREATED:20240729T193226Z
LAST-MODIFIED:20240729T193226Z
UID:10000633-1723633200-1723669200@aboutmarbella.com
SUMMARY:Ocean Club Marbella
DESCRIPTION:RETRO
URL:https://aboutmarbella.com/evento/ocean-club-marbella-2/2024-08-14/
LOCATION:Ocean Club Marbella\, Avda. Lola Flores s/n\, Marbella\, Malaga\, 29660\, España
ATTACH;FMTTYPE=image/jpeg:https://aboutmarbella.com/wp-content/uploads/2024/07/Imagen-de-WhatsApp-2024-07-29-a-las-21.20.06_3be2a1ef.jpg
END:VEVENT
BEGIN:VEVENT
DTSTART;TZID=Europe/Madrid:20240811T110000
DTEND;TZID=Europe/Madrid:20240811T210000
DTSTAMP:20260421T124849
CREATED:20240729T193513Z
LAST-MODIFIED:20240729T193513Z
UID:10000654-1723374000-1723410000@aboutmarbella.com
SUMMARY:Ocean Club Marbella
DESCRIPTION:TROPICANA
URL:https://aboutmarbella.com/evento/ocean-club-marbella-3/2024-08-11/
LOCATION:Ocean Club Marbella\, Avda. Lola Flores s/n\, Marbella\, Malaga\, 29660\, España
ATTACH;FMTTYPE=image/jpeg:https://aboutmarbella.com/wp-content/uploads/2024/07/Imagen-de-WhatsApp-2024-07-29-a-las-21.20.06_69df9ac5.jpg
END:VEVENT
BEGIN:VEVENT
DTSTART;TZID=Europe/Madrid:20240809T110000
DTEND;TZID=Europe/Madrid:20240809T210000
DTSTAMP:20260421T124849
CREATED:20240729T193040Z
LAST-MODIFIED:20240729T193040Z
UID:10000611-1723201200-1723237200@aboutmarbella.com
SUMMARY:Ocean Club Marbella
DESCRIPTION:ELEMENTS\n 
URL:https://aboutmarbella.com/evento/ocean-club-marbella/2024-08-09/
LOCATION:Ocean Club Marbella\, Avda. Lola Flores s/n\, Marbella\, Malaga\, 29660\, España
ATTACH;FMTTYPE=image/jpeg:https://aboutmarbella.com/wp-content/uploads/2024/07/Imagen-de-WhatsApp-2024-07-29-a-las-21.20.06_0ea55472.jpg
END:VEVENT
BEGIN:VEVENT
DTSTART;TZID=Europe/Madrid:20240807T110000
DTEND;TZID=Europe/Madrid:20240807T210000
DTSTAMP:20260421T124849
CREATED:20240729T193226Z
LAST-MODIFIED:20240729T193226Z
UID:10000632-1723028400-1723064400@aboutmarbella.com
SUMMARY:Ocean Club Marbella
DESCRIPTION:RETRO
URL:https://aboutmarbella.com/evento/ocean-club-marbella-2/2024-08-07/
LOCATION:Ocean Club Marbella\, Avda. Lola Flores s/n\, Marbella\, Malaga\, 29660\, España
ATTACH;FMTTYPE=image/jpeg:https://aboutmarbella.com/wp-content/uploads/2024/07/Imagen-de-WhatsApp-2024-07-29-a-las-21.20.06_3be2a1ef.jpg
END:VEVENT
BEGIN:VEVENT
DTSTART;TZID=Europe/Madrid:20240804T110000
DTEND;TZID=Europe/Madrid:20240804T210000
DTSTAMP:20260421T124849
CREATED:20240729T193513Z
LAST-MODIFIED:20240729T193513Z
UID:10000653-1722769200-1722805200@aboutmarbella.com
SUMMARY:Ocean Club Marbella
DESCRIPTION:TROPICANA
URL:https://aboutmarbella.com/evento/ocean-club-marbella-3/2024-08-04/
LOCATION:Ocean Club Marbella\, Avda. Lola Flores s/n\, Marbella\, Malaga\, 29660\, España
ATTACH;FMTTYPE=image/jpeg:https://aboutmarbella.com/wp-content/uploads/2024/07/Imagen-de-WhatsApp-2024-07-29-a-las-21.20.06_69df9ac5.jpg
END:VEVENT
BEGIN:VEVENT
DTSTART;TZID=Europe/Madrid:20240802T110000
DTEND;TZID=Europe/Madrid:20240802T210000
DTSTAMP:20260421T124849
CREATED:20240729T193040Z
LAST-MODIFIED:20240729T193040Z
UID:10000610-1722596400-1722632400@aboutmarbella.com
SUMMARY:Ocean Club Marbella
DESCRIPTION:ELEMENTS\n 
URL:https://aboutmarbella.com/evento/ocean-club-marbella/2024-08-02/
LOCATION:Ocean Club Marbella\, Avda. Lola Flores s/n\, Marbella\, Malaga\, 29660\, España
ATTACH;FMTTYPE=image/jpeg:https://aboutmarbella.com/wp-content/uploads/2024/07/Imagen-de-WhatsApp-2024-07-29-a-las-21.20.06_0ea55472.jpg
END:VEVENT
BEGIN:VEVENT
DTSTART;TZID=Europe/Madrid:20240731T110000
DTEND;TZID=Europe/Madrid:20240731T210000
DTSTAMP:20260421T124849
CREATED:20240729T193226Z
LAST-MODIFIED:20240729T193226Z
UID:10000631-1722423600-1722459600@aboutmarbella.com
SUMMARY:Ocean Club Marbella
DESCRIPTION:RETRO
URL:https://aboutmarbella.com/evento/ocean-club-marbella-2/2024-07-31/
LOCATION:Ocean Club Marbella\, Avda. Lola Flores s/n\, Marbella\, Malaga\, 29660\, España
ATTACH;FMTTYPE=image/jpeg:https://aboutmarbella.com/wp-content/uploads/2024/07/Imagen-de-WhatsApp-2024-07-29-a-las-21.20.06_3be2a1ef.jpg
END:VEVENT
BEGIN:VEVENT
DTSTART;TZID=Europe/Madrid:20240728T110000
DTEND;TZID=Europe/Madrid:20240728T210000
DTSTAMP:20260421T124849
CREATED:20240729T193513Z
LAST-MODIFIED:20240729T193513Z
UID:10000652-1722164400-1722200400@aboutmarbella.com
SUMMARY:Ocean Club Marbella
DESCRIPTION:TROPICANA
URL:https://aboutmarbella.com/evento/ocean-club-marbella-3/2024-07-28/
LOCATION:Ocean Club Marbella\, Avda. Lola Flores s/n\, Marbella\, Malaga\, 29660\, España
ATTACH;FMTTYPE=image/jpeg:https://aboutmarbella.com/wp-content/uploads/2024/07/Imagen-de-WhatsApp-2024-07-29-a-las-21.20.06_69df9ac5.jpg
END:VEVENT
BEGIN:VEVENT
DTSTART;TZID=Europe/Madrid:20240726T110000
DTEND;TZID=Europe/Madrid:20240726T210000
DTSTAMP:20260421T124849
CREATED:20240729T193040Z
LAST-MODIFIED:20240729T193040Z
UID:10000609-1721991600-1722027600@aboutmarbella.com
SUMMARY:Ocean Club Marbella
DESCRIPTION:ELEMENTS\n 
URL:https://aboutmarbella.com/evento/ocean-club-marbella/2024-07-26/
LOCATION:Ocean Club Marbella\, Avda. Lola Flores s/n\, Marbella\, Malaga\, 29660\, España
ATTACH;FMTTYPE=image/jpeg:https://aboutmarbella.com/wp-content/uploads/2024/07/Imagen-de-WhatsApp-2024-07-29-a-las-21.20.06_0ea55472.jpg
END:VEVENT
BEGIN:VEVENT
DTSTART;TZID=Europe/Madrid:20240724T110000
DTEND;TZID=Europe/Madrid:20240724T210000
DTSTAMP:20260421T124849
CREATED:20240729T193226Z
LAST-MODIFIED:20240729T193226Z
UID:10000630-1721818800-1721854800@aboutmarbella.com
SUMMARY:Ocean Club Marbella
DESCRIPTION:RETRO
URL:https://aboutmarbella.com/evento/ocean-club-marbella-2/2024-07-24/
LOCATION:Ocean Club Marbella\, Avda. Lola Flores s/n\, Marbella\, Malaga\, 29660\, España
ATTACH;FMTTYPE=image/jpeg:https://aboutmarbella.com/wp-content/uploads/2024/07/Imagen-de-WhatsApp-2024-07-29-a-las-21.20.06_3be2a1ef.jpg
END:VEVENT
BEGIN:VEVENT
DTSTART;TZID=Europe/Madrid:20240721T110000
DTEND;TZID=Europe/Madrid:20240721T210000
DTSTAMP:20260421T124849
CREATED:20240729T193716Z
LAST-MODIFIED:20240729T193716Z
UID:10000661-1721559600-1721595600@aboutmarbella.com
SUMMARY:Ocean Club Marbella
DESCRIPTION:FÊTE  DES BELGES
URL:https://aboutmarbella.com/evento/ocean-club-marbella-4/
LOCATION:Ocean Club Marbella\, Avda. Lola Flores s/n\, Marbella\, Malaga\, 29660\, España
ATTACH;FMTTYPE=image/jpeg:https://aboutmarbella.com/wp-content/uploads/2024/07/Imagen-de-WhatsApp-2024-07-29-a-las-21.20.06_19c2e532.jpg
END:VEVENT
BEGIN:VEVENT
DTSTART;TZID=Europe/Madrid:20240721T110000
DTEND;TZID=Europe/Madrid:20240721T210000
DTSTAMP:20260421T124849
CREATED:20240729T193513Z
LAST-MODIFIED:20240729T193513Z
UID:10000651-1721559600-1721595600@aboutmarbella.com
SUMMARY:Ocean Club Marbella
DESCRIPTION:TROPICANA
URL:https://aboutmarbella.com/evento/ocean-club-marbella-3/2024-07-21/
LOCATION:Ocean Club Marbella\, Avda. Lola Flores s/n\, Marbella\, Malaga\, 29660\, España
ATTACH;FMTTYPE=image/jpeg:https://aboutmarbella.com/wp-content/uploads/2024/07/Imagen-de-WhatsApp-2024-07-29-a-las-21.20.06_69df9ac5.jpg
END:VEVENT
END:VCALENDAR