BEGIN:VCALENDAR
VERSION:2.0
PRODID:-//About Marbella - ECPv6.8.0//NONSGML v1.0//EN
CALSCALE:GREGORIAN
METHOD:PUBLISH
X-WR-CALNAME:About Marbella
X-ORIGINAL-URL:https://aboutmarbella.com
X-WR-CALDESC:Events for About Marbella
REFRESH-INTERVAL;VALUE=DURATION:PT1H
X-Robots-Tag:noindex
X-PUBLISHED-TTL:PT1H
BEGIN:VTIMEZONE
TZID:Europe/Madrid
BEGIN:DAYLIGHT
TZOFFSETFROM:+0100
TZOFFSETTO:+0200
TZNAME:CEST
DTSTART:20240331T010000
END:DAYLIGHT
BEGIN:STANDARD
TZOFFSETFROM:+0200
TZOFFSETTO:+0100
TZNAME:CET
DTSTART:20241027T010000
END:STANDARD
END:VTIMEZONE
BEGIN:VEVENT
DTSTART;TZID=Europe/Madrid:20240623T110000
DTEND;TZID=Europe/Madrid:20240623T210000
DTSTAMP:20260426T053135
CREATED:20240729T193513Z
LAST-MODIFIED:20240729T193513Z
UID:10000647-1719140400-1719176400@aboutmarbella.com
SUMMARY:Ocean Club Marbella
DESCRIPTION:TROPICANA
URL:https://aboutmarbella.com/evento/ocean-club-marbella-3/2024-06-23/
LOCATION:Ocean Club Marbella\, Avda. Lola Flores s/n\, Marbella\, Malaga\, 29660\, España
ATTACH;FMTTYPE=image/jpeg:https://aboutmarbella.com/wp-content/uploads/2024/07/Imagen-de-WhatsApp-2024-07-29-a-las-21.20.06_69df9ac5.jpg
END:VEVENT
BEGIN:VEVENT
DTSTART;TZID=Europe/Madrid:20240623T110000
DTEND;TZID=Europe/Madrid:20240623T210000
DTSTAMP:20260426T053135
CREATED:20240729T185242Z
LAST-MODIFIED:20240729T185242Z
UID:10000581-1719140400-1719176400@aboutmarbella.com
SUMMARY:La Sala By The Sea
DESCRIPTION:CARNIVAL\nJOSE GALLANO\nJOEL SAX
URL:https://aboutmarbella.com/evento/la-sala-by-the-sea-7/2024-06-23/
LOCATION:La Sala By The Sea\, Av José Banús\, Marbella\, Malaga\, 29660\, España
ATTACH;FMTTYPE=image/jpeg:https://aboutmarbella.com/wp-content/uploads/2024/07/sunday24.jpg
END:VEVENT
BEGIN:VEVENT
DTSTART;TZID=Europe/Madrid:20240622T120000
DTEND;TZID=Europe/Madrid:20240622T200000
DTSTAMP:20260426T053135
CREATED:20240729T201032Z
LAST-MODIFIED:20240729T201032Z
UID:10000774-1719057600-1719086400@aboutmarbella.com
SUMMARY:Mogli The Key
DESCRIPTION:MOGLI X LOVEJUICE\n 
URL:https://aboutmarbella.com/evento/mogli-the-key-6/2024-06-22/
LOCATION:Mogli The Key\, Av. del Prado\, 37\, Marbella\, Malaga\, 29660\, España
ATTACH;FMTTYPE=image/jpeg:https://aboutmarbella.com/wp-content/uploads/2024/07/Imagen-de-WhatsApp-2024-07-29-a-las-21.51.03_83676e95.jpg
END:VEVENT
BEGIN:VEVENT
DTSTART;TZID=Europe/Madrid:20240622T110000
DTEND;TZID=Europe/Madrid:20240622T210000
DTSTAMP:20260426T053135
CREATED:20240729T185058Z
LAST-MODIFIED:20240729T185058Z
UID:10000563-1719054000-1719090000@aboutmarbella.com
SUMMARY:La Sala By The Sea
DESCRIPTION:SAMUI\nSCOTT STRUTTOON \nSHAYNE G1VEN \nJOEY SAX
URL:https://aboutmarbella.com/evento/la-sala-by-the-sea-6/2024-06-22/
LOCATION:La Sala By The Sea\, Av José Banús\, Marbella\, Malaga\, 29660\, España
ATTACH;FMTTYPE=image/jpeg:https://aboutmarbella.com/wp-content/uploads/2024/07/saturday24.jpg
END:VEVENT
BEGIN:VEVENT
DTSTART;TZID=Europe/Madrid:20240621T120000
DTEND;TZID=Europe/Madrid:20240621T200000
DTSTAMP:20260426T053135
CREATED:20240729T200852Z
LAST-MODIFIED:20240729T200852Z
UID:10000752-1718971200-1719000000@aboutmarbella.com
SUMMARY:Mogli The Key
DESCRIPTION:MOGLI X BABYLON
URL:https://aboutmarbella.com/evento/mogli-the-key-5/2024-06-21/
LOCATION:Mogli The Key\, Av. del Prado\, 37\, Marbella\, Malaga\, 29660\, España
ATTACH;FMTTYPE=image/jpeg:https://aboutmarbella.com/wp-content/uploads/2024/07/Imagen-de-WhatsApp-2024-07-29-a-las-21.51.03_9785ec9a.jpg
END:VEVENT
BEGIN:VEVENT
DTSTART;TZID=Europe/Madrid:20240621T110000
DTEND;TZID=Europe/Madrid:20240621T210000
DTSTAMP:20260426T053135
CREATED:20240729T193040Z
LAST-MODIFIED:20240729T193040Z
UID:10000604-1718967600-1719003600@aboutmarbella.com
SUMMARY:Ocean Club Marbella
DESCRIPTION:ELEMENTS\n 
URL:https://aboutmarbella.com/evento/ocean-club-marbella/2024-06-21/
LOCATION:Ocean Club Marbella\, Avda. Lola Flores s/n\, Marbella\, Malaga\, 29660\, España
ATTACH;FMTTYPE=image/jpeg:https://aboutmarbella.com/wp-content/uploads/2024/07/Imagen-de-WhatsApp-2024-07-29-a-las-21.20.06_0ea55472.jpg
END:VEVENT
BEGIN:VEVENT
DTSTART;TZID=Europe/Madrid:20240621T100000
DTEND;TZID=Europe/Madrid:20240621T220000
DTSTAMP:20260426T053135
CREATED:20240729T180027Z
LAST-MODIFIED:20240729T180027Z
UID:10000467-1718964000-1719007200@aboutmarbella.com
SUMMARY:LA CABANE
DESCRIPTION:LA BELLEZZA
URL:https://aboutmarbella.com/evento/la-cabane-4/2024-06-21/
LOCATION:La Cabane\, C. Jabalí\, Marbella\, Malaga\, 29603\, España
ATTACH;FMTTYPE=image/png:https://aboutmarbella.com/wp-content/uploads/2024/07/00_BASIC_LA_BELLEZZA_SQ-1400-she38g.png
END:VEVENT
BEGIN:VEVENT
DTSTART;TZID=Europe/Madrid:20240620T120000
DTEND;TZID=Europe/Madrid:20240620T200000
DTSTAMP:20260426T053135
CREATED:20240729T200716Z
LAST-MODIFIED:20240729T200716Z
UID:10000730-1718884800-1718913600@aboutmarbella.com
SUMMARY:Mogli The Key
DESCRIPTION:MOGLI X THE MAYFAIR SESSIONS
URL:https://aboutmarbella.com/evento/mogli-the-key-4/2024-06-20/
LOCATION:Mogli The Key\, Av. del Prado\, 37\, Marbella\, Malaga\, 29660\, España
ATTACH;FMTTYPE=image/jpeg:https://aboutmarbella.com/wp-content/uploads/2024/07/Imagen-de-WhatsApp-2024-07-29-a-las-21.51.03_ccf0d506.jpg
END:VEVENT
BEGIN:VEVENT
DTSTART;TZID=Europe/Madrid:20240620T110000
DTEND;TZID=Europe/Madrid:20240620T210000
DTSTAMP:20260426T053135
CREATED:20240729T184332Z
LAST-MODIFIED:20240729T184332Z
UID:10000532-1718881200-1718917200@aboutmarbella.com
SUMMARY:La Sala By The Sea
DESCRIPTION:REWIND\nDJ BEN CULLUM\nSHAYNE G1VEN\nADRIAN SAX
URL:https://aboutmarbella.com/evento/la-sala-by-the-sea-4/2024-06-20/
LOCATION:Malaga
ATTACH;FMTTYPE=image/jpeg:https://aboutmarbella.com/wp-content/uploads/2024/07/thursday24.jpg
END:VEVENT
BEGIN:VEVENT
DTSTART;TZID=Europe/Madrid:20240619T120000
DTEND;TZID=Europe/Madrid:20240619T210000
DTSTAMP:20260426T053135
CREATED:20240729T200547Z
LAST-MODIFIED:20240729T200547Z
UID:10000708-1718798400-1718830800@aboutmarbella.com
SUMMARY:Mogli The Key
DESCRIPTION:MOGLI X DONT BE SHY
URL:https://aboutmarbella.com/evento/mogli-the-key-3/2024-06-19/
LOCATION:Mogli The Key\, Av. del Prado\, 37\, Marbella\, Malaga\, 29660\, España
ATTACH;FMTTYPE=image/jpeg:https://aboutmarbella.com/wp-content/uploads/2024/07/Imagen-de-WhatsApp-2024-07-29-a-las-21.51.03_43912575.jpg
END:VEVENT
BEGIN:VEVENT
DTSTART;TZID=Europe/Madrid:20240619T110000
DTEND;TZID=Europe/Madrid:20240619T210000
DTSTAMP:20260426T053135
CREATED:20240729T193226Z
LAST-MODIFIED:20240729T193226Z
UID:10000625-1718794800-1718830800@aboutmarbella.com
SUMMARY:Ocean Club Marbella
DESCRIPTION:RETRO
URL:https://aboutmarbella.com/evento/ocean-club-marbella-2/2024-06-19/
LOCATION:Ocean Club Marbella\, Avda. Lola Flores s/n\, Marbella\, Malaga\, 29660\, España
ATTACH;FMTTYPE=image/jpeg:https://aboutmarbella.com/wp-content/uploads/2024/07/Imagen-de-WhatsApp-2024-07-29-a-las-21.20.06_3be2a1ef.jpg
END:VEVENT
BEGIN:VEVENT
DTSTART;TZID=Europe/Madrid:20240619T110000
DTEND;TZID=Europe/Madrid:20240619T210000
DTSTAMP:20260426T053135
CREATED:20240729T184127Z
LAST-MODIFIED:20240729T184127Z
UID:10000515-1718794800-1718830800@aboutmarbella.com
SUMMARY:La Sala By The Sea
DESCRIPTION:PERDIDA\nJOSE GALLANO
URL:https://aboutmarbella.com/evento/la-sala-by-the-sea-3/2024-06-19/
LOCATION:La Sala By The Sea\, Av José Banús\, Marbella\, Malaga\, 29660\, España
ATTACH;FMTTYPE=image/jpeg:https://aboutmarbella.com/wp-content/uploads/2024/07/wednesday24.jpg
END:VEVENT
BEGIN:VEVENT
DTSTART;TZID=Europe/Madrid:20240619T100000
DTEND;TZID=Europe/Madrid:20240619T220000
DTSTAMP:20260426T053135
CREATED:20240729T175839Z
LAST-MODIFIED:20240729T175839Z
UID:10000454-1718791200-1718834400@aboutmarbella.com
SUMMARY:LA CABANE
DESCRIPTION:THE YACHT CLUB\n  \n 
URL:https://aboutmarbella.com/evento/la-cabane-3/2024-06-19/
LOCATION:La Cabane\, C. Jabalí\, Marbella\, Malaga\, 29603\, España
ATTACH;FMTTYPE=image/png:https://aboutmarbella.com/wp-content/uploads/2024/07/1721919683_03_TYC_LC_2024_WEB-1400-sh6pqb.png
END:VEVENT
BEGIN:VEVENT
DTSTART;TZID=Europe/Madrid:20240618T120000
DTEND;TZID=Europe/Madrid:20240618T200000
DTSTAMP:20260426T053135
CREATED:20240729T200151Z
LAST-MODIFIED:20240729T200151Z
UID:10000686-1718712000-1718740800@aboutmarbella.com
SUMMARY:Mogli The Key
DESCRIPTION:MOGLI X AFROBEAST
URL:https://aboutmarbella.com/evento/mogli-the-key-2/2024-06-18/
LOCATION:Mogli The Key\, Av. del Prado\, 37\, Marbella\, Malaga\, 29660\, España
ATTACH;FMTTYPE=image/jpeg:https://aboutmarbella.com/wp-content/uploads/2024/07/Imagen-de-WhatsApp-2024-07-29-a-las-21.51.03_ab1c2fa5.jpg
END:VEVENT
BEGIN:VEVENT
DTSTART;TZID=Europe/Madrid:20240618T110000
DTEND;TZID=Europe/Madrid:20240618T210000
DTSTAMP:20260426T053135
CREATED:20240729T183941Z
LAST-MODIFIED:20240729T183941Z
UID:10000498-1718708400-1718744400@aboutmarbella.com
SUMMARY:La Sala By The Sea
DESCRIPTION:LURE\nDJ BEN CULLUM
URL:https://aboutmarbella.com/evento/la-sala-by-the-sea-2/2024-06-18/
LOCATION:La Sala By The Sea\, Av José Banús\, Marbella\, Malaga\, 29660\, España
ATTACH;FMTTYPE=image/jpeg:https://aboutmarbella.com/wp-content/uploads/2024/07/tuesday24.jpg
END:VEVENT
BEGIN:VEVENT
DTSTART;TZID=Europe/Madrid:20240617T120000
DTEND;TZID=Europe/Madrid:20240617T200000
DTSTAMP:20260426T053135
CREATED:20240729T195852Z
LAST-MODIFIED:20240729T195852Z
UID:10000664-1718625600-1718654400@aboutmarbella.com
SUMMARY:Mogli The Key
DESCRIPTION:MOGLI X WETT
URL:https://aboutmarbella.com/evento/mogli-the-key/2024-06-17/
LOCATION:Mogli The Key\, Av. del Prado\, 37\, Marbella\, Malaga\, 29660\, España
ATTACH;FMTTYPE=image/jpeg:https://aboutmarbella.com/wp-content/uploads/2024/07/Imagen-de-WhatsApp-2024-07-29-a-las-21.51.03_660fae3f.jpg
END:VEVENT
BEGIN:VEVENT
DTSTART;TZID=Europe/Madrid:20240617T110000
DTEND;TZID=Europe/Madrid:20240617T210000
DTSTAMP:20260426T053135
CREATED:20240729T183718Z
LAST-MODIFIED:20240729T183718Z
UID:10000480-1718622000-1718658000@aboutmarbella.com
SUMMARY:La Sala By The Sea
DESCRIPTION:MANTRA\nDJ BEN CULLUM
URL:https://aboutmarbella.com/evento/la-sala-by-the-sea/2024-06-17/
LOCATION:La Sala By The Sea\, Av José Banús\, Marbella\, Malaga\, 29660\, España
ATTACH;FMTTYPE=image/jpeg:https://aboutmarbella.com/wp-content/uploads/2024/07/monday24.jpg
END:VEVENT
BEGIN:VEVENT
DTSTART;TZID=Europe/Madrid:20240616T120000
DTEND;TZID=Europe/Madrid:20240616T200000
DTSTAMP:20260426T053135
CREATED:20240729T201205Z
LAST-MODIFIED:20240729T201205Z
UID:10000792-1718539200-1718568000@aboutmarbella.com
SUMMARY:Mogli The Key
DESCRIPTION:MOGLI X CERTTI
URL:https://aboutmarbella.com/evento/mogli-the-key-7/2024-06-16/
LOCATION:Mogli The Key\, Av. del Prado\, 37\, Marbella\, Malaga\, 29660\, España
ATTACH;FMTTYPE=image/jpeg:https://aboutmarbella.com/wp-content/uploads/2024/07/Imagen-de-WhatsApp-2024-07-29-a-las-21.51.03_8c08939d.jpg
END:VEVENT
BEGIN:VEVENT
DTSTART;TZID=Europe/Madrid:20240616T110000
DTEND;TZID=Europe/Madrid:20240616T210000
DTSTAMP:20260426T053135
CREATED:20240729T193513Z
LAST-MODIFIED:20240729T193513Z
UID:10000646-1718535600-1718571600@aboutmarbella.com
SUMMARY:Ocean Club Marbella
DESCRIPTION:TROPICANA
URL:https://aboutmarbella.com/evento/ocean-club-marbella-3/2024-06-16/
LOCATION:Ocean Club Marbella\, Avda. Lola Flores s/n\, Marbella\, Malaga\, 29660\, España
ATTACH;FMTTYPE=image/jpeg:https://aboutmarbella.com/wp-content/uploads/2024/07/Imagen-de-WhatsApp-2024-07-29-a-las-21.20.06_69df9ac5.jpg
END:VEVENT
BEGIN:VEVENT
DTSTART;TZID=Europe/Madrid:20240616T110000
DTEND;TZID=Europe/Madrid:20240616T210000
DTSTAMP:20260426T053135
CREATED:20240729T185242Z
LAST-MODIFIED:20240729T185242Z
UID:10000580-1718535600-1718571600@aboutmarbella.com
SUMMARY:La Sala By The Sea
DESCRIPTION:CARNIVAL\nJOSE GALLANO\nJOEL SAX
URL:https://aboutmarbella.com/evento/la-sala-by-the-sea-7/2024-06-16/
LOCATION:La Sala By The Sea\, Av José Banús\, Marbella\, Malaga\, 29660\, España
ATTACH;FMTTYPE=image/jpeg:https://aboutmarbella.com/wp-content/uploads/2024/07/sunday24.jpg
END:VEVENT
BEGIN:VEVENT
DTSTART;TZID=Europe/Madrid:20240615T120000
DTEND;TZID=Europe/Madrid:20240615T200000
DTSTAMP:20260426T053135
CREATED:20240729T201032Z
LAST-MODIFIED:20240729T201032Z
UID:10000773-1718452800-1718481600@aboutmarbella.com
SUMMARY:Mogli The Key
DESCRIPTION:MOGLI X LOVEJUICE\n 
URL:https://aboutmarbella.com/evento/mogli-the-key-6/2024-06-15/
LOCATION:Mogli The Key\, Av. del Prado\, 37\, Marbella\, Malaga\, 29660\, España
ATTACH;FMTTYPE=image/jpeg:https://aboutmarbella.com/wp-content/uploads/2024/07/Imagen-de-WhatsApp-2024-07-29-a-las-21.51.03_83676e95.jpg
END:VEVENT
BEGIN:VEVENT
DTSTART;TZID=Europe/Madrid:20240615T110000
DTEND;TZID=Europe/Madrid:20240615T210000
DTSTAMP:20260426T053135
CREATED:20240729T185058Z
LAST-MODIFIED:20240729T185058Z
UID:10000562-1718449200-1718485200@aboutmarbella.com
SUMMARY:La Sala By The Sea
DESCRIPTION:SAMUI\nSCOTT STRUTTOON \nSHAYNE G1VEN \nJOEY SAX
URL:https://aboutmarbella.com/evento/la-sala-by-the-sea-6/2024-06-15/
LOCATION:La Sala By The Sea\, Av José Banús\, Marbella\, Malaga\, 29660\, España
ATTACH;FMTTYPE=image/jpeg:https://aboutmarbella.com/wp-content/uploads/2024/07/saturday24.jpg
END:VEVENT
BEGIN:VEVENT
DTSTART;TZID=Europe/Madrid:20240614T120000
DTEND;TZID=Europe/Madrid:20240614T200000
DTSTAMP:20260426T053135
CREATED:20240729T200852Z
LAST-MODIFIED:20240729T200852Z
UID:10000751-1718366400-1718395200@aboutmarbella.com
SUMMARY:Mogli The Key
DESCRIPTION:MOGLI X BABYLON
URL:https://aboutmarbella.com/evento/mogli-the-key-5/2024-06-14/
LOCATION:Mogli The Key\, Av. del Prado\, 37\, Marbella\, Malaga\, 29660\, España
ATTACH;FMTTYPE=image/jpeg:https://aboutmarbella.com/wp-content/uploads/2024/07/Imagen-de-WhatsApp-2024-07-29-a-las-21.51.03_9785ec9a.jpg
END:VEVENT
BEGIN:VEVENT
DTSTART;TZID=Europe/Madrid:20240614T110000
DTEND;TZID=Europe/Madrid:20240614T210000
DTSTAMP:20260426T053135
CREATED:20240729T193040Z
LAST-MODIFIED:20240729T193040Z
UID:10000603-1718362800-1718398800@aboutmarbella.com
SUMMARY:Ocean Club Marbella
DESCRIPTION:ELEMENTS\n 
URL:https://aboutmarbella.com/evento/ocean-club-marbella/2024-06-14/
LOCATION:Ocean Club Marbella\, Avda. Lola Flores s/n\, Marbella\, Malaga\, 29660\, España
ATTACH;FMTTYPE=image/jpeg:https://aboutmarbella.com/wp-content/uploads/2024/07/Imagen-de-WhatsApp-2024-07-29-a-las-21.20.06_0ea55472.jpg
END:VEVENT
BEGIN:VEVENT
DTSTART;TZID=Europe/Madrid:20240614T100000
DTEND;TZID=Europe/Madrid:20240614T220000
DTSTAMP:20260426T053135
CREATED:20240729T180027Z
LAST-MODIFIED:20240729T180027Z
UID:10000466-1718359200-1718402400@aboutmarbella.com
SUMMARY:LA CABANE
DESCRIPTION:LA BELLEZZA
URL:https://aboutmarbella.com/evento/la-cabane-4/2024-06-14/
LOCATION:La Cabane\, C. Jabalí\, Marbella\, Malaga\, 29603\, España
ATTACH;FMTTYPE=image/png:https://aboutmarbella.com/wp-content/uploads/2024/07/00_BASIC_LA_BELLEZZA_SQ-1400-she38g.png
END:VEVENT
BEGIN:VEVENT
DTSTART;TZID=Europe/Madrid:20240613T120000
DTEND;TZID=Europe/Madrid:20240613T200000
DTSTAMP:20260426T053135
CREATED:20240729T200716Z
LAST-MODIFIED:20240729T200716Z
UID:10000729-1718280000-1718308800@aboutmarbella.com
SUMMARY:Mogli The Key
DESCRIPTION:MOGLI X THE MAYFAIR SESSIONS
URL:https://aboutmarbella.com/evento/mogli-the-key-4/2024-06-13/
LOCATION:Mogli The Key\, Av. del Prado\, 37\, Marbella\, Malaga\, 29660\, España
ATTACH;FMTTYPE=image/jpeg:https://aboutmarbella.com/wp-content/uploads/2024/07/Imagen-de-WhatsApp-2024-07-29-a-las-21.51.03_ccf0d506.jpg
END:VEVENT
BEGIN:VEVENT
DTSTART;TZID=Europe/Madrid:20240613T110000
DTEND;TZID=Europe/Madrid:20240613T210000
DTSTAMP:20260426T053135
CREATED:20240729T184332Z
LAST-MODIFIED:20240729T184332Z
UID:10000531-1718276400-1718312400@aboutmarbella.com
SUMMARY:La Sala By The Sea
DESCRIPTION:REWIND\nDJ BEN CULLUM\nSHAYNE G1VEN\nADRIAN SAX
URL:https://aboutmarbella.com/evento/la-sala-by-the-sea-4/2024-06-13/
LOCATION:Malaga
ATTACH;FMTTYPE=image/jpeg:https://aboutmarbella.com/wp-content/uploads/2024/07/thursday24.jpg
END:VEVENT
BEGIN:VEVENT
DTSTART;TZID=Europe/Madrid:20240612T120000
DTEND;TZID=Europe/Madrid:20240612T210000
DTSTAMP:20260426T053135
CREATED:20240729T200547Z
LAST-MODIFIED:20240729T200547Z
UID:10000707-1718193600-1718226000@aboutmarbella.com
SUMMARY:Mogli The Key
DESCRIPTION:MOGLI X DONT BE SHY
URL:https://aboutmarbella.com/evento/mogli-the-key-3/2024-06-12/
LOCATION:Mogli The Key\, Av. del Prado\, 37\, Marbella\, Malaga\, 29660\, España
ATTACH;FMTTYPE=image/jpeg:https://aboutmarbella.com/wp-content/uploads/2024/07/Imagen-de-WhatsApp-2024-07-29-a-las-21.51.03_43912575.jpg
END:VEVENT
BEGIN:VEVENT
DTSTART;TZID=Europe/Madrid:20240612T110000
DTEND;TZID=Europe/Madrid:20240612T210000
DTSTAMP:20260426T053135
CREATED:20240729T193226Z
LAST-MODIFIED:20240729T193226Z
UID:10000624-1718190000-1718226000@aboutmarbella.com
SUMMARY:Ocean Club Marbella
DESCRIPTION:RETRO
URL:https://aboutmarbella.com/evento/ocean-club-marbella-2/2024-06-12/
LOCATION:Ocean Club Marbella\, Avda. Lola Flores s/n\, Marbella\, Malaga\, 29660\, España
ATTACH;FMTTYPE=image/jpeg:https://aboutmarbella.com/wp-content/uploads/2024/07/Imagen-de-WhatsApp-2024-07-29-a-las-21.20.06_3be2a1ef.jpg
END:VEVENT
BEGIN:VEVENT
DTSTART;TZID=Europe/Madrid:20240612T110000
DTEND;TZID=Europe/Madrid:20240612T210000
DTSTAMP:20260426T053135
CREATED:20240729T184127Z
LAST-MODIFIED:20240729T184127Z
UID:10000514-1718190000-1718226000@aboutmarbella.com
SUMMARY:La Sala By The Sea
DESCRIPTION:PERDIDA\nJOSE GALLANO
URL:https://aboutmarbella.com/evento/la-sala-by-the-sea-3/2024-06-12/
LOCATION:La Sala By The Sea\, Av José Banús\, Marbella\, Malaga\, 29660\, España
ATTACH;FMTTYPE=image/jpeg:https://aboutmarbella.com/wp-content/uploads/2024/07/wednesday24.jpg
END:VEVENT
END:VCALENDAR