BEGIN:VCALENDAR
VERSION:2.0
PRODID:-//About Marbella - ECPv6.8.0//NONSGML v1.0//EN
CALSCALE:GREGORIAN
METHOD:PUBLISH
X-WR-CALNAME:About Marbella
X-ORIGINAL-URL:https://aboutmarbella.com
X-WR-CALDESC:Events for About Marbella
REFRESH-INTERVAL;VALUE=DURATION:PT1H
X-Robots-Tag:noindex
X-PUBLISHED-TTL:PT1H
BEGIN:VTIMEZONE
TZID:Europe/Madrid
BEGIN:DAYLIGHT
TZOFFSETFROM:+0100
TZOFFSETTO:+0200
TZNAME:CEST
DTSTART:20240331T010000
END:DAYLIGHT
BEGIN:STANDARD
TZOFFSETFROM:+0200
TZOFFSETTO:+0100
TZNAME:CET
DTSTART:20241027T010000
END:STANDARD
END:VTIMEZONE
BEGIN:VEVENT
DTSTART;TZID=Europe/Madrid:20240804T200000
DTEND;TZID=Europe/Madrid:20240804T230000
DTSTAMP:20260425T135615
CREATED:20240723T172645Z
LAST-MODIFIED:20240725T164911Z
UID:10000030-1722801600-1722812400@aboutmarbella.com
SUMMARY:La Sala Puerto Banus
DESCRIPTION:Wall Street Band\n  \nWall Street are our sensational resident house rock band performing the best indie rock\, pop & dance hits. Famous on the Costa Del Sol\, they even supported the Kaiser Chiefs in concert back in 2016. \nWall Street Band es nuestra sensaional banda de rock residente\, que interpreta los mejores éxitos del indie\, rock\, pop y dance. Famosos en la Costa del Sol\, incluso telonearon a los Kaiser Chiefs en un concierto en 2016.
URL:https://aboutmarbella.com/evento/wall-street-band-2/
LOCATION:La Sala Puerto Banus\, C. Juan Belmonte\, s/n\, Marbella\, Marbella\, 29660\, España
ATTACH;FMTTYPE=image/jpeg:https://aboutmarbella.com/wp-content/uploads/2024/07/WallStBand.jpg
END:VEVENT
BEGIN:VEVENT
DTSTART;TZID=Europe/Madrid:20240804T160000
DTEND;TZID=Europe/Madrid:20240804T170000
DTSTAMP:20260425T135615
CREATED:20240723T172455Z
LAST-MODIFIED:20240725T164930Z
UID:10000029-1722787200-1722790800@aboutmarbella.com
SUMMARY:La Sala Puerto Banus
DESCRIPTION:Zoe Louise\n  \nOur youngest singer with a stunning voice. Zoe has been performing at La Sala Puerto Banús for over five years. Her material includes the best hits from soul\, pop and current chart hits. \nNuestra cantante más joven con una voz maravillosa. Zoe ha estado interpretando enLa Sala Puerto Banús desde hace más de cinco años. Su repertorio incluye los mejores éxitos del soul\, pop y los éxitos comerciales del momento.
URL:https://aboutmarbella.com/evento/zoe-louise-2/
LOCATION:La Sala Puerto Banus\, C. Juan Belmonte\, s/n\, Marbella\, Marbella\, 29660\, España
ATTACH;FMTTYPE=image/jpeg:https://aboutmarbella.com/wp-content/uploads/2024/07/Zoe.jpg
END:VEVENT
BEGIN:VEVENT
DTSTART;TZID=Europe/Madrid:20240804T120000
DTEND;TZID=Europe/Madrid:20240804T233000
DTSTAMP:20260425T135615
CREATED:20240729T174834Z
LAST-MODIFIED:20240729T174834Z
UID:10000451-1722772800-1722814200@aboutmarbella.com
SUMMARY:PLAYA PADRE
DESCRIPTION:BOHOSUNDAY – Sunday August 4th\nARODES\, Benchek\, Nano Garrido\, Artchitec\nFrom 12:00h\n 
URL:https://aboutmarbella.com/evento/playa-padre-7/
LOCATION:Playa Padre\, s/n\, Calle playa del cable\, Marbella\, Malaga\, 29603\, España
ATTACH;FMTTYPE=image/png:https://aboutmarbella.com/wp-content/uploads/2024/07/1722264387_07_WEB_BOHOSUNDAY_DJ-1400-she3pf.png
END:VEVENT
BEGIN:VEVENT
DTSTART;TZID=Europe/Madrid:20240804T120000
DTEND;TZID=Europe/Madrid:20240804T200000
DTSTAMP:20260425T135615
CREATED:20240729T201205Z
LAST-MODIFIED:20240729T201205Z
UID:10000799-1722772800-1722801600@aboutmarbella.com
SUMMARY:Mogli The Key
DESCRIPTION:MOGLI X CERTTI
URL:https://aboutmarbella.com/evento/mogli-the-key-7/2024-08-04/
LOCATION:Mogli The Key\, Av. del Prado\, 37\, Marbella\, Malaga\, 29660\, España
ATTACH;FMTTYPE=image/jpeg:https://aboutmarbella.com/wp-content/uploads/2024/07/Imagen-de-WhatsApp-2024-07-29-a-las-21.51.03_8c08939d.jpg
END:VEVENT
BEGIN:VEVENT
DTSTART;TZID=Europe/Madrid:20240804T110000
DTEND;TZID=Europe/Madrid:20240804T210000
DTSTAMP:20260425T135615
CREATED:20240729T193513Z
LAST-MODIFIED:20240729T193513Z
UID:10000653-1722769200-1722805200@aboutmarbella.com
SUMMARY:Ocean Club Marbella
DESCRIPTION:TROPICANA
URL:https://aboutmarbella.com/evento/ocean-club-marbella-3/2024-08-04/
LOCATION:Ocean Club Marbella\, Avda. Lola Flores s/n\, Marbella\, Malaga\, 29660\, España
ATTACH;FMTTYPE=image/jpeg:https://aboutmarbella.com/wp-content/uploads/2024/07/Imagen-de-WhatsApp-2024-07-29-a-las-21.20.06_69df9ac5.jpg
END:VEVENT
BEGIN:VEVENT
DTSTART;TZID=Europe/Madrid:20240804T110000
DTEND;TZID=Europe/Madrid:20240804T210000
DTSTAMP:20260425T135615
CREATED:20240729T185242Z
LAST-MODIFIED:20240729T185242Z
UID:10000587-1722769200-1722805200@aboutmarbella.com
SUMMARY:La Sala By The Sea
DESCRIPTION:CARNIVAL\nJOSE GALLANO\nJOEL SAX
URL:https://aboutmarbella.com/evento/la-sala-by-the-sea-7/2024-08-04/
LOCATION:La Sala By The Sea\, Av José Banús\, Marbella\, Malaga\, 29660\, España
ATTACH;FMTTYPE=image/jpeg:https://aboutmarbella.com/wp-content/uploads/2024/07/sunday24.jpg
END:VEVENT
BEGIN:VEVENT
DTSTART;TZID=Europe/Madrid:20240803T233000
DTEND;TZID=Europe/Madrid:20240803T233000
DTSTAMP:20260425T135615
CREATED:20240724T103034Z
LAST-MODIFIED:20240725T164948Z
UID:10000190-1722727800-1722727800@aboutmarbella.com
SUMMARY:Tibu Puerto Banus
DESCRIPTION:LA CAPITALE – DJ NAZA\n  \nVenant De La Capitale Presents from Paris to Marbella with live showcase by NAZA and guests Alak Jackson\, Kokos Voice\, Wendale De Jesus and resident DJS playing the finest in urban\, French\, hip-hop\, and RnB music all night long! Experience Marbella’s premier nightlife at the best nightclub in town. Elevate your evening with unmatched ambiance\, top-notch music\, and unforgettable memories. Join the TIBU tribe for an extraordinary night out!
URL:https://aboutmarbella.com/evento/la-capitale-dj-naza/
LOCATION:Malaga
ATTACH;FMTTYPE=image/jpeg:https://aboutmarbella.com/wp-content/uploads/2024/07/naza-3.8.24-1024x1024-1.jpeg
END:VEVENT
BEGIN:VEVENT
DTSTART;TZID=Europe/Madrid:20240803T220000
DTEND;TZID=Europe/Madrid:20240803T233000
DTSTAMP:20260425T135615
CREATED:20240723T204759Z
LAST-MODIFIED:20240725T165003Z
UID:10000087-1722722400-1722727800@aboutmarbella.com
SUMMARY:Starlite Marbella
DESCRIPTION:LUIS MIGUEL
URL:https://aboutmarbella.com/evento/luis-miguel-2/
LOCATION:Starlite Marbella\, C. Albinoni\, s/n\, Marbella\, Malaga\, 29602\, España
ATTACH;FMTTYPE=image/jpeg:https://aboutmarbella.com/wp-content/uploads/2024/07/2a47e7b4f3cbdf3a14ba0d3b8519f119_koobin_800x77443_385_374_crop_1.jpg
END:VEVENT
BEGIN:VEVENT
DTSTART;TZID=Europe/Madrid:20240803T200000
DTEND;TZID=Europe/Madrid:20240803T230000
DTSTAMP:20260425T135615
CREATED:20240723T172341Z
LAST-MODIFIED:20240725T165135Z
UID:10000028-1722715200-1722726000@aboutmarbella.com
SUMMARY:La Sala Puerto Banus
DESCRIPTION:Rose Phillipens
URL:https://aboutmarbella.com/evento/rose-phillipens-3/
LOCATION:La Sala Puerto Banus\, C. Juan Belmonte\, s/n\, Marbella\, Marbella\, 29660\, España
ATTACH;FMTTYPE=image/jpeg:https://aboutmarbella.com/wp-content/uploads/2024/07/RosePhillips_QrSa.jpg
END:VEVENT
BEGIN:VEVENT
DTSTART;TZID=Europe/Madrid:20240803T200000
DTEND;TZID=Europe/Madrid:20240803T230000
DTSTAMP:20260425T135615
CREATED:20240723T172146Z
LAST-MODIFIED:20240725T165211Z
UID:10000027-1722715200-1722726000@aboutmarbella.com
SUMMARY:La Sala Puerto Banus
DESCRIPTION:Joey Sax & DJ Lady Jade
URL:https://aboutmarbella.com/evento/joey-sax-dj-lady-jade-2/
LOCATION:La Sala Puerto Banus\, C. Juan Belmonte\, s/n\, Marbella\, Marbella\, 29660\, España
ATTACH;FMTTYPE=image/jpeg:https://aboutmarbella.com/wp-content/uploads/2024/07/JoeySax-LadyJade.jpg
END:VEVENT
BEGIN:VEVENT
DTSTART;TZID=Europe/Madrid:20240803T120000
DTEND;TZID=Europe/Madrid:20240803T233000
DTSTAMP:20260425T135615
CREATED:20240729T174713Z
LAST-MODIFIED:20240729T174713Z
UID:10000390-1722686400-1722727800@aboutmarbella.com
SUMMARY:PLAYA PADRE
DESCRIPTION:VALE\nEvery Saturday\nARTCHITEC\nFrom 12:00h\n 
URL:https://aboutmarbella.com/evento/playa-padre-6/2024-08-03/
LOCATION:Playa Padre\, s/n\, Calle playa del cable\, Marbella\, Malaga\, 29603\, España
ATTACH;FMTTYPE=image/png:https://aboutmarbella.com/wp-content/uploads/2024/07/1722264332_06_VALEWEB2024PP-1400-she3nx.png
END:VEVENT
BEGIN:VEVENT
DTSTART;TZID=Europe/Madrid:20240803T120000
DTEND;TZID=Europe/Madrid:20240803T200000
DTSTAMP:20260425T135615
CREATED:20240729T201032Z
LAST-MODIFIED:20240729T201032Z
UID:10000780-1722686400-1722715200@aboutmarbella.com
SUMMARY:Mogli The Key
DESCRIPTION:MOGLI X LOVEJUICE\n 
URL:https://aboutmarbella.com/evento/mogli-the-key-6/2024-08-03/
LOCATION:Mogli The Key\, Av. del Prado\, 37\, Marbella\, Malaga\, 29660\, España
ATTACH;FMTTYPE=image/jpeg:https://aboutmarbella.com/wp-content/uploads/2024/07/Imagen-de-WhatsApp-2024-07-29-a-las-21.51.03_83676e95.jpg
END:VEVENT
BEGIN:VEVENT
DTSTART;TZID=Europe/Madrid:20240803T120000
DTEND;TZID=Europe/Madrid:20240803T150000
DTSTAMP:20260425T135615
CREATED:20240723T172021Z
LAST-MODIFIED:20240725T165229Z
UID:10000026-1722686400-1722697200@aboutmarbella.com
SUMMARY:La Sala Puerto Banus
DESCRIPTION:Michelle Daniels\n  \nMichelle is a famous singer from her performance on the tribute to Abba\, “Abbatastic”. She is a very enthusiastic\, talented and beautiful entertainer. Her voice is incredible and her music goes from soul to disco music. \nFamosa por su Tributo a Abba\, ¨Abbatastic¨; es una cantante muy entusiasta y talentosa y una animadora única. Su increíble voz acompaña los mejores temas desde el soul hasta la música disco.
URL:https://aboutmarbella.com/evento/michelle-daniels-2/
LOCATION:La Sala Puerto Banus\, C. Juan Belmonte\, s/n\, Marbella\, Marbella\, 29660\, España
ATTACH;FMTTYPE=image/jpeg:https://aboutmarbella.com/wp-content/uploads/2024/07/michelle-daniels.jpg
END:VEVENT
BEGIN:VEVENT
DTSTART;TZID=Europe/Madrid:20240803T110000
DTEND;TZID=Europe/Madrid:20240803T210000
DTSTAMP:20260425T135615
CREATED:20240729T185058Z
LAST-MODIFIED:20240729T185058Z
UID:10000569-1722682800-1722718800@aboutmarbella.com
SUMMARY:La Sala By The Sea
DESCRIPTION:SAMUI\nSCOTT STRUTTOON \nSHAYNE G1VEN \nJOEY SAX
URL:https://aboutmarbella.com/evento/la-sala-by-the-sea-6/2024-08-03/
LOCATION:La Sala By The Sea\, Av José Banús\, Marbella\, Malaga\, 29660\, España
ATTACH;FMTTYPE=image/jpeg:https://aboutmarbella.com/wp-content/uploads/2024/07/saturday24.jpg
END:VEVENT
BEGIN:VEVENT
DTSTART;TZID=Europe/Madrid:20240802T233000
DTEND;TZID=Europe/Madrid:20240803T070000
DTSTAMP:20260425T135615
CREATED:20240724T102747Z
LAST-MODIFIED:20240725T165252Z
UID:10000148-1722641400-1722668400@aboutmarbella.com
SUMMARY:Tibu Puerto Banus
DESCRIPTION:MAYFAIR SESSIONS – DJ JORDAN VALLEYS\n  \nSummer 2024 sees the return of The Mayfair Sessions for season number 9 in Marbella.  Hosting their flagship Friday Sessions every week at Marbella’s number one nightclub Tibu Marbella.  With acts previously such as Stormzy\, Craig David\, French Montana\, Trey Songz\, Sean Paul\, K Trap\, D Block Europe\, you can expect nothing but BIG names and great vibes.You can catch Jordan Valleys and DJ Fourty playing the best in RnB\, Hip Hop\, House\, Afrobeat each and every week.
URL:https://aboutmarbella.com/evento/mayfair-sessions-dj-jordan-valleys/
LOCATION:Tibu Marbella\, Pl. de Antonio Banderas\, 34\, 35\,36\,37\, Marbella\, Malaga\, 29660\, España
ATTACH;FMTTYPE=image/jpeg:https://aboutmarbella.com/wp-content/uploads/2024/07/Mayfair-Sessions-2024.jpg
END:VEVENT
BEGIN:VEVENT
DTSTART;TZID=Europe/Madrid:20240802T220000
DTEND;TZID=Europe/Madrid:20240802T233000
DTSTAMP:20260425T135615
CREATED:20240723T204619Z
LAST-MODIFIED:20240725T165308Z
UID:10000086-1722636000-1722641400@aboutmarbella.com
SUMMARY:Starlite Marbella
DESCRIPTION:LUIS MIGUEL
URL:https://aboutmarbella.com/evento/luis-miguel/
LOCATION:Starlite Marbella\, C. Albinoni\, s/n\, Marbella\, Malaga\, 29602\, España
ATTACH;FMTTYPE=image/jpeg:https://aboutmarbella.com/wp-content/uploads/2024/07/2a47e7b4f3cbdf3a14ba0d3b8519f119_LUISMIGUEL_koobin_800x774_385_374_crop_1.jpg
END:VEVENT
BEGIN:VEVENT
DTSTART;TZID=Europe/Madrid:20240802T213000
DTEND;TZID=Europe/Madrid:20240802T233000
DTSTAMP:20260425T135615
CREATED:20240723T171819Z
LAST-MODIFIED:20240725T165324Z
UID:10000025-1722634200-1722641400@aboutmarbella.com
SUMMARY:La Sala Puerto Banus
DESCRIPTION:Q Band
URL:https://aboutmarbella.com/evento/q-band-2/
LOCATION:La Sala Puerto Banus\, C. Juan Belmonte\, s/n\, Marbella\, Marbella\, 29660\, España
ATTACH;FMTTYPE=image/png:https://aboutmarbella.com/wp-content/uploads/2024/07/logo_GdP3.png
END:VEVENT
BEGIN:VEVENT
DTSTART;TZID=Europe/Madrid:20240802T200000
DTEND;TZID=Europe/Madrid:20240802T233000
DTSTAMP:20260425T135615
CREATED:20240730T144408Z
LAST-MODIFIED:20240730T144408Z
UID:10000818-1722628800-1722641400@aboutmarbella.com
SUMMARY:Mercadillo Artesanal Benahavis
DESCRIPTION:MERCADILLO ARTESANAL DE BENAHAVÍS DE VERANO\n\nEste jueves 4 de julio se inaugura el Mercadillo Artesanal de Benahavís. Se instalará jueves y viernes de julio y agosto\, a partir de las ocho de la tarde y hasta medianoche\, en la Avenida de Andalucía.\nSerá un espacio abierto para disfrutar\, en las noches de verano\, del trabajo de nuestros artesanos.\nThis Thursday\, the 4th of July\, sees the inauguration of the Benahavís Craft Market. It will be on Thursday and Friday\, July to August\, from eight until midnight\, in the Avenida de Andalucía.\nIt will be an open space to enjoy\, on summer evenings\, the work of our artists.
URL:https://aboutmarbella.com/evento/mercadillo-artesanal-benahavis/2024-08-02/
LOCATION:Benahavis Mercadillo Artesanal\, Avenida de Andalucía\, 34\, Benahavis\, Malaga\, 29679\, España
ATTACH;FMTTYPE=image/jpeg:https://aboutmarbella.com/wp-content/uploads/2024/07/mercadillo-artesanal-verano.jpg
END:VEVENT
BEGIN:VEVENT
DTSTART;TZID=Europe/Madrid:20240802T200000
DTEND;TZID=Europe/Madrid:20240802T230000
DTSTAMP:20260425T135615
CREATED:20240723T171702Z
LAST-MODIFIED:20240725T165351Z
UID:10000024-1722628800-1722639600@aboutmarbella.com
SUMMARY:La Sala Puerto Banus
DESCRIPTION:Johnny G Duo
URL:https://aboutmarbella.com/evento/johnny-g-duo/
LOCATION:La Sala Puerto Banus\, C. Juan Belmonte\, s/n\, Marbella\, Marbella\, 29660\, España
ATTACH;FMTTYPE=image/jpeg:https://aboutmarbella.com/wp-content/uploads/2024/07/johnnyg_4MMp.jpg
END:VEVENT
BEGIN:VEVENT
DTSTART;TZID=Europe/Madrid:20240802T190000
DTEND;TZID=Europe/Madrid:20240802T213000
DTSTAMP:20260425T135615
CREATED:20240723T171511Z
LAST-MODIFIED:20240725T165411Z
UID:10000023-1722625200-1722634200@aboutmarbella.com
SUMMARY:La Sala Puerto Banus
DESCRIPTION:Paul Hull
URL:https://aboutmarbella.com/evento/paul-hull/
LOCATION:La Sala Puerto Banus\, C. Juan Belmonte\, s/n\, Marbella\, Marbella\, 29660\, España
ATTACH;FMTTYPE=image/jpeg:https://aboutmarbella.com/wp-content/uploads/2024/07/paulhull_y8z1.jpg
END:VEVENT
BEGIN:VEVENT
DTSTART;TZID=Europe/Madrid:20240802T120000
DTEND;TZID=Europe/Madrid:20240802T233000
DTSTAMP:20260425T135615
CREATED:20240729T174516Z
LAST-MODIFIED:20240729T174516Z
UID:10000325-1722600000-1722641400@aboutmarbella.com
SUMMARY:PLAYA PADRE
DESCRIPTION:FRIDAY PADRE\nEvery Friday\nEMMERALD\nFrom 12:00h\n 
URL:https://aboutmarbella.com/evento/playa-padre-5/2024-08-02/
LOCATION:Playa Padre\, s/n\, Calle playa del cable\, Marbella\, Malaga\, 29603\, España
ATTACH;FMTTYPE=image/png:https://aboutmarbella.com/wp-content/uploads/2024/07/1722264227_05_FRIDAY_WEB-1400-she3kz.png
END:VEVENT
BEGIN:VEVENT
DTSTART;TZID=Europe/Madrid:20240802T120000
DTEND;TZID=Europe/Madrid:20240802T200000
DTSTAMP:20260425T135615
CREATED:20240729T200852Z
LAST-MODIFIED:20240729T200852Z
UID:10000758-1722600000-1722628800@aboutmarbella.com
SUMMARY:Mogli The Key
DESCRIPTION:MOGLI X BABYLON
URL:https://aboutmarbella.com/evento/mogli-the-key-5/2024-08-02/
LOCATION:Mogli The Key\, Av. del Prado\, 37\, Marbella\, Malaga\, 29660\, España
ATTACH;FMTTYPE=image/jpeg:https://aboutmarbella.com/wp-content/uploads/2024/07/Imagen-de-WhatsApp-2024-07-29-a-las-21.51.03_9785ec9a.jpg
END:VEVENT
BEGIN:VEVENT
DTSTART;TZID=Europe/Madrid:20240802T110000
DTEND;TZID=Europe/Madrid:20240802T210000
DTSTAMP:20260425T135615
CREATED:20240729T193040Z
LAST-MODIFIED:20240729T193040Z
UID:10000610-1722596400-1722632400@aboutmarbella.com
SUMMARY:Ocean Club Marbella
DESCRIPTION:ELEMENTS\n 
URL:https://aboutmarbella.com/evento/ocean-club-marbella/2024-08-02/
LOCATION:Ocean Club Marbella\, Avda. Lola Flores s/n\, Marbella\, Malaga\, 29660\, España
ATTACH;FMTTYPE=image/jpeg:https://aboutmarbella.com/wp-content/uploads/2024/07/Imagen-de-WhatsApp-2024-07-29-a-las-21.20.06_0ea55472.jpg
END:VEVENT
BEGIN:VEVENT
DTSTART;TZID=Europe/Madrid:20240802T110000
DTEND;TZID=Europe/Madrid:20240802T210000
DTSTAMP:20260425T135615
CREATED:20240729T184538Z
LAST-MODIFIED:20240729T184538Z
UID:10000551-1722596400-1722632400@aboutmarbella.com
SUMMARY:La Sala By The Sea
DESCRIPTION:EROS\nSCOTT STRUTTON\nADRIAN SAX
URL:https://aboutmarbella.com/evento/la-sala-by-the-sea-5/2024-08-02/
LOCATION:Malaga
ATTACH;FMTTYPE=image/jpeg:https://aboutmarbella.com/wp-content/uploads/2024/07/friday24.jpg
END:VEVENT
BEGIN:VEVENT
DTSTART;TZID=Europe/Madrid:20240802T100000
DTEND;TZID=Europe/Madrid:20240802T220000
DTSTAMP:20260425T135615
CREATED:20240729T180027Z
LAST-MODIFIED:20240729T180027Z
UID:10000473-1722592800-1722636000@aboutmarbella.com
SUMMARY:LA CABANE
DESCRIPTION:LA BELLEZZA
URL:https://aboutmarbella.com/evento/la-cabane-4/2024-08-02/
LOCATION:La Cabane\, C. Jabalí\, Marbella\, Malaga\, 29603\, España
ATTACH;FMTTYPE=image/png:https://aboutmarbella.com/wp-content/uploads/2024/07/00_BASIC_LA_BELLEZZA_SQ-1400-she38g.png
END:VEVENT
BEGIN:VEVENT
DTSTART;TZID=Europe/Madrid:20240801T233000
DTEND;TZID=Europe/Madrid:20240802T070000
DTSTAMP:20260425T135616
CREATED:20240724T102527Z
LAST-MODIFIED:20240725T165433Z
UID:10000147-1722555000-1722582000@aboutmarbella.com
SUMMARY:Tibu Puerto Banus
DESCRIPTION:RED CUP – DJ DJ SAI & MAX DENHAM\n  \nLondon & Dubai best brands come together every Thursday bringing you a brand new night RED CUP at TIBU Nightclub. Resident DJs and guests\, DJ SAI\, MAX DENHAM and special guests\, playing non stop bangers UK\, Afrobeats\, Hip-Hop\, Trap\, Amapiano\, RnB\, soulful house and much more
URL:https://aboutmarbella.com/evento/red-cup-dj-dj-sai-max-denham/
LOCATION:Tibu Marbella\, Pl. de Antonio Banderas\, 34\, 35\,36\,37\, Marbella\, Malaga\, 29660\, España
ATTACH;FMTTYPE=image/jpeg:https://aboutmarbella.com/wp-content/uploads/2024/07/red-cup-generic-002.jpeg
END:VEVENT
BEGIN:VEVENT
DTSTART;TZID=Europe/Madrid:20240801T233000
DTEND;TZID=Europe/Madrid:20240802T013000
DTSTAMP:20260425T135616
CREATED:20240723T204424Z
LAST-MODIFIED:20240725T165449Z
UID:10000085-1722555000-1722562200@aboutmarbella.com
SUMMARY:Starlite Marbella
DESCRIPTION:PEDRO CAPÓ
URL:https://aboutmarbella.com/evento/pedro-capo/
LOCATION:Starlite Marbella\, C. Albinoni\, s/n\, Marbella\, Malaga\, 29602\, España
ATTACH;FMTTYPE=image/jpeg:https://aboutmarbella.com/wp-content/uploads/2024/07/d144885dda7c2dd7456afe6fa9b4f325_koobin_800x774_385_374_crop_1.jpg
END:VEVENT
BEGIN:VEVENT
DTSTART;TZID=Europe/Madrid:20240801T220000
DTEND;TZID=Europe/Madrid:20240801T233000
DTSTAMP:20260425T135616
CREATED:20240723T204227Z
LAST-MODIFIED:20240725T165507Z
UID:10000084-1722549600-1722555000@aboutmarbella.com
SUMMARY:Starlite Marbella
DESCRIPTION:LOS SECRETOS
URL:https://aboutmarbella.com/evento/los-secretos/
LOCATION:Starlite Marbella\, C. Albinoni\, s/n\, Marbella\, Malaga\, 29602\, España
ATTACH;FMTTYPE=image/jpeg:https://aboutmarbella.com/wp-content/uploads/2024/07/f08a5bff202a5a1d100b462e59da82bc_Koobin_800x774_385_374_crop_1.jpg
END:VEVENT
BEGIN:VEVENT
DTSTART;TZID=Europe/Madrid:20240801T200000
DTEND;TZID=Europe/Madrid:20240801T233000
DTSTAMP:20260425T135616
CREATED:20240730T144408Z
LAST-MODIFIED:20240730T144408Z
UID:10000817-1722542400-1722555000@aboutmarbella.com
SUMMARY:Mercadillo Artesanal Benahavis
DESCRIPTION:MERCADILLO ARTESANAL DE BENAHAVÍS DE VERANO\n\nEste jueves 4 de julio se inaugura el Mercadillo Artesanal de Benahavís. Se instalará jueves y viernes de julio y agosto\, a partir de las ocho de la tarde y hasta medianoche\, en la Avenida de Andalucía.\nSerá un espacio abierto para disfrutar\, en las noches de verano\, del trabajo de nuestros artesanos.\nThis Thursday\, the 4th of July\, sees the inauguration of the Benahavís Craft Market. It will be on Thursday and Friday\, July to August\, from eight until midnight\, in the Avenida de Andalucía.\nIt will be an open space to enjoy\, on summer evenings\, the work of our artists.
URL:https://aboutmarbella.com/evento/mercadillo-artesanal-benahavis/2024-08-01/
LOCATION:Benahavis Mercadillo Artesanal\, Avenida de Andalucía\, 34\, Benahavis\, Malaga\, 29679\, España
ATTACH;FMTTYPE=image/jpeg:https://aboutmarbella.com/wp-content/uploads/2024/07/mercadillo-artesanal-verano.jpg
END:VEVENT
BEGIN:VEVENT
DTSTART;TZID=Europe/Madrid:20240801T200000
DTEND;TZID=Europe/Madrid:20240801T230000
DTSTAMP:20260425T135616
CREATED:20240723T171153Z
LAST-MODIFIED:20240725T165551Z
UID:10000021-1722542400-1722553200@aboutmarbella.com
SUMMARY:La Sala Puerto Banus
DESCRIPTION:Amelinde\n  \nAmelinde has been singing on the coast for over 20 years in different projects ranging from various tribute shows to her very own live band. \nHer years of experience have brought with it an extensive repertoire as a solo artist of soul\, rock\, pop and everything in between so is guaranteed to have something to suit every musical taste.
URL:https://aboutmarbella.com/evento/amelinde/
LOCATION:La Sala Puerto Banus\, C. Juan Belmonte\, s/n\, Marbella\, Marbella\, 29660\, España
ATTACH;FMTTYPE=image/jpeg:https://aboutmarbella.com/wp-content/uploads/2024/07/Amelinde_eK3P.jpg
END:VEVENT
END:VCALENDAR