BEGIN:VCALENDAR
VERSION:2.0
PRODID:-//About Marbella - ECPv6.8.0//NONSGML v1.0//EN
CALSCALE:GREGORIAN
METHOD:PUBLISH
X-WR-CALNAME:About Marbella
X-ORIGINAL-URL:https://aboutmarbella.com
X-WR-CALDESC:Events for About Marbella
REFRESH-INTERVAL;VALUE=DURATION:PT1H
X-Robots-Tag:noindex
X-PUBLISHED-TTL:PT1H
BEGIN:VTIMEZONE
TZID:Europe/Madrid
BEGIN:DAYLIGHT
TZOFFSETFROM:+0100
TZOFFSETTO:+0200
TZNAME:CEST
DTSTART:20240331T010000
END:DAYLIGHT
BEGIN:STANDARD
TZOFFSETFROM:+0200
TZOFFSETTO:+0100
TZNAME:CET
DTSTART:20241027T010000
END:STANDARD
END:VTIMEZONE
BEGIN:VEVENT
DTSTART;TZID=Europe/Madrid:20240726T110000
DTEND;TZID=Europe/Madrid:20240726T210000
DTSTAMP:20260425T181306
CREATED:20240729T184538Z
LAST-MODIFIED:20240729T184538Z
UID:10000550-1721991600-1722027600@aboutmarbella.com
SUMMARY:La Sala By The Sea
DESCRIPTION:EROS\nSCOTT STRUTTON\nADRIAN SAX
URL:https://aboutmarbella.com/evento/la-sala-by-the-sea-5/2024-07-26/
LOCATION:Malaga
ATTACH;FMTTYPE=image/jpeg:https://aboutmarbella.com/wp-content/uploads/2024/07/friday24.jpg
END:VEVENT
BEGIN:VEVENT
DTSTART;TZID=Europe/Madrid:20240726T100000
DTEND;TZID=Europe/Madrid:20240726T220000
DTSTAMP:20260425T181306
CREATED:20240729T180027Z
LAST-MODIFIED:20240729T180027Z
UID:10000472-1721988000-1722031200@aboutmarbella.com
SUMMARY:LA CABANE
DESCRIPTION:LA BELLEZZA
URL:https://aboutmarbella.com/evento/la-cabane-4/2024-07-26/
LOCATION:La Cabane\, C. Jabalí\, Marbella\, Malaga\, 29603\, España
ATTACH;FMTTYPE=image/png:https://aboutmarbella.com/wp-content/uploads/2024/07/00_BASIC_LA_BELLEZZA_SQ-1400-she38g.png
END:VEVENT
BEGIN:VEVENT
DTSTART;TZID=Europe/Madrid:20240725T233000
DTEND;TZID=Europe/Madrid:20240726T070000
DTSTAMP:20260425T181306
CREATED:20240724T100541Z
LAST-MODIFIED:20240725T172041Z
UID:10000141-1721950200-1721977200@aboutmarbella.com
SUMMARY:Tibu Puerto Banus
DESCRIPTION:RED CUP – DJ JASMINE JOBSON\n  \nLondon & Dubai best brands come together every Thursday bringing you a brand new night RED CUP at TIBU Nightclub. Live PA from Jasmine Jobson (Top Boy) Resident DJs and guests\, DJ SAI\, MAX DENHAM and special guests\, playing non stop bangers UK\, Afrobeats\, Hip-Hop\, Trap\, Amapiano\, RnB\, soulful house and much more
URL:https://aboutmarbella.com/evento/red-cup-dj-jasmine-jobson/
LOCATION:Tibu Marbella\, Pl. de Antonio Banderas\, 34\, 35\,36\,37\, Marbella\, Malaga\, 29660\, España
ATTACH;FMTTYPE=image/webp:https://aboutmarbella.com/wp-content/uploads/2024/07/red-cup-25.7.24.jpeg.webp
END:VEVENT
BEGIN:VEVENT
DTSTART;TZID=Europe/Madrid:20240725T220000
DTEND;TZID=Europe/Madrid:20240725T233000
DTSTAMP:20260425T181306
CREATED:20240723T221606Z
LAST-MODIFIED:20240725T172059Z
UID:10000123-1721944800-1721950200@aboutmarbella.com
SUMMARY:Starlite Marbella
DESCRIPTION:RICKY MARTIN
URL:https://aboutmarbella.com/evento/ricky-martin/
LOCATION:Starlite Marbella\, C. Albinoni\, s/n\, Marbella\, Malaga\, 29602\, España
ATTACH;FMTTYPE=image/jpeg:https://aboutmarbella.com/wp-content/uploads/2024/07/fee1e42c84e4806931ce8400f24b3003_koobin_800x7742_385_374_crop_1.jpg
END:VEVENT
BEGIN:VEVENT
DTSTART;TZID=Europe/Madrid:20240725T200000
DTEND;TZID=Europe/Madrid:20240725T233000
DTSTAMP:20260425T181306
CREATED:20240730T144408Z
LAST-MODIFIED:20240730T144408Z
UID:10000815-1721937600-1721950200@aboutmarbella.com
SUMMARY:Mercadillo Artesanal Benahavis
DESCRIPTION:MERCADILLO ARTESANAL DE BENAHAVÍS DE VERANO\n\nEste jueves 4 de julio se inaugura el Mercadillo Artesanal de Benahavís. Se instalará jueves y viernes de julio y agosto\, a partir de las ocho de la tarde y hasta medianoche\, en la Avenida de Andalucía.\nSerá un espacio abierto para disfrutar\, en las noches de verano\, del trabajo de nuestros artesanos.\nThis Thursday\, the 4th of July\, sees the inauguration of the Benahavís Craft Market. It will be on Thursday and Friday\, July to August\, from eight until midnight\, in the Avenida de Andalucía.\nIt will be an open space to enjoy\, on summer evenings\, the work of our artists.
URL:https://aboutmarbella.com/evento/mercadillo-artesanal-benahavis/2024-07-25/
LOCATION:Benahavis Mercadillo Artesanal\, Avenida de Andalucía\, 34\, Benahavis\, Malaga\, 29679\, España
ATTACH;FMTTYPE=image/jpeg:https://aboutmarbella.com/wp-content/uploads/2024/07/mercadillo-artesanal-verano.jpg
END:VEVENT
BEGIN:VEVENT
DTSTART;TZID=Europe/Madrid:20240725T200000
DTEND;TZID=Europe/Madrid:20240725T230000
DTSTAMP:20260425T181306
CREATED:20240723T163610Z
LAST-MODIFIED:20240725T172117Z
UID:10000005-1721937600-1721948400@aboutmarbella.com
SUMMARY:La Sala Puerto Banus
DESCRIPTION:Debra Stacey\n  \nDebra has over 20 years experience in the music business including working as a session singer with some very well known Artists\, not only in the studio but live shows as well. \nShe’s a versatile vocalist covering an eclectic mix of Genres including; Mixed Soul\, Funk\, Motown\, Club Classics and Jazz to name a few.
URL:https://aboutmarbella.com/evento/debra-stacey/
LOCATION:La Sala Puerto Banus\, C. Juan Belmonte\, s/n\, Marbella\, Marbella\, 29660\, España
ATTACH;FMTTYPE=image/jpeg:https://aboutmarbella.com/wp-content/uploads/2024/07/DebraStacey_PZNI.jpg
END:VEVENT
BEGIN:VEVENT
DTSTART;TZID=Europe/Madrid:20240725T120000
DTEND;TZID=Europe/Madrid:20240725T200000
DTSTAMP:20260425T181306
CREATED:20240729T200716Z
LAST-MODIFIED:20240729T200716Z
UID:10000735-1721908800-1721937600@aboutmarbella.com
SUMMARY:Mogli The Key
DESCRIPTION:MOGLI X THE MAYFAIR SESSIONS
URL:https://aboutmarbella.com/evento/mogli-the-key-4/2024-07-25/
LOCATION:Mogli The Key\, Av. del Prado\, 37\, Marbella\, Malaga\, 29660\, España
ATTACH;FMTTYPE=image/jpeg:https://aboutmarbella.com/wp-content/uploads/2024/07/Imagen-de-WhatsApp-2024-07-29-a-las-21.51.03_ccf0d506.jpg
END:VEVENT
BEGIN:VEVENT
DTSTART;TZID=Europe/Madrid:20240725T110000
DTEND;TZID=Europe/Madrid:20240725T210000
DTSTAMP:20260425T181306
CREATED:20240729T184332Z
LAST-MODIFIED:20240729T184332Z
UID:10000537-1721905200-1721941200@aboutmarbella.com
SUMMARY:La Sala By The Sea
DESCRIPTION:REWIND\nDJ BEN CULLUM\nSHAYNE G1VEN\nADRIAN SAX
URL:https://aboutmarbella.com/evento/la-sala-by-the-sea-4/2024-07-25/
LOCATION:Malaga
ATTACH;FMTTYPE=image/jpeg:https://aboutmarbella.com/wp-content/uploads/2024/07/thursday24.jpg
END:VEVENT
BEGIN:VEVENT
DTSTART;TZID=Europe/Madrid:20240724T233000
DTEND;TZID=Europe/Madrid:20240724T233000
DTSTAMP:20260425T181306
CREATED:20240724T100412Z
LAST-MODIFIED:20240725T172134Z
UID:10000140-1721863800-1721863800@aboutmarbella.com
SUMMARY:Tibu Puerto Banus
DESCRIPTION:AFRO GOLD\n  \nAfro Gold presents a night of Afrobeats\, Amapiano\, Hip-Hop\, RnB\, Urban and more . with resident and guest DJs
URL:https://aboutmarbella.com/evento/afro-gold/
LOCATION:Tibu Marbella\, Pl. de Antonio Banderas\, 34\, 35\,36\,37\, Marbella\, Malaga\, 29660\, España
ATTACH;FMTTYPE=image/webp:https://aboutmarbella.com/wp-content/uploads/2024/07/afrogold-generic-2024-002.jpeg.webp
END:VEVENT
BEGIN:VEVENT
DTSTART;TZID=Europe/Madrid:20240724T233000
DTEND;TZID=Europe/Madrid:20240724T233000
DTSTAMP:20260425T181306
CREATED:20240724T095900Z
LAST-MODIFIED:20240725T172218Z
UID:10000196-1721863800-1721863800@aboutmarbella.com
SUMMARY:Tibu Puerto Banus
DESCRIPTION:Capitale – DJ LESKA\n  \nVanant De La Capitale from Paris to Marbella\, presents do you speak French?\, hosted by MC Virus\, DJ Leska and resident DJs\, playing the finest in urban\, French Rap\, RnB\, Afrobeats and more
URL:https://aboutmarbella.com/evento/parlez-vous-francais-dj-leska/
LOCATION:Tibu Marbella\, Pl. de Antonio Banderas\, 34\, 35\,36\,37\, Marbella\, Malaga\, 29660\, España
ATTACH;FMTTYPE=image/webp:https://aboutmarbella.com/wp-content/uploads/2024/07/french-23.7.24-1024x1024.jpg.webp
END:VEVENT
BEGIN:VEVENT
DTSTART;TZID=Europe/Madrid:20240724T200000
DTEND;TZID=Europe/Madrid:20240724T200000
DTSTAMP:20260425T181306
CREATED:20240723T164207Z
LAST-MODIFIED:20240725T172234Z
UID:10000007-1721851200-1721851200@aboutmarbella.com
SUMMARY:La Sala Puerto Banus
DESCRIPTION:Rockin’ Wednesday
URL:https://aboutmarbella.com/evento/rockin-wednesday/
LOCATION:La Sala Puerto Banus\, C. Juan Belmonte\, s/n\, Marbella\, Marbella\, 29660\, España
ATTACH;FMTTYPE=image/jpeg:https://aboutmarbella.com/wp-content/uploads/2024/07/rockin_MlVh.jpg
END:VEVENT
BEGIN:VEVENT
DTSTART;TZID=Europe/Madrid:20240724T120000
DTEND;TZID=Europe/Madrid:20240724T210000
DTSTAMP:20260425T181306
CREATED:20240729T200547Z
LAST-MODIFIED:20240729T200547Z
UID:10000713-1721822400-1721854800@aboutmarbella.com
SUMMARY:Mogli The Key
DESCRIPTION:MOGLI X DONT BE SHY
URL:https://aboutmarbella.com/evento/mogli-the-key-3/2024-07-24/
LOCATION:Mogli The Key\, Av. del Prado\, 37\, Marbella\, Malaga\, 29660\, España
ATTACH;FMTTYPE=image/jpeg:https://aboutmarbella.com/wp-content/uploads/2024/07/Imagen-de-WhatsApp-2024-07-29-a-las-21.51.03_43912575.jpg
END:VEVENT
BEGIN:VEVENT
DTSTART;TZID=Europe/Madrid:20240724T110000
DTEND;TZID=Europe/Madrid:20240724T210000
DTSTAMP:20260425T181306
CREATED:20240729T193226Z
LAST-MODIFIED:20240729T193226Z
UID:10000630-1721818800-1721854800@aboutmarbella.com
SUMMARY:Ocean Club Marbella
DESCRIPTION:RETRO
URL:https://aboutmarbella.com/evento/ocean-club-marbella-2/2024-07-24/
LOCATION:Ocean Club Marbella\, Avda. Lola Flores s/n\, Marbella\, Malaga\, 29660\, España
ATTACH;FMTTYPE=image/jpeg:https://aboutmarbella.com/wp-content/uploads/2024/07/Imagen-de-WhatsApp-2024-07-29-a-las-21.20.06_3be2a1ef.jpg
END:VEVENT
BEGIN:VEVENT
DTSTART;TZID=Europe/Madrid:20240724T110000
DTEND;TZID=Europe/Madrid:20240724T210000
DTSTAMP:20260425T181306
CREATED:20240729T184127Z
LAST-MODIFIED:20240729T184127Z
UID:10000520-1721818800-1721854800@aboutmarbella.com
SUMMARY:La Sala By The Sea
DESCRIPTION:PERDIDA\nJOSE GALLANO
URL:https://aboutmarbella.com/evento/la-sala-by-the-sea-3/2024-07-24/
LOCATION:La Sala By The Sea\, Av José Banús\, Marbella\, Malaga\, 29660\, España
ATTACH;FMTTYPE=image/jpeg:https://aboutmarbella.com/wp-content/uploads/2024/07/wednesday24.jpg
END:VEVENT
BEGIN:VEVENT
DTSTART;TZID=Europe/Madrid:20240724T100000
DTEND;TZID=Europe/Madrid:20240724T220000
DTSTAMP:20260425T181306
CREATED:20240729T175839Z
LAST-MODIFIED:20240729T175839Z
UID:10000459-1721815200-1721858400@aboutmarbella.com
SUMMARY:LA CABANE
DESCRIPTION:THE YACHT CLUB\n  \n 
URL:https://aboutmarbella.com/evento/la-cabane-3/2024-07-24/
LOCATION:La Cabane\, C. Jabalí\, Marbella\, Malaga\, 29603\, España
ATTACH;FMTTYPE=image/png:https://aboutmarbella.com/wp-content/uploads/2024/07/1721919683_03_TYC_LC_2024_WEB-1400-sh6pqb.png
END:VEVENT
BEGIN:VEVENT
DTSTART;TZID=Europe/Madrid:20240724T080000
DTEND;TZID=Europe/Madrid:20240724T170000
DTSTAMP:20260425T181306
CREATED:20240724T103932Z
LAST-MODIFIED:20240725T172300Z
UID:10000152-1721808000-1721840400@aboutmarbella.com
SUMMARY:Tibu Puerto Banus
DESCRIPTION:AFRO GOLD – DJ PHAPHANE\n  \nAfro Gold presents – DJ Phaphane for a night of Afrobeats\, Amapiano\, Hip-Hop\, RnB\, Urban and more….
URL:https://aboutmarbella.com/evento/afro-gold-dj-phaphane/
LOCATION:Tibu Marbella\, Pl. de Antonio Banderas\, 34\, 35\,36\,37\, Marbella\, Malaga\, 29660\, España
ATTACH;FMTTYPE=image/jpeg:https://aboutmarbella.com/wp-content/uploads/2024/07/dj-phaphane-07.08-002.jpeg
END:VEVENT
BEGIN:VEVENT
DTSTART;TZID=Europe/Madrid:20240723T200000
DTEND;TZID=Europe/Madrid:20240723T230000
DTSTAMP:20260425T181306
CREATED:20240723T171341Z
LAST-MODIFIED:20240725T172323Z
UID:10000022-1721764800-1721775600@aboutmarbella.com
SUMMARY:La Sala Puerto Banus
DESCRIPTION:Papi Chulos
URL:https://aboutmarbella.com/evento/papi-chulos/
LOCATION:La Sala Puerto Banus\, C. Juan Belmonte\, s/n\, Marbella\, Marbella\, 29660\, España
ATTACH;FMTTYPE=image/jpeg:https://aboutmarbella.com/wp-content/uploads/2024/07/papi-chulos_cumo.jpg
END:VEVENT
BEGIN:VEVENT
DTSTART;TZID=Europe/Madrid:20240723T200000
DTEND;TZID=Europe/Madrid:20240723T230000
DTSTAMP:20260425T181306
CREATED:20240723T163019Z
LAST-MODIFIED:20240725T172338Z
UID:10000004-1721764800-1721775600@aboutmarbella.com
SUMMARY:La Sala Puerto Banus
DESCRIPTION:The Vibes
URL:https://aboutmarbella.com/evento/the-vibes/
LOCATION:La Sala Puerto Banus\, C. Juan Belmonte\, s/n\, Marbella\, Marbella\, 29660\, España
ATTACH;FMTTYPE=image/jpeg:https://aboutmarbella.com/wp-content/uploads/2024/07/TheVibes_6s77.jpg
END:VEVENT
BEGIN:VEVENT
DTSTART;TZID=Europe/Madrid:20240723T120000
DTEND;TZID=Europe/Madrid:20240723T200000
DTSTAMP:20260425T181306
CREATED:20240729T200151Z
LAST-MODIFIED:20240729T200151Z
UID:10000691-1721736000-1721764800@aboutmarbella.com
SUMMARY:Mogli The Key
DESCRIPTION:MOGLI X AFROBEAST
URL:https://aboutmarbella.com/evento/mogli-the-key-2/2024-07-23/
LOCATION:Mogli The Key\, Av. del Prado\, 37\, Marbella\, Malaga\, 29660\, España
ATTACH;FMTTYPE=image/jpeg:https://aboutmarbella.com/wp-content/uploads/2024/07/Imagen-de-WhatsApp-2024-07-29-a-las-21.51.03_ab1c2fa5.jpg
END:VEVENT
BEGIN:VEVENT
DTSTART;TZID=Europe/Madrid:20240723T110000
DTEND;TZID=Europe/Madrid:20240723T210000
DTSTAMP:20260425T181306
CREATED:20240729T183941Z
LAST-MODIFIED:20240729T183941Z
UID:10000503-1721732400-1721768400@aboutmarbella.com
SUMMARY:La Sala By The Sea
DESCRIPTION:LURE\nDJ BEN CULLUM
URL:https://aboutmarbella.com/evento/la-sala-by-the-sea-2/2024-07-23/
LOCATION:La Sala By The Sea\, Av José Banús\, Marbella\, Malaga\, 29660\, España
ATTACH;FMTTYPE=image/jpeg:https://aboutmarbella.com/wp-content/uploads/2024/07/tuesday24.jpg
END:VEVENT
BEGIN:VEVENT
DTSTART;TZID=Europe/Madrid:20240722T120000
DTEND;TZID=Europe/Madrid:20240722T200000
DTSTAMP:20260425T181306
CREATED:20240729T195852Z
LAST-MODIFIED:20240729T195852Z
UID:10000669-1721649600-1721678400@aboutmarbella.com
SUMMARY:Mogli The Key
DESCRIPTION:MOGLI X WETT
URL:https://aboutmarbella.com/evento/mogli-the-key/2024-07-22/
LOCATION:Mogli The Key\, Av. del Prado\, 37\, Marbella\, Malaga\, 29660\, España
ATTACH;FMTTYPE=image/jpeg:https://aboutmarbella.com/wp-content/uploads/2024/07/Imagen-de-WhatsApp-2024-07-29-a-las-21.51.03_660fae3f.jpg
END:VEVENT
BEGIN:VEVENT
DTSTART;TZID=Europe/Madrid:20240722T110000
DTEND;TZID=Europe/Madrid:20240722T210000
DTSTAMP:20260425T181306
CREATED:20240729T183718Z
LAST-MODIFIED:20240729T183718Z
UID:10000485-1721646000-1721682000@aboutmarbella.com
SUMMARY:La Sala By The Sea
DESCRIPTION:MANTRA\nDJ BEN CULLUM
URL:https://aboutmarbella.com/evento/la-sala-by-the-sea/2024-07-22/
LOCATION:La Sala By The Sea\, Av José Banús\, Marbella\, Malaga\, 29660\, España
ATTACH;FMTTYPE=image/jpeg:https://aboutmarbella.com/wp-content/uploads/2024/07/monday24.jpg
END:VEVENT
BEGIN:VEVENT
DTSTART;TZID=Europe/Madrid:20240721T120000
DTEND;TZID=Europe/Madrid:20240721T200000
DTSTAMP:20260425T181306
CREATED:20240729T201205Z
LAST-MODIFIED:20240729T201205Z
UID:10000797-1721563200-1721592000@aboutmarbella.com
SUMMARY:Mogli The Key
DESCRIPTION:MOGLI X CERTTI
URL:https://aboutmarbella.com/evento/mogli-the-key-7/2024-07-21/
LOCATION:Mogli The Key\, Av. del Prado\, 37\, Marbella\, Malaga\, 29660\, España
ATTACH;FMTTYPE=image/jpeg:https://aboutmarbella.com/wp-content/uploads/2024/07/Imagen-de-WhatsApp-2024-07-29-a-las-21.51.03_8c08939d.jpg
END:VEVENT
BEGIN:VEVENT
DTSTART;TZID=Europe/Madrid:20240721T110000
DTEND;TZID=Europe/Madrid:20240721T210000
DTSTAMP:20260425T181306
CREATED:20240729T193716Z
LAST-MODIFIED:20240729T193716Z
UID:10000661-1721559600-1721595600@aboutmarbella.com
SUMMARY:Ocean Club Marbella
DESCRIPTION:FÊTE  DES BELGES
URL:https://aboutmarbella.com/evento/ocean-club-marbella-4/
LOCATION:Ocean Club Marbella\, Avda. Lola Flores s/n\, Marbella\, Malaga\, 29660\, España
ATTACH;FMTTYPE=image/jpeg:https://aboutmarbella.com/wp-content/uploads/2024/07/Imagen-de-WhatsApp-2024-07-29-a-las-21.20.06_19c2e532.jpg
END:VEVENT
BEGIN:VEVENT
DTSTART;TZID=Europe/Madrid:20240721T110000
DTEND;TZID=Europe/Madrid:20240721T210000
DTSTAMP:20260425T181306
CREATED:20240729T193513Z
LAST-MODIFIED:20240729T193513Z
UID:10000651-1721559600-1721595600@aboutmarbella.com
SUMMARY:Ocean Club Marbella
DESCRIPTION:TROPICANA
URL:https://aboutmarbella.com/evento/ocean-club-marbella-3/2024-07-21/
LOCATION:Ocean Club Marbella\, Avda. Lola Flores s/n\, Marbella\, Malaga\, 29660\, España
ATTACH;FMTTYPE=image/jpeg:https://aboutmarbella.com/wp-content/uploads/2024/07/Imagen-de-WhatsApp-2024-07-29-a-las-21.20.06_69df9ac5.jpg
END:VEVENT
BEGIN:VEVENT
DTSTART;TZID=Europe/Madrid:20240721T110000
DTEND;TZID=Europe/Madrid:20240721T210000
DTSTAMP:20260425T181306
CREATED:20240729T185242Z
LAST-MODIFIED:20240729T185242Z
UID:10000585-1721559600-1721595600@aboutmarbella.com
SUMMARY:La Sala By The Sea
DESCRIPTION:CARNIVAL\nJOSE GALLANO\nJOEL SAX
URL:https://aboutmarbella.com/evento/la-sala-by-the-sea-7/2024-07-21/
LOCATION:La Sala By The Sea\, Av José Banús\, Marbella\, Malaga\, 29660\, España
ATTACH;FMTTYPE=image/jpeg:https://aboutmarbella.com/wp-content/uploads/2024/07/sunday24.jpg
END:VEVENT
BEGIN:VEVENT
DTSTART;TZID=Europe/Madrid:20240720T120000
DTEND;TZID=Europe/Madrid:20240720T233000
DTSTAMP:20260425T181306
CREATED:20240729T174713Z
LAST-MODIFIED:20240729T174713Z
UID:10000388-1721476800-1721518200@aboutmarbella.com
SUMMARY:PLAYA PADRE
DESCRIPTION:VALE\nEvery Saturday\nARTCHITEC\nFrom 12:00h\n 
URL:https://aboutmarbella.com/evento/playa-padre-6/2024-07-20/
LOCATION:Playa Padre\, s/n\, Calle playa del cable\, Marbella\, Malaga\, 29603\, España
ATTACH;FMTTYPE=image/png:https://aboutmarbella.com/wp-content/uploads/2024/07/1722264332_06_VALEWEB2024PP-1400-she3nx.png
END:VEVENT
BEGIN:VEVENT
DTSTART;TZID=Europe/Madrid:20240720T120000
DTEND;TZID=Europe/Madrid:20240720T200000
DTSTAMP:20260425T181306
CREATED:20240729T201032Z
LAST-MODIFIED:20240729T201032Z
UID:10000778-1721476800-1721505600@aboutmarbella.com
SUMMARY:Mogli The Key
DESCRIPTION:MOGLI X LOVEJUICE\n 
URL:https://aboutmarbella.com/evento/mogli-the-key-6/2024-07-20/
LOCATION:Mogli The Key\, Av. del Prado\, 37\, Marbella\, Malaga\, 29660\, España
ATTACH;FMTTYPE=image/jpeg:https://aboutmarbella.com/wp-content/uploads/2024/07/Imagen-de-WhatsApp-2024-07-29-a-las-21.51.03_83676e95.jpg
END:VEVENT
BEGIN:VEVENT
DTSTART;TZID=Europe/Madrid:20240720T110000
DTEND;TZID=Europe/Madrid:20240720T210000
DTSTAMP:20260425T181306
CREATED:20240729T185058Z
LAST-MODIFIED:20240729T185058Z
UID:10000567-1721473200-1721509200@aboutmarbella.com
SUMMARY:La Sala By The Sea
DESCRIPTION:SAMUI\nSCOTT STRUTTOON \nSHAYNE G1VEN \nJOEY SAX
URL:https://aboutmarbella.com/evento/la-sala-by-the-sea-6/2024-07-20/
LOCATION:La Sala By The Sea\, Av José Banús\, Marbella\, Malaga\, 29660\, España
ATTACH;FMTTYPE=image/jpeg:https://aboutmarbella.com/wp-content/uploads/2024/07/saturday24.jpg
END:VEVENT
BEGIN:VEVENT
DTSTART;TZID=Europe/Madrid:20240719T200000
DTEND;TZID=Europe/Madrid:20240719T233000
DTSTAMP:20260425T181306
CREATED:20240730T144408Z
LAST-MODIFIED:20240730T144408Z
UID:10000814-1721419200-1721431800@aboutmarbella.com
SUMMARY:Mercadillo Artesanal Benahavis
DESCRIPTION:MERCADILLO ARTESANAL DE BENAHAVÍS DE VERANO\n\nEste jueves 4 de julio se inaugura el Mercadillo Artesanal de Benahavís. Se instalará jueves y viernes de julio y agosto\, a partir de las ocho de la tarde y hasta medianoche\, en la Avenida de Andalucía.\nSerá un espacio abierto para disfrutar\, en las noches de verano\, del trabajo de nuestros artesanos.\nThis Thursday\, the 4th of July\, sees the inauguration of the Benahavís Craft Market. It will be on Thursday and Friday\, July to August\, from eight until midnight\, in the Avenida de Andalucía.\nIt will be an open space to enjoy\, on summer evenings\, the work of our artists.
URL:https://aboutmarbella.com/evento/mercadillo-artesanal-benahavis/2024-07-19/
LOCATION:Benahavis Mercadillo Artesanal\, Avenida de Andalucía\, 34\, Benahavis\, Malaga\, 29679\, España
ATTACH;FMTTYPE=image/jpeg:https://aboutmarbella.com/wp-content/uploads/2024/07/mercadillo-artesanal-verano.jpg
END:VEVENT
END:VCALENDAR