BEGIN:VCALENDAR
VERSION:2.0
PRODID:-//About Marbella - ECPv6.8.0//NONSGML v1.0//EN
CALSCALE:GREGORIAN
METHOD:PUBLISH
X-WR-CALNAME:About Marbella
X-ORIGINAL-URL:https://aboutmarbella.com
X-WR-CALDESC:Events for About Marbella
REFRESH-INTERVAL;VALUE=DURATION:PT1H
X-Robots-Tag:noindex
X-PUBLISHED-TTL:PT1H
BEGIN:VTIMEZONE
TZID:Europe/Madrid
BEGIN:DAYLIGHT
TZOFFSETFROM:+0100
TZOFFSETTO:+0200
TZNAME:CEST
DTSTART:20240331T010000
END:DAYLIGHT
BEGIN:STANDARD
TZOFFSETFROM:+0200
TZOFFSETTO:+0100
TZNAME:CET
DTSTART:20241027T010000
END:STANDARD
END:VTIMEZONE
BEGIN:VEVENT
DTSTART;TZID=Europe/Madrid:20240727T220000
DTEND;TZID=Europe/Madrid:20240727T233000
DTSTAMP:20260425T143957
CREATED:20240723T222031Z
LAST-MODIFIED:20240725T171334Z
UID:10000126-1722117600-1722123000@aboutmarbella.com
SUMMARY:Starlite Marbella
DESCRIPTION:MALDITA NEREA
URL:https://aboutmarbella.com/evento/maldita-nerea/
LOCATION:Starlite Marbella\, C. Albinoni\, s/n\, Marbella\, Malaga\, 29602\, España
ATTACH;FMTTYPE=image/jpeg:https://aboutmarbella.com/wp-content/uploads/2024/07/6a57efcbcd7139000bdd21459e03e621_koobin_800x7743_385_374_crop_1.jpg
END:VEVENT
BEGIN:VEVENT
DTSTART;TZID=Europe/Madrid:20240727T210000
DTEND;TZID=Europe/Madrid:20240728T010000
DTSTAMP:20260425T143957
CREATED:20240730T141922Z
LAST-MODIFIED:20240730T143153Z
UID:10000808-1722114000-1722128400@aboutmarbella.com
SUMMARY:Attico By Leciel
DESCRIPTION:Le Ciel de Van Gogh – Un viaje artístico a través de los colores y las estrellas\nLe Ciel de Van Gogh – An artistic journey through colors and stars\nLe Ciel de Van Gogh – Un voyage artistique à travers les couleurs et les étoiles
URL:https://aboutmarbella.com/evento/attico-by-leciel/
LOCATION:Attico By Leciel\, Pl. de Antonio Banderas\, Marbella\, Malaga\, 29660\, España
ATTACH;FMTTYPE=image/jpeg:https://aboutmarbella.com/wp-content/uploads/2024/07/2.jpg
END:VEVENT
BEGIN:VEVENT
DTSTART;TZID=Europe/Madrid:20240727T210000
DTEND;TZID=Europe/Madrid:20240727T210000
DTSTAMP:20260425T143957
CREATED:20240724T182138Z
LAST-MODIFIED:20240725T171429Z
UID:10000192-1722114000-1722114000@aboutmarbella.com
SUMMARY:Musica Con Encanto
DESCRIPTION:CONCIERTO – LATIDOS\n  \nNazareno Saavedra\, percusión\, bombo legüero\, baile con boleadoras\, guitarra\, voz. \nJuanma Nieto\, guitarra\, percusión. \nNazareno Saavedra\, el último descendiente del Linaje Saavedra\, familia de artistas\, bailarines y percusionistas argentinos\, nacido en Santiago del Estero\, Argentina. Nazareno comparte sus latidos por el mundo entero. \nMúsica con Encanto nos acerca a este magnífico artista de la percusión y el baile del Folklore Argentino\, como parte de su gira por España en un recorrido por las más importantes ciudades\, donde es invitado cada año a presentar un espectáculo singular\, impresionante\, donde el ritmo se apodera de la escena y nos hace vibrar desde lo más profundo. \nHijo de los famosos bailarines del folklore argentino\, Juan Saavedra y Sandra Farías. \n  \n  \n  \n 
URL:https://aboutmarbella.com/evento/concierto-latidos/
LOCATION:Urbanización La Virginia\, Pl. Sta. Clara\, 4\, Marbella\, Malaga\, 29602\, España
ATTACH;FMTTYPE=image/webp:https://aboutmarbella.com/wp-content/uploads/2024/07/latidosnazareno-79a316d5.webp
END:VEVENT
BEGIN:VEVENT
DTSTART;TZID=Europe/Madrid:20240727T200000
DTEND;TZID=Europe/Madrid:20240727T230000
DTSTAMP:20260425T143957
CREATED:20240723T165413Z
LAST-MODIFIED:20240725T171445Z
UID:10000013-1722110400-1722121200@aboutmarbella.com
SUMMARY:La Sala Puerto Banus
DESCRIPTION:Rose Phillipens
URL:https://aboutmarbella.com/evento/rose-phillipens-2/
LOCATION:La Sala Puerto Banus\, C. Juan Belmonte\, s/n\, Marbella\, Marbella\, 29660\, España
ATTACH;FMTTYPE=image/jpeg:https://aboutmarbella.com/wp-content/uploads/2024/07/RosePhillips_QrSa.jpg
END:VEVENT
BEGIN:VEVENT
DTSTART;TZID=Europe/Madrid:20240727T200000
DTEND;TZID=Europe/Madrid:20240727T230000
DTSTAMP:20260425T143957
CREATED:20240723T165216Z
LAST-MODIFIED:20240725T171517Z
UID:10000012-1722110400-1722121200@aboutmarbella.com
SUMMARY:La Sala Puerto Banus
DESCRIPTION:Joey Sax & DJ Lady Jade
URL:https://aboutmarbella.com/evento/joey-sax-dj-lady-jade/
LOCATION:La Sala Puerto Banus\, C. Juan Belmonte\, s/n\, Marbella\, Marbella\, 29660\, España
ATTACH;FMTTYPE=image/jpeg:https://aboutmarbella.com/wp-content/uploads/2024/07/JoeySax-LadyJade.jpg
END:VEVENT
BEGIN:VEVENT
DTSTART;TZID=Europe/Madrid:20240727T200000
DTEND;TZID=Europe/Madrid:20240727T200000
DTSTAMP:20260425T143957
CREATED:20240724T174305Z
LAST-MODIFIED:20240725T171534Z
UID:10000193-1722110400-1722110400@aboutmarbella.com
SUMMARY:Marbella Arena
DESCRIPTION:YALLA HABIBI\n  \n  \nDisfrutarás de los artistas más grandes de Oriente como Ayed\, DJ Aseel\, Assala\, Modi Alshamrani\, Disco Misa y Ahmed Saad. Dos noches legendarias en el corazón de Marbella que desearás que se repitan todos tus veranos.
URL:https://aboutmarbella.com/evento/yalla-habibi-2/
LOCATION:Marbella Arena\, Avda. Pilar Calvo\, 28\, Nueva Andalucía\, Malaga\, 29660\, España
ATTACH;FMTTYPE=image/jpeg:https://aboutmarbella.com/wp-content/uploads/2024/07/July-27.jpg
END:VEVENT
BEGIN:VEVENT
DTSTART;TZID=Europe/Madrid:20240727T190000
DTEND;TZID=Europe/Madrid:20240727T230000
DTSTAMP:20260425T143957
CREATED:20240723T165041Z
LAST-MODIFIED:20240725T171600Z
UID:10000011-1722106800-1722121200@aboutmarbella.com
SUMMARY:La Sala Puerto Banus
DESCRIPTION:Come Dancing with Kai\n  \nDancing With Kai\, 20.00€ per person VAT included\nTotal: 40.00€ VAT included (36.36€ VAT not included)Join us in our Live Lounge on Saturday 27th July for an evening with Kai Widdrington from Strictly Come Dancing! \nThe ticket price is €20 per ticket\, which needs to be pre paid in full to confirm and secure your booking. We are offering reservations at 7pm for a meet and greet\, followed by dinner at 7.30pm and a dance class at 9.30pm! \nThe menu available on the night is our A La Carte menu\, which is to be paid separately to the tickets for the event. Please note a main course must be ordered from the menu. Click HERE to see our A La Carte menu! \nIn the event of a cancellation\, the deposit is non-refundable but can be held as a credit note up to a year from the original date of the booking. Please note this credit is to be used on a single visit or booking only. Credit notes are only available if the booking is cancelled 7 days prior to the event date.
URL:https://aboutmarbella.com/evento/come-dancing-with-kai/
LOCATION:La Sala Puerto Banus\, C. Juan Belmonte\, s/n\, Marbella\, Marbella\, 29660\, España
ATTACH;FMTTYPE=image/png:https://aboutmarbella.com/wp-content/uploads/2024/07/kai_U2Ch.png
END:VEVENT
BEGIN:VEVENT
DTSTART;TZID=Europe/Madrid:20240727T180000
DTEND;TZID=Europe/Madrid:20240727T233000
DTSTAMP:20260425T143957
CREATED:20240724T181344Z
LAST-MODIFIED:20240725T171632Z
UID:10000182-1722103200-1722123000@aboutmarbella.com
SUMMARY:San Pedro De Alcántara
DESCRIPTION:X BATALLA DE BANDAS\n  \nEl mayor festival de rock infantil de España; X Edición Batalla de Bandas \nCon 20.000 vatios de sonido\, 30.000 vatios de iluminación\, 49 bandas\, un jurado de prestigio y miles de personas asistiendo\, este festival de acceso gratuito se ha convertido en un referente nacional en el ámbito de la música infantil. \nAdemás de los conciertos\, el evento contará con castillos hinchables y atracciones para los más pequeños\, barra de bebidas\, food trucks con comida mexicana y americana\, puestos de artesanía y un photocall. \nUn Festival Inigualable La Batalla de Bandas es el mayor evento de rock infantil de España\, surgido en 2014 con una propuesta innovadora: bandas completamente formadas por niños y niñas de 7 a 18 años tocando en directo sin la guía de profesores. En su primera edición\, el festival contó con la participación de 25 bandas\, y desde entonces\, ha crecido exponencialmente en popularidad y alcance. \nDetalles del Festival \nLa décima edición se llevará a cabo el 27 de julio a las 18:00 en el Bulevar de San Pedro Alcántara\, ofreciendo seis horas continuas de música en vivo. Este año\, 49 bandas formadas por alumnos de Rock Factory estarán presentes\, lo que representa un récord en la historia del festival. \nJurado de Prestigio \nEl jurado estará compuesto por figuras notables como el grupo sevillano La Dstylería\, Ricardo Marín (guitarrista de Manolo García y Ariel Rot)\, Paco Gago (cantante de 29seis70)\, James Shannon (baterista de Safety Last)\, Javi García (guitarrista de Mutación)\, Kiko Vega (productor musical)\, Justo Fernández (periodista musical) y Manuel Redondo (bailarín de renombre internacional).
URL:https://aboutmarbella.com/evento/x-batalla-de-bandas/
LOCATION:Bulevar San Pedro Alcántara\, Avenida Luis Braille\, s/n Avenida Norberto Goizueta Díaz\, s/n\, San Pedro Alcántara\, Málaga\, 29670\, España
ATTACH;FMTTYPE=image/webp:https://aboutmarbella.com/wp-content/uploads/2024/07/x_batalla_de_bandas-2496f7d2.webp
END:VEVENT
BEGIN:VEVENT
DTSTART;TZID=Europe/Madrid:20240727T120000
DTEND;TZID=Europe/Madrid:20240727T233000
DTSTAMP:20260425T143957
CREATED:20240729T174713Z
LAST-MODIFIED:20240729T174713Z
UID:10000389-1722081600-1722123000@aboutmarbella.com
SUMMARY:PLAYA PADRE
DESCRIPTION:VALE\nEvery Saturday\nARTCHITEC\nFrom 12:00h\n 
URL:https://aboutmarbella.com/evento/playa-padre-6/2024-07-27/
LOCATION:Playa Padre\, s/n\, Calle playa del cable\, Marbella\, Malaga\, 29603\, España
ATTACH;FMTTYPE=image/png:https://aboutmarbella.com/wp-content/uploads/2024/07/1722264332_06_VALEWEB2024PP-1400-she3nx.png
END:VEVENT
BEGIN:VEVENT
DTSTART;TZID=Europe/Madrid:20240727T120000
DTEND;TZID=Europe/Madrid:20240727T200000
DTSTAMP:20260425T143957
CREATED:20240729T201032Z
LAST-MODIFIED:20240729T201032Z
UID:10000779-1722081600-1722110400@aboutmarbella.com
SUMMARY:Mogli The Key
DESCRIPTION:MOGLI X LOVEJUICE\n 
URL:https://aboutmarbella.com/evento/mogli-the-key-6/2024-07-27/
LOCATION:Mogli The Key\, Av. del Prado\, 37\, Marbella\, Malaga\, 29660\, España
ATTACH;FMTTYPE=image/jpeg:https://aboutmarbella.com/wp-content/uploads/2024/07/Imagen-de-WhatsApp-2024-07-29-a-las-21.51.03_83676e95.jpg
END:VEVENT
BEGIN:VEVENT
DTSTART;TZID=Europe/Madrid:20240727T120000
DTEND;TZID=Europe/Madrid:20240727T170000
DTSTAMP:20260425T143957
CREATED:20240723T164707Z
LAST-MODIFIED:20240725T171648Z
UID:10000010-1722081600-1722099600@aboutmarbella.com
SUMMARY:La Sala Puerto Banus
DESCRIPTION:Michelle Daniels\n  \nMichelle is a famous singer from her performance on the tribute to Abba\, “Abbatastic”. She is a very enthusiastic\, talented and beautiful entertainer. Her voice is incredible and her music goes from soul to disco music. \nFamosa por su Tributo a Abba\, ¨Abbatastic¨; es una cantante muy entusiasta y talentosa y una animadora única. Su increíble voz acompaña los mejores temas desde el soul hasta la música disco.
URL:https://aboutmarbella.com/evento/michelle-daniels/
LOCATION:La Sala Puerto Banus\, C. Juan Belmonte\, s/n\, Marbella\, Marbella\, 29660\, España
ATTACH;FMTTYPE=image/jpeg:https://aboutmarbella.com/wp-content/uploads/2024/07/michelle-daniels.jpg
END:VEVENT
BEGIN:VEVENT
DTSTART;TZID=Europe/Madrid:20240727T110000
DTEND;TZID=Europe/Madrid:20240727T210000
DTSTAMP:20260425T143957
CREATED:20240729T185058Z
LAST-MODIFIED:20240729T185058Z
UID:10000568-1722078000-1722114000@aboutmarbella.com
SUMMARY:La Sala By The Sea
DESCRIPTION:SAMUI\nSCOTT STRUTTOON \nSHAYNE G1VEN \nJOEY SAX
URL:https://aboutmarbella.com/evento/la-sala-by-the-sea-6/2024-07-27/
LOCATION:La Sala By The Sea\, Av José Banús\, Marbella\, Malaga\, 29660\, España
ATTACH;FMTTYPE=image/jpeg:https://aboutmarbella.com/wp-content/uploads/2024/07/saturday24.jpg
END:VEVENT
BEGIN:VEVENT
DTSTART;TZID=Europe/Madrid:20240726T233000
DTEND;TZID=Europe/Madrid:20240727T070000
DTSTAMP:20260425T143957
CREATED:20240724T101111Z
LAST-MODIFIED:20240725T171817Z
UID:10000142-1722036600-1722063600@aboutmarbella.com
SUMMARY:Tibu Puerto Banus
DESCRIPTION:MAYFAIR SESSIONS – DJ YUNGEN\n  \n@mayfairsessions are happy to be joined by UK urban royalty @yungen to perform hits Bestie\, Take my number and more at Marbella’s number one club @tibumarbella
URL:https://aboutmarbella.com/evento/mayfair-sessions-dj-yungen/
LOCATION:Tibu Marbella\, Pl. de Antonio Banderas\, 34\, 35\,36\,37\, Marbella\, Malaga\, 29660\, España
ATTACH;FMTTYPE=image/webp:https://aboutmarbella.com/wp-content/uploads/2024/07/youngen-26.7.24.jpg.webp
END:VEVENT
BEGIN:VEVENT
DTSTART;TZID=Europe/Madrid:20240726T233000
DTEND;TZID=Europe/Madrid:20240727T010000
DTSTAMP:20260425T143957
CREATED:20240723T221904Z
LAST-MODIFIED:20240725T171721Z
UID:10000125-1722036600-1722042000@aboutmarbella.com
SUMMARY:Starlite Marbella
DESCRIPTION:EL ARREBATO
URL:https://aboutmarbella.com/evento/el-arrebato/
LOCATION:Starlite Marbella\, C. Albinoni\, s/n\, Marbella\, Malaga\, 29602\, España
ATTACH;FMTTYPE=image/jpeg:https://aboutmarbella.com/wp-content/uploads/2024/07/67d9f48e77a0a9472f57138cdcfa5f10_koobin_800x774_385_374_crop_1.jpg
END:VEVENT
BEGIN:VEVENT
DTSTART;TZID=Europe/Madrid:20240726T220000
DTEND;TZID=Europe/Madrid:20240726T233000
DTSTAMP:20260425T143957
CREATED:20240723T221721Z
LAST-MODIFIED:20240725T171740Z
UID:10000124-1722031200-1722036600@aboutmarbella.com
SUMMARY:Starlite Marbella
DESCRIPTION:CANTAJUEGO
URL:https://aboutmarbella.com/evento/cantajuego/
LOCATION:Starlite Marbella\, C. Albinoni\, s/n\, Marbella\, Malaga\, 29602\, España
ATTACH;FMTTYPE=image/jpeg:https://aboutmarbella.com/wp-content/uploads/2024/07/8e9ac7787c59fd733c7768c9854a2785_koobin_800x774_Cantajuego_nuevaimagen_385_374_crop_1.jpg
END:VEVENT
BEGIN:VEVENT
DTSTART;TZID=Europe/Madrid:20240726T200000
DTEND;TZID=Europe/Madrid:20240726T233000
DTSTAMP:20260425T143957
CREATED:20240730T144408Z
LAST-MODIFIED:20240730T144408Z
UID:10000816-1722024000-1722036600@aboutmarbella.com
SUMMARY:Mercadillo Artesanal Benahavis
DESCRIPTION:MERCADILLO ARTESANAL DE BENAHAVÍS DE VERANO\n\nEste jueves 4 de julio se inaugura el Mercadillo Artesanal de Benahavís. Se instalará jueves y viernes de julio y agosto\, a partir de las ocho de la tarde y hasta medianoche\, en la Avenida de Andalucía.\nSerá un espacio abierto para disfrutar\, en las noches de verano\, del trabajo de nuestros artesanos.\nThis Thursday\, the 4th of July\, sees the inauguration of the Benahavís Craft Market. It will be on Thursday and Friday\, July to August\, from eight until midnight\, in the Avenida de Andalucía.\nIt will be an open space to enjoy\, on summer evenings\, the work of our artists.
URL:https://aboutmarbella.com/evento/mercadillo-artesanal-benahavis/2024-07-26/
LOCATION:Benahavis Mercadillo Artesanal\, Avenida de Andalucía\, 34\, Benahavis\, Malaga\, 29679\, España
ATTACH;FMTTYPE=image/jpeg:https://aboutmarbella.com/wp-content/uploads/2024/07/mercadillo-artesanal-verano.jpg
END:VEVENT
BEGIN:VEVENT
DTSTART;TZID=Europe/Madrid:20240726T200000
DTEND;TZID=Europe/Madrid:20240726T230000
DTSTAMP:20260425T143957
CREATED:20240723T164544Z
LAST-MODIFIED:20240725T171807Z
UID:10000009-1722024000-1722034800@aboutmarbella.com
SUMMARY:La Sala Puerto Banus
DESCRIPTION:Q Band
URL:https://aboutmarbella.com/evento/q-band/
LOCATION:La Sala Puerto Banus\, C. Juan Belmonte\, s/n\, Marbella\, Marbella\, 29660\, España
ATTACH;FMTTYPE=image/png:https://aboutmarbella.com/wp-content/uploads/2024/07/logo_GdP3.png
END:VEVENT
BEGIN:VEVENT
DTSTART;TZID=Europe/Madrid:20240726T200000
DTEND;TZID=Europe/Madrid:20240726T230000
DTSTAMP:20260425T143957
CREATED:20240723T164403Z
LAST-MODIFIED:20240725T171844Z
UID:10000008-1722024000-1722034800@aboutmarbella.com
SUMMARY:La Sala Puerto Banus
DESCRIPTION:Paige Lefley
URL:https://aboutmarbella.com/evento/paige-lefley/
LOCATION:La Sala Puerto Banus\, C. Juan Belmonte\, s/n\, Marbella\, Marbella\, 29660\, España
ATTACH;FMTTYPE=image/jpeg:https://aboutmarbella.com/wp-content/uploads/2024/07/paigelefley_aOQX.jpg
END:VEVENT
BEGIN:VEVENT
DTSTART;TZID=Europe/Madrid:20240726T200000
DTEND;TZID=Europe/Madrid:20240726T200000
DTSTAMP:20260425T143957
CREATED:20240724T174104Z
LAST-MODIFIED:20240725T171912Z
UID:10000194-1722024000-1722024000@aboutmarbella.com
SUMMARY:Marbella Arena
DESCRIPTION:YALLA HABIBI\n  \nDisfrutarás de los artistas más grandes de Oriente como Ayed\, DJ Aseel\, Assala\, Modi Alshamrani\, Disco Misa y Ahmed Saad. Dos noches legendarias en el corazón de Marbella que desearás que se repitan todos tus veranos.
URL:https://aboutmarbella.com/evento/yalla-habibi/
LOCATION:Marbella Arena\, Avda. Pilar Calvo\, 28\, Nueva Andalucía\, Malaga\, 29660\, España
ATTACH;FMTTYPE=image/jpeg:https://aboutmarbella.com/wp-content/uploads/2024/07/Right.jpg
END:VEVENT
BEGIN:VEVENT
DTSTART;TZID=Europe/Madrid:20240726T190000
DTEND;TZID=Europe/Madrid:20240726T213000
DTSTAMP:20260425T143957
CREATED:20240723T163855Z
LAST-MODIFIED:20240725T171929Z
UID:10000006-1722020400-1722029400@aboutmarbella.com
SUMMARY:La Sala Puerto Banus
DESCRIPTION:Rose Phillipens
URL:https://aboutmarbella.com/evento/rose-phillipens/
LOCATION:La Sala Puerto Banus\, C. Juan Belmonte\, s/n\, Marbella\, Marbella\, 29660\, España
ATTACH;FMTTYPE=image/jpeg:https://aboutmarbella.com/wp-content/uploads/2024/07/RosePhillips_QrSa.jpg
END:VEVENT
BEGIN:VEVENT
DTSTART;TZID=Europe/Madrid:20240726T170000
DTEND;TZID=Europe/Madrid:20240726T170000
DTSTAMP:20260425T143957
CREATED:20240724T173514Z
LAST-MODIFIED:20240725T172020Z
UID:10000195-1722013200-1722013200@aboutmarbella.com
SUMMARY:San Pedro De Alcantara
DESCRIPTION:I LOVE REGGAETON MARBELLA
URL:https://aboutmarbella.com/evento/i-love-reggaeton-marbella/
LOCATION:Love the 90’s Marbella\, C. Torrente Ballester\, 33\, Marbella\, Malaga\, 29660\, España
ATTACH;FMTTYPE=image/jpeg:https://aboutmarbella.com/wp-content/uploads/2024/07/ILR-2024-MARBELLA-BANNER-WEB-MOBILE.jpg
END:VEVENT
BEGIN:VEVENT
DTSTART;TZID=Europe/Madrid:20240726T120000
DTEND;TZID=Europe/Madrid:20240726T233000
DTSTAMP:20260425T143957
CREATED:20240729T174516Z
LAST-MODIFIED:20240729T174516Z
UID:10000324-1721995200-1722036600@aboutmarbella.com
SUMMARY:PLAYA PADRE
DESCRIPTION:FRIDAY PADRE\nEvery Friday\nEMMERALD\nFrom 12:00h\n 
URL:https://aboutmarbella.com/evento/playa-padre-5/2024-07-26/
LOCATION:Playa Padre\, s/n\, Calle playa del cable\, Marbella\, Malaga\, 29603\, España
ATTACH;FMTTYPE=image/png:https://aboutmarbella.com/wp-content/uploads/2024/07/1722264227_05_FRIDAY_WEB-1400-she3kz.png
END:VEVENT
BEGIN:VEVENT
DTSTART;TZID=Europe/Madrid:20240726T120000
DTEND;TZID=Europe/Madrid:20240726T200000
DTSTAMP:20260425T143957
CREATED:20240729T200852Z
LAST-MODIFIED:20240729T200852Z
UID:10000757-1721995200-1722024000@aboutmarbella.com
SUMMARY:Mogli The Key
DESCRIPTION:MOGLI X BABYLON
URL:https://aboutmarbella.com/evento/mogli-the-key-5/2024-07-26/
LOCATION:Mogli The Key\, Av. del Prado\, 37\, Marbella\, Malaga\, 29660\, España
ATTACH;FMTTYPE=image/jpeg:https://aboutmarbella.com/wp-content/uploads/2024/07/Imagen-de-WhatsApp-2024-07-29-a-las-21.51.03_9785ec9a.jpg
END:VEVENT
BEGIN:VEVENT
DTSTART;TZID=Europe/Madrid:20240726T110000
DTEND;TZID=Europe/Madrid:20240726T210000
DTSTAMP:20260425T143957
CREATED:20240729T193040Z
LAST-MODIFIED:20240729T193040Z
UID:10000609-1721991600-1722027600@aboutmarbella.com
SUMMARY:Ocean Club Marbella
DESCRIPTION:ELEMENTS\n 
URL:https://aboutmarbella.com/evento/ocean-club-marbella/2024-07-26/
LOCATION:Ocean Club Marbella\, Avda. Lola Flores s/n\, Marbella\, Malaga\, 29660\, España
ATTACH;FMTTYPE=image/jpeg:https://aboutmarbella.com/wp-content/uploads/2024/07/Imagen-de-WhatsApp-2024-07-29-a-las-21.20.06_0ea55472.jpg
END:VEVENT
BEGIN:VEVENT
DTSTART;TZID=Europe/Madrid:20240726T110000
DTEND;TZID=Europe/Madrid:20240726T210000
DTSTAMP:20260425T143957
CREATED:20240729T184538Z
LAST-MODIFIED:20240729T184538Z
UID:10000550-1721991600-1722027600@aboutmarbella.com
SUMMARY:La Sala By The Sea
DESCRIPTION:EROS\nSCOTT STRUTTON\nADRIAN SAX
URL:https://aboutmarbella.com/evento/la-sala-by-the-sea-5/2024-07-26/
LOCATION:Malaga
ATTACH;FMTTYPE=image/jpeg:https://aboutmarbella.com/wp-content/uploads/2024/07/friday24.jpg
END:VEVENT
BEGIN:VEVENT
DTSTART;TZID=Europe/Madrid:20240726T100000
DTEND;TZID=Europe/Madrid:20240726T220000
DTSTAMP:20260425T143957
CREATED:20240729T180027Z
LAST-MODIFIED:20240729T180027Z
UID:10000472-1721988000-1722031200@aboutmarbella.com
SUMMARY:LA CABANE
DESCRIPTION:LA BELLEZZA
URL:https://aboutmarbella.com/evento/la-cabane-4/2024-07-26/
LOCATION:La Cabane\, C. Jabalí\, Marbella\, Malaga\, 29603\, España
ATTACH;FMTTYPE=image/png:https://aboutmarbella.com/wp-content/uploads/2024/07/00_BASIC_LA_BELLEZZA_SQ-1400-she38g.png
END:VEVENT
BEGIN:VEVENT
DTSTART;TZID=Europe/Madrid:20240725T233000
DTEND;TZID=Europe/Madrid:20240726T070000
DTSTAMP:20260425T143957
CREATED:20240724T100541Z
LAST-MODIFIED:20240725T172041Z
UID:10000141-1721950200-1721977200@aboutmarbella.com
SUMMARY:Tibu Puerto Banus
DESCRIPTION:RED CUP – DJ JASMINE JOBSON\n  \nLondon & Dubai best brands come together every Thursday bringing you a brand new night RED CUP at TIBU Nightclub. Live PA from Jasmine Jobson (Top Boy) Resident DJs and guests\, DJ SAI\, MAX DENHAM and special guests\, playing non stop bangers UK\, Afrobeats\, Hip-Hop\, Trap\, Amapiano\, RnB\, soulful house and much more
URL:https://aboutmarbella.com/evento/red-cup-dj-jasmine-jobson/
LOCATION:Tibu Marbella\, Pl. de Antonio Banderas\, 34\, 35\,36\,37\, Marbella\, Malaga\, 29660\, España
ATTACH;FMTTYPE=image/webp:https://aboutmarbella.com/wp-content/uploads/2024/07/red-cup-25.7.24.jpeg.webp
END:VEVENT
BEGIN:VEVENT
DTSTART;TZID=Europe/Madrid:20240725T220000
DTEND;TZID=Europe/Madrid:20240725T233000
DTSTAMP:20260425T143957
CREATED:20240723T221606Z
LAST-MODIFIED:20240725T172059Z
UID:10000123-1721944800-1721950200@aboutmarbella.com
SUMMARY:Starlite Marbella
DESCRIPTION:RICKY MARTIN
URL:https://aboutmarbella.com/evento/ricky-martin/
LOCATION:Starlite Marbella\, C. Albinoni\, s/n\, Marbella\, Malaga\, 29602\, España
ATTACH;FMTTYPE=image/jpeg:https://aboutmarbella.com/wp-content/uploads/2024/07/fee1e42c84e4806931ce8400f24b3003_koobin_800x7742_385_374_crop_1.jpg
END:VEVENT
BEGIN:VEVENT
DTSTART;TZID=Europe/Madrid:20240725T200000
DTEND;TZID=Europe/Madrid:20240725T233000
DTSTAMP:20260425T143957
CREATED:20240730T144408Z
LAST-MODIFIED:20240730T144408Z
UID:10000815-1721937600-1721950200@aboutmarbella.com
SUMMARY:Mercadillo Artesanal Benahavis
DESCRIPTION:MERCADILLO ARTESANAL DE BENAHAVÍS DE VERANO\n\nEste jueves 4 de julio se inaugura el Mercadillo Artesanal de Benahavís. Se instalará jueves y viernes de julio y agosto\, a partir de las ocho de la tarde y hasta medianoche\, en la Avenida de Andalucía.\nSerá un espacio abierto para disfrutar\, en las noches de verano\, del trabajo de nuestros artesanos.\nThis Thursday\, the 4th of July\, sees the inauguration of the Benahavís Craft Market. It will be on Thursday and Friday\, July to August\, from eight until midnight\, in the Avenida de Andalucía.\nIt will be an open space to enjoy\, on summer evenings\, the work of our artists.
URL:https://aboutmarbella.com/evento/mercadillo-artesanal-benahavis/2024-07-25/
LOCATION:Benahavis Mercadillo Artesanal\, Avenida de Andalucía\, 34\, Benahavis\, Malaga\, 29679\, España
ATTACH;FMTTYPE=image/jpeg:https://aboutmarbella.com/wp-content/uploads/2024/07/mercadillo-artesanal-verano.jpg
END:VEVENT
BEGIN:VEVENT
DTSTART;TZID=Europe/Madrid:20240725T200000
DTEND;TZID=Europe/Madrid:20240725T230000
DTSTAMP:20260425T143957
CREATED:20240723T163610Z
LAST-MODIFIED:20240725T172117Z
UID:10000005-1721937600-1721948400@aboutmarbella.com
SUMMARY:La Sala Puerto Banus
DESCRIPTION:Debra Stacey\n  \nDebra has over 20 years experience in the music business including working as a session singer with some very well known Artists\, not only in the studio but live shows as well. \nShe’s a versatile vocalist covering an eclectic mix of Genres including; Mixed Soul\, Funk\, Motown\, Club Classics and Jazz to name a few.
URL:https://aboutmarbella.com/evento/debra-stacey/
LOCATION:La Sala Puerto Banus\, C. Juan Belmonte\, s/n\, Marbella\, Marbella\, 29660\, España
ATTACH;FMTTYPE=image/jpeg:https://aboutmarbella.com/wp-content/uploads/2024/07/DebraStacey_PZNI.jpg
END:VEVENT
END:VCALENDAR