BEGIN:VCALENDAR
VERSION:2.0
PRODID:-//About Marbella - ECPv6.8.0//NONSGML v1.0//EN
CALSCALE:GREGORIAN
METHOD:PUBLISH
X-WR-CALNAME:About Marbella
X-ORIGINAL-URL:https://aboutmarbella.com
X-WR-CALDESC:Events for About Marbella
REFRESH-INTERVAL;VALUE=DURATION:PT1H
X-Robots-Tag:noindex
X-PUBLISHED-TTL:PT1H
BEGIN:VTIMEZONE
TZID:Europe/Madrid
BEGIN:DAYLIGHT
TZOFFSETFROM:+0100
TZOFFSETTO:+0200
TZNAME:CEST
DTSTART:20240331T010000
END:DAYLIGHT
BEGIN:STANDARD
TZOFFSETFROM:+0200
TZOFFSETTO:+0100
TZNAME:CET
DTSTART:20241027T010000
END:STANDARD
END:VTIMEZONE
BEGIN:VEVENT
DTSTART;TZID=Europe/Madrid:20240812T220000
DTEND;TZID=Europe/Madrid:20240812T233000
DTSTAMP:20260424T143540
CREATED:20240723T212045Z
LAST-MODIFIED:20240725T163117Z
UID:10000097-1723500000-1723505400@aboutmarbella.com
SUMMARY:Starlite Marbella
DESCRIPTION:TABURETE
URL:https://aboutmarbella.com/evento/taburete/
LOCATION:Starlite Marbella\, C. Albinoni\, s/n\, Marbella\, Malaga\, 29602\, España
ATTACH;FMTTYPE=image/jpeg:https://aboutmarbella.com/wp-content/uploads/2024/07/a629292fcf0841946a287ca0744eef6f_koobin_800x774_385_374_crop_1.jpg
END:VEVENT
BEGIN:VEVENT
DTSTART;TZID=Europe/Madrid:20240812T200000
DTEND;TZID=Europe/Madrid:20240812T230000
DTSTAMP:20260424T143540
CREATED:20240723T175637Z
LAST-MODIFIED:20240725T163137Z
UID:10000045-1723492800-1723503600@aboutmarbella.com
SUMMARY:La Sala Puerto Banus
DESCRIPTION:Peet Rothwell\n  \nPeet has a wonderful mature vocal voice. His repertoire includes songs from the 50’s and 60’s right up to modern day pop classics. \nPeet tiene una voz maravillosa y madura. Su repertorio incluye canciones de los años 50 y 60 hasta los clásicos del pop de hoy en día.
URL:https://aboutmarbella.com/evento/peet-rothwell/
LOCATION:La Sala Puerto Banus\, C. Juan Belmonte\, s/n\, Marbella\, Marbella\, 29660\, España
ATTACH;FMTTYPE=image/jpeg:https://aboutmarbella.com/wp-content/uploads/2024/07/PeetRothwell.jpg
END:VEVENT
BEGIN:VEVENT
DTSTART;TZID=Europe/Madrid:20240812T120000
DTEND;TZID=Europe/Madrid:20240812T233000
DTSTAMP:20260424T143540
CREATED:20240729T173948Z
LAST-MODIFIED:20240729T173948Z
UID:10000199-1723464000-1723505400@aboutmarbella.com
SUMMARY:PLAYA PADRE
DESCRIPTION:CHAKRA\nEvery Tuesday\nNANO GARRIDO\nFrom 12:00h\n 
URL:https://aboutmarbella.com/evento/playa-padre-2/2024-08-12/
LOCATION:Playa Padre\, s/n\, Calle playa del cable\, Marbella\, Malaga\, 29603\, España
ATTACH;FMTTYPE=image/png:https://aboutmarbella.com/wp-content/uploads/2024/07/1721919311_02_CHAKRA_WEB-1400-sh6pfz.png
END:VEVENT
BEGIN:VEVENT
DTSTART;TZID=Europe/Madrid:20240812T120000
DTEND;TZID=Europe/Madrid:20240812T200000
DTSTAMP:20260424T143540
CREATED:20240729T195852Z
LAST-MODIFIED:20240729T195852Z
UID:10000672-1723464000-1723492800@aboutmarbella.com
SUMMARY:Mogli The Key
DESCRIPTION:MOGLI X WETT
URL:https://aboutmarbella.com/evento/mogli-the-key/2024-08-12/
LOCATION:Mogli The Key\, Av. del Prado\, 37\, Marbella\, Malaga\, 29660\, España
ATTACH;FMTTYPE=image/jpeg:https://aboutmarbella.com/wp-content/uploads/2024/07/Imagen-de-WhatsApp-2024-07-29-a-las-21.51.03_660fae3f.jpg
END:VEVENT
BEGIN:VEVENT
DTSTART;TZID=Europe/Madrid:20240812T110000
DTEND;TZID=Europe/Madrid:20240812T210000
DTSTAMP:20260424T143540
CREATED:20240729T183718Z
LAST-MODIFIED:20240729T183718Z
UID:10000488-1723460400-1723496400@aboutmarbella.com
SUMMARY:La Sala By The Sea
DESCRIPTION:MANTRA\nDJ BEN CULLUM
URL:https://aboutmarbella.com/evento/la-sala-by-the-sea/2024-08-12/
LOCATION:La Sala By The Sea\, Av José Banús\, Marbella\, Malaga\, 29660\, España
ATTACH;FMTTYPE=image/jpeg:https://aboutmarbella.com/wp-content/uploads/2024/07/monday24.jpg
END:VEVENT
BEGIN:VEVENT
DTSTART;TZID=Europe/Madrid:20240811T233000
DTEND;TZID=Europe/Madrid:20240812T070000
DTSTAMP:20260424T143540
CREATED:20240724T104826Z
LAST-MODIFIED:20240725T163324Z
UID:10000156-1723419000-1723446000@aboutmarbella.com
SUMMARY:Tibu Puerto Banus
DESCRIPTION:BABYLON EVENTS\n  \nBabylon events presents a night of house\, Hip-Hop\, RnB\, Afrobeats\, and more with resident and guest artists to be announced.
URL:https://aboutmarbella.com/evento/babylon-events-2/
LOCATION:Tibu Marbella\, Pl. de Antonio Banderas\, 34\, 35\,36\,37\, Marbella\, Malaga\, 29660\, España
ATTACH;FMTTYPE=image/png:https://aboutmarbella.com/wp-content/uploads/2024/07/babylon-sunday-2024-1024x1024-2.png
END:VEVENT
BEGIN:VEVENT
DTSTART;TZID=Europe/Madrid:20240811T200000
DTEND;TZID=Europe/Madrid:20240811T230000
DTSTAMP:20260424T143540
CREATED:20240723T175425Z
LAST-MODIFIED:20240725T163346Z
UID:10000044-1723406400-1723417200@aboutmarbella.com
SUMMARY:La Sala Puerto Banus
DESCRIPTION:Wall Street Band\n  \nWall Street are our sensational resident house rock band performing the best indie rock\, pop & dance hits. Famous on the Costa Del Sol\, they even supported the Kaiser Chiefs in concert back in 2016. \nWall Street Band es nuestra sensaional banda de rock residente\, que interpreta los mejores éxitos del indie\, rock\, pop y dance. Famosos en la Costa del Sol\, incluso telonearon a los Kaiser Chiefs en un concierto en 2016.
URL:https://aboutmarbella.com/evento/wall-street-band-3/
LOCATION:La Sala Puerto Banus\, C. Juan Belmonte\, s/n\, Marbella\, Marbella\, 29660\, España
ATTACH;FMTTYPE=image/jpeg:https://aboutmarbella.com/wp-content/uploads/2024/07/WallStBand.jpg
END:VEVENT
BEGIN:VEVENT
DTSTART;TZID=Europe/Madrid:20240811T180000
DTEND;TZID=Europe/Madrid:20240811T180000
DTSTAMP:20260424T143540
CREATED:20240724T175453Z
LAST-MODIFIED:20240725T163448Z
UID:10000185-1723399200-1723399200@aboutmarbella.com
SUMMARY:Marbella Arena
DESCRIPTION:Noche de Drum n Bass Club Night\n  \n¿Estás listo para disfrutar de los ritmos que trascienden generaciones? \nSi eres un fiestero experimentado o alguien que busca las vibraciones más frescas\, ¡tenemos algo increíble preparado solo para ti! \nPrepárate para experimentar la fusión definitiva de leyendas de DJ de la época dorada con los talentos más nuevos listos para prender fuego a los platos. \nDesde sus inicios en la escena de la música dance del Reino Unido hasta el día de hoy\, ¡Prometemos el mayor cartel de D ‘n’ B que España haya visto jamás!
URL:https://aboutmarbella.com/evento/noche-de-drum-n-bass-club/
LOCATION:Marbella Arena\, Avda. Pilar Calvo\, 28\, Nueva Andalucía\, Malaga\, 29660\, España
ATTACH;FMTTYPE=image/webp:https://aboutmarbella.com/wp-content/uploads/2024/07/drum-n-bass-club-night.webp
END:VEVENT
BEGIN:VEVENT
DTSTART;TZID=Europe/Madrid:20240811T140000
DTEND;TZID=Europe/Madrid:20240811T170000
DTSTAMP:20260424T143540
CREATED:20240723T175309Z
LAST-MODIFIED:20240725T163507Z
UID:10000043-1723384800-1723395600@aboutmarbella.com
SUMMARY:La Sala Puerto Banus
DESCRIPTION:Zoe Louise\n  \nOur youngest singer with a stunning voice. Zoe has been performing at La Sala Puerto Banús for over five years. Her material includes the best hits from soul\, pop and current chart hits. \nNuestra cantante más joven con una voz maravillosa. Zoe ha estado interpretando enLa Sala Puerto Banús desde hace más de cinco años. Su repertorio incluye los mejores éxitos del soul\, pop y los éxitos comerciales del momento.
URL:https://aboutmarbella.com/evento/zoe-louise-4/
LOCATION:La Sala Puerto Banus\, C. Juan Belmonte\, s/n\, Marbella\, Marbella\, 29660\, España
ATTACH;FMTTYPE=image/jpeg:https://aboutmarbella.com/wp-content/uploads/2024/07/Zoe.jpg
END:VEVENT
BEGIN:VEVENT
DTSTART;TZID=Europe/Madrid:20240811T120000
DTEND;TZID=Europe/Madrid:20240811T200000
DTSTAMP:20260424T143540
CREATED:20240729T201205Z
LAST-MODIFIED:20240729T201205Z
UID:10000800-1723377600-1723406400@aboutmarbella.com
SUMMARY:Mogli The Key
DESCRIPTION:MOGLI X CERTTI
URL:https://aboutmarbella.com/evento/mogli-the-key-7/2024-08-11/
LOCATION:Mogli The Key\, Av. del Prado\, 37\, Marbella\, Malaga\, 29660\, España
ATTACH;FMTTYPE=image/jpeg:https://aboutmarbella.com/wp-content/uploads/2024/07/Imagen-de-WhatsApp-2024-07-29-a-las-21.51.03_8c08939d.jpg
END:VEVENT
BEGIN:VEVENT
DTSTART;TZID=Europe/Madrid:20240811T110000
DTEND;TZID=Europe/Madrid:20240811T210000
DTSTAMP:20260424T143540
CREATED:20240729T193513Z
LAST-MODIFIED:20240729T193513Z
UID:10000654-1723374000-1723410000@aboutmarbella.com
SUMMARY:Ocean Club Marbella
DESCRIPTION:TROPICANA
URL:https://aboutmarbella.com/evento/ocean-club-marbella-3/2024-08-11/
LOCATION:Ocean Club Marbella\, Avda. Lola Flores s/n\, Marbella\, Malaga\, 29660\, España
ATTACH;FMTTYPE=image/jpeg:https://aboutmarbella.com/wp-content/uploads/2024/07/Imagen-de-WhatsApp-2024-07-29-a-las-21.20.06_69df9ac5.jpg
END:VEVENT
BEGIN:VEVENT
DTSTART;TZID=Europe/Madrid:20240811T110000
DTEND;TZID=Europe/Madrid:20240811T210000
DTSTAMP:20260424T143540
CREATED:20240729T185242Z
LAST-MODIFIED:20240729T185242Z
UID:10000588-1723374000-1723410000@aboutmarbella.com
SUMMARY:La Sala By The Sea
DESCRIPTION:CARNIVAL\nJOSE GALLANO\nJOEL SAX
URL:https://aboutmarbella.com/evento/la-sala-by-the-sea-7/2024-08-11/
LOCATION:La Sala By The Sea\, Av José Banús\, Marbella\, Malaga\, 29660\, España
ATTACH;FMTTYPE=image/jpeg:https://aboutmarbella.com/wp-content/uploads/2024/07/sunday24.jpg
END:VEVENT
BEGIN:VEVENT
DTSTART;TZID=Europe/Madrid:20240810T233000
DTEND;TZID=Europe/Madrid:20240811T070000
DTSTAMP:20260424T143540
CREATED:20240724T104721Z
LAST-MODIFIED:20240725T163529Z
UID:10000155-1723332600-1723359600@aboutmarbella.com
SUMMARY:Tibu Puerto Banus
DESCRIPTION:LA CAPITALE\n  \nVenant De La Capitale Presents De La Capitale – from Paris to Marbella with DJ Babs\, Alak Jackson & special guests playing the finest in urban\, French\, hip-hop\, and RnB music all night long! Experience Marbella’s premier nightlife at the best nightclub in town. Elevate your evening with unmatched ambiance\, top-notch music\, and unforgettable memories. Join the TIBU tribe for an extraordinary night out!
URL:https://aboutmarbella.com/evento/la-capitale/
LOCATION:Tibu Marbella\, Pl. de Antonio Banderas\, 34\, 35\,36\,37\, Marbella\, Malaga\, 29660\, España
ATTACH;FMTTYPE=image/jpeg:https://aboutmarbella.com/wp-content/uploads/2024/07/LA-Capitale-saturdays-french.jpg
END:VEVENT
BEGIN:VEVENT
DTSTART;TZID=Europe/Madrid:20240810T220000
DTEND;TZID=Europe/Madrid:20240810T220000
DTSTAMP:20260424T143540
CREATED:20240723T211916Z
LAST-MODIFIED:20240725T163549Z
UID:10000096-1723327200-1723327200@aboutmarbella.com
SUMMARY:Starlite Marbella
DESCRIPTION:NICK CARTER
URL:https://aboutmarbella.com/evento/nick-carter/
LOCATION:Starlite Marbella\, C. Albinoni\, s/n\, Marbella\, Malaga\, 29602\, España
ATTACH;FMTTYPE=image/jpeg:https://aboutmarbella.com/wp-content/uploads/2024/07/07f14bfedc89341956879aa03b76f6fc_koobin_800x774_385_374_crop_1.jpg
END:VEVENT
BEGIN:VEVENT
DTSTART;TZID=Europe/Madrid:20240810T200000
DTEND;TZID=Europe/Madrid:20240810T230000
DTSTAMP:20260424T143540
CREATED:20240723T175159Z
LAST-MODIFIED:20240725T163613Z
UID:10000042-1723320000-1723330800@aboutmarbella.com
SUMMARY:La Sala Puerto Banus
DESCRIPTION:Diva Fever
URL:https://aboutmarbella.com/evento/diva-fever-2/
LOCATION:La Sala Puerto Banus\, C. Juan Belmonte\, s/n\, Marbella\, Marbella\, 29660\, España
ATTACH;FMTTYPE=image/jpeg:https://aboutmarbella.com/wp-content/uploads/2024/07/divafever_blAy.jpg
END:VEVENT
BEGIN:VEVENT
DTSTART;TZID=Europe/Madrid:20240810T200000
DTEND;TZID=Europe/Madrid:20240810T230000
DTSTAMP:20260424T143540
CREATED:20240723T175043Z
LAST-MODIFIED:20240725T163636Z
UID:10000041-1723320000-1723330800@aboutmarbella.com
SUMMARY:La Sala Puerto Banus
DESCRIPTION:Joey Sax & DJ Lady Jade
URL:https://aboutmarbella.com/evento/joey-sax-dj-lady-jade-3/
LOCATION:La Sala Puerto Banus\, C. Juan Belmonte\, s/n\, Marbella\, Marbella\, 29660\, España
ATTACH;FMTTYPE=image/jpeg:https://aboutmarbella.com/wp-content/uploads/2024/07/JoeySax-LadyJade.jpg
END:VEVENT
BEGIN:VEVENT
DTSTART;TZID=Europe/Madrid:20240810T180000
DTEND;TZID=Europe/Madrid:20240810T180000
DTSTAMP:20260424T143541
CREATED:20240724T175322Z
LAST-MODIFIED:20240725T163710Z
UID:10000186-1723312800-1723312800@aboutmarbella.com
SUMMARY:Marbella Arena
DESCRIPTION:Pete Tong Ibiza Classics\n  \nEsta noche única reúne un caleidoscopio de culturas\, una sinfonía de tradiciones que convergen en armonía bajo un cielo resplandeciente. \nCuando la Orquesta de Ibiza sube al escenario\, sus melodías se convierten en el lenguaje universal que une generaciones\, salvando distancias y creando momentos en los que el tiempo parece detenerse. \nLos ritmos palpitantes y las melodías electrizantes tejen un tapiz de sonidos\, atrayendo a jóvenes y mayores por igual\, transportándolos a un reino donde la música trasciende las fronteras y la alegría de la noche se convierte en una experiencia compartida grabada en los recuerdos.
URL:https://aboutmarbella.com/evento/pete-tong-ibiza-classics/
LOCATION:Marbella Arena\, Avda. Pilar Calvo\, 28\, Nueva Andalucía\, Malaga\, 29660\, España
ATTACH;FMTTYPE=image/webp:https://aboutmarbella.com/wp-content/uploads/2024/07/Pete-Tong-SQUARE-website-1.webp
END:VEVENT
BEGIN:VEVENT
DTSTART;TZID=Europe/Madrid:20240810T120000
DTEND;TZID=Europe/Madrid:20240810T233000
DTSTAMP:20260424T143541
CREATED:20240729T174713Z
LAST-MODIFIED:20240729T174713Z
UID:10000391-1723291200-1723332600@aboutmarbella.com
SUMMARY:PLAYA PADRE
DESCRIPTION:VALE\nEvery Saturday\nARTCHITEC\nFrom 12:00h\n 
URL:https://aboutmarbella.com/evento/playa-padre-6/2024-08-10/
LOCATION:Playa Padre\, s/n\, Calle playa del cable\, Marbella\, Malaga\, 29603\, España
ATTACH;FMTTYPE=image/png:https://aboutmarbella.com/wp-content/uploads/2024/07/1722264332_06_VALEWEB2024PP-1400-she3nx.png
END:VEVENT
BEGIN:VEVENT
DTSTART;TZID=Europe/Madrid:20240810T120000
DTEND;TZID=Europe/Madrid:20240810T200000
DTSTAMP:20260424T143541
CREATED:20240729T201032Z
LAST-MODIFIED:20240729T201032Z
UID:10000781-1723291200-1723320000@aboutmarbella.com
SUMMARY:Mogli The Key
DESCRIPTION:MOGLI X LOVEJUICE\n 
URL:https://aboutmarbella.com/evento/mogli-the-key-6/2024-08-10/
LOCATION:Mogli The Key\, Av. del Prado\, 37\, Marbella\, Malaga\, 29660\, España
ATTACH;FMTTYPE=image/jpeg:https://aboutmarbella.com/wp-content/uploads/2024/07/Imagen-de-WhatsApp-2024-07-29-a-las-21.51.03_83676e95.jpg
END:VEVENT
BEGIN:VEVENT
DTSTART;TZID=Europe/Madrid:20240810T120000
DTEND;TZID=Europe/Madrid:20240810T170000
DTSTAMP:20260424T143541
CREATED:20240723T174857Z
LAST-MODIFIED:20240725T163735Z
UID:10000040-1723291200-1723309200@aboutmarbella.com
SUMMARY:La Sala Puerto Banus
DESCRIPTION:Paige Lefley
URL:https://aboutmarbella.com/evento/paige-lefley-2/
LOCATION:La Sala Puerto Banus\, C. Juan Belmonte\, s/n\, Marbella\, Marbella\, 29660\, España
ATTACH;FMTTYPE=image/jpeg:https://aboutmarbella.com/wp-content/uploads/2024/07/paigelefley_aOQX.jpg
END:VEVENT
BEGIN:VEVENT
DTSTART;TZID=Europe/Madrid:20240810T110000
DTEND;TZID=Europe/Madrid:20240810T210000
DTSTAMP:20260424T143541
CREATED:20240729T185058Z
LAST-MODIFIED:20240729T185058Z
UID:10000570-1723287600-1723323600@aboutmarbella.com
SUMMARY:La Sala By The Sea
DESCRIPTION:SAMUI\nSCOTT STRUTTOON \nSHAYNE G1VEN \nJOEY SAX
URL:https://aboutmarbella.com/evento/la-sala-by-the-sea-6/2024-08-10/
LOCATION:La Sala By The Sea\, Av José Banús\, Marbella\, Malaga\, 29660\, España
ATTACH;FMTTYPE=image/jpeg:https://aboutmarbella.com/wp-content/uploads/2024/07/saturday24.jpg
END:VEVENT
BEGIN:VEVENT
DTSTART;TZID=Europe/Madrid:20240809T233000
DTEND;TZID=Europe/Madrid:20240810T070000
DTSTAMP:20260424T143541
CREATED:20240724T104155Z
LAST-MODIFIED:20240725T163755Z
UID:10000154-1723246200-1723273200@aboutmarbella.com
SUMMARY:Tibu Puerto Banus
DESCRIPTION:MAYFAIR SESSIONS – DJ JORDAN VALLEYS\n  \nSummer 2024 sees the return of The Mayfair Sessions for season number 9 in Marbella.  Hosting their flagship Friday Sessions every week at Marbella’s number one nightclub Tibu Marbella.  With acts previously such as Stormzy\, Craig David\, French Montana\, Trey Songz\, Sean Paul\, K Trap\, D Block Europe\, you can expect nothing but BIG names and great vibes.You can catch Jordan Valleys and DJ Fourty playing the best in RnB\, Hip Hop\, House\, Afrobeat each and every week.
URL:https://aboutmarbella.com/evento/mayfair-sessions-dj-jordan-valleys-2/
LOCATION:Tibu Marbella\, Pl. de Antonio Banderas\, 34\, 35\,36\,37\, Marbella\, Malaga\, 29660\, España
ATTACH;FMTTYPE=image/jpeg:https://aboutmarbella.com/wp-content/uploads/2024/07/Mayfair-Sessions-2024-1.jpg
END:VEVENT
BEGIN:VEVENT
DTSTART;TZID=Europe/Madrid:20240809T220000
DTEND;TZID=Europe/Madrid:20240809T233000
DTSTAMP:20260424T143541
CREATED:20240723T210340Z
LAST-MODIFIED:20240725T163821Z
UID:10000095-1723240800-1723246200@aboutmarbella.com
SUMMARY:Starlite Marbella
DESCRIPTION:UB40 featuring ALI CAMPBELL
URL:https://aboutmarbella.com/evento/ub40-featuring-ali-campbell/
LOCATION:Starlite Marbella\, C. Albinoni\, s/n\, Marbella\, Malaga\, 29602\, España
ATTACH;FMTTYPE=image/jpeg:https://aboutmarbella.com/wp-content/uploads/2024/07/02bdc5ae9e1022e61bcba7480e00cab1_Koobin_800x774_385_374_crop_1.jpg
END:VEVENT
BEGIN:VEVENT
DTSTART;TZID=Europe/Madrid:20240809T213000
DTEND;TZID=Europe/Madrid:20240809T233000
DTSTAMP:20260424T143541
CREATED:20240723T174748Z
LAST-MODIFIED:20240725T163906Z
UID:10000039-1723239000-1723246200@aboutmarbella.com
SUMMARY:La Sala Puerto Banus
DESCRIPTION:Tony Capo\n  \nTony Capo is a professional singer and guitarist\, with over 15 years’ experience he is able to work the room performing his extensive repertoire. Tony always keeps the dance floor bouncing! \nTony Capo es un cantante y guitarrista profesional\, con más de 15 años de experiencia\, es capaz de conectarse con la audiencia con su amplio repertorio. Tony siempre llena de ritmo trepidante la pista de baile.
URL:https://aboutmarbella.com/evento/tony-capo-2/
LOCATION:La Sala Puerto Banus\, C. Juan Belmonte\, s/n\, Marbella\, Marbella\, 29660\, España
ATTACH;FMTTYPE=image/jpeg:https://aboutmarbella.com/wp-content/uploads/2024/07/2020-TonyCapo.jpg
END:VEVENT
BEGIN:VEVENT
DTSTART;TZID=Europe/Madrid:20240809T200000
DTEND;TZID=Europe/Madrid:20240809T233000
DTSTAMP:20260424T143541
CREATED:20240730T144408Z
LAST-MODIFIED:20240730T144408Z
UID:10000820-1723233600-1723246200@aboutmarbella.com
SUMMARY:Mercadillo Artesanal Benahavis
DESCRIPTION:MERCADILLO ARTESANAL DE BENAHAVÍS DE VERANO\n\nEste jueves 4 de julio se inaugura el Mercadillo Artesanal de Benahavís. Se instalará jueves y viernes de julio y agosto\, a partir de las ocho de la tarde y hasta medianoche\, en la Avenida de Andalucía.\nSerá un espacio abierto para disfrutar\, en las noches de verano\, del trabajo de nuestros artesanos.\nThis Thursday\, the 4th of July\, sees the inauguration of the Benahavís Craft Market. It will be on Thursday and Friday\, July to August\, from eight until midnight\, in the Avenida de Andalucía.\nIt will be an open space to enjoy\, on summer evenings\, the work of our artists.
URL:https://aboutmarbella.com/evento/mercadillo-artesanal-benahavis/2024-08-09/
LOCATION:Benahavis Mercadillo Artesanal\, Avenida de Andalucía\, 34\, Benahavis\, Malaga\, 29679\, España
ATTACH;FMTTYPE=image/jpeg:https://aboutmarbella.com/wp-content/uploads/2024/07/mercadillo-artesanal-verano.jpg
END:VEVENT
BEGIN:VEVENT
DTSTART;TZID=Europe/Madrid:20240809T200000
DTEND;TZID=Europe/Madrid:20240809T230000
DTSTAMP:20260424T143541
CREATED:20240723T174037Z
LAST-MODIFIED:20240725T163927Z
UID:10000038-1723233600-1723244400@aboutmarbella.com
SUMMARY:La Sala Puerto Banus
DESCRIPTION:Debra Stacey\n  \nDebra has over 20 years experience in the music business including working as a session singer with some very well known Artists\, not only in the studio but live shows as well. \nShe’s a versatile vocalist covering an eclectic mix of Genres including; Mixed Soul\, Funk\, Motown\, Club Classics and Jazz to name a few.
URL:https://aboutmarbella.com/evento/debra-stacey-3/
LOCATION:La Sala Puerto Banus\, C. Juan Belmonte\, s/n\, Marbella\, Marbella\, 29660\, España
ATTACH;FMTTYPE=image/jpeg:https://aboutmarbella.com/wp-content/uploads/2024/07/DebraStacey_PZNI.jpg
END:VEVENT
BEGIN:VEVENT
DTSTART;TZID=Europe/Madrid:20240809T190000
DTEND;TZID=Europe/Madrid:20240809T213000
DTSTAMP:20260424T143541
CREATED:20240723T173920Z
LAST-MODIFIED:20240725T163944Z
UID:10000037-1723230000-1723239000@aboutmarbella.com
SUMMARY:La Sala Puerto Banus
DESCRIPTION:Rose Phillipens
URL:https://aboutmarbella.com/evento/rose-phillipens-4/
LOCATION:La Sala Puerto Banus\, C. Juan Belmonte\, s/n\, Marbella\, Marbella\, 29660\, España
ATTACH;FMTTYPE=image/jpeg:https://aboutmarbella.com/wp-content/uploads/2024/07/RosePhillips_QrSa.jpg
END:VEVENT
BEGIN:VEVENT
DTSTART;TZID=Europe/Madrid:20240809T180000
DTEND;TZID=Europe/Madrid:20240809T180000
DTSTAMP:20260424T143541
CREATED:20240724T175150Z
LAST-MODIFIED:20240725T164018Z
UID:10000187-1723226400-1723226400@aboutmarbella.com
SUMMARY:Marbella Arena
DESCRIPTION:FIESTA Presenta Años 80 90 Y 2000 Música pop europea\n  \nLa velada perfecta que traerá recuerdos musicales de todas las generaciones. Prepárate para tus actuaciones favoritas de los años 80\, 90 y 2000 de toda Europa. \nEste evento musical contará con la galardonada boyband Blue\, el cantante inglés Chesney Hawkes y el DJ noruego CLMD. \nBlue es un grupo icónico que ha vendido 15 millones de discos en todo el mundo\, ha tenido 3 álbumes número 1\, 3 sencillos número 1 y 10 sencillos top 10 en el Reino Unido y acaban de salir de una gira con entradas agotadas. \nChesney Hawkes saltó a la fama con la canción “The One and Only”\, que encabezó la lista de singles del Reino Unido durante cinco semanas. \nCLMD es un productor musical\, DJ\, compositor\, artista y presentador de televisión noruego que ha tocado en toda Europa y América del Norte\, ha apoyado a Madonna y ha sido mentor en la versión noruega del programa de televisión The Voice. \nMadcon es un dúo musical noruego galardonado\, mejor conocido por su mayor éxito “Beggin'”. Su sencillo “Are You Ready” fue el tema oficial de los Juegos Mundiales de Olimpiadas Especiales en 2023. \nExclusivo en el Marbella Arena este verano\, presentado por FIESTA\, ¡esta es una noche que no te puedes perder!
URL:https://aboutmarbella.com/evento/anos-80-90-y-2000-musica-pop-europea/
LOCATION:Marbella Arena\, Avda. Pilar Calvo\, 28\, Nueva Andalucía\, Malaga\, 29660\, España
ATTACH;FMTTYPE=image/webp:https://aboutmarbella.com/wp-content/uploads/2024/07/3-generation_music-square.webp
END:VEVENT
BEGIN:VEVENT
DTSTART;TZID=Europe/Madrid:20240809T120000
DTEND;TZID=Europe/Madrid:20240809T233000
DTSTAMP:20260424T143541
CREATED:20240729T174516Z
LAST-MODIFIED:20240729T174516Z
UID:10000326-1723204800-1723246200@aboutmarbella.com
SUMMARY:PLAYA PADRE
DESCRIPTION:FRIDAY PADRE\nEvery Friday\nEMMERALD\nFrom 12:00h\n 
URL:https://aboutmarbella.com/evento/playa-padre-5/2024-08-09/
LOCATION:Playa Padre\, s/n\, Calle playa del cable\, Marbella\, Malaga\, 29603\, España
ATTACH;FMTTYPE=image/png:https://aboutmarbella.com/wp-content/uploads/2024/07/1722264227_05_FRIDAY_WEB-1400-she3kz.png
END:VEVENT
BEGIN:VEVENT
DTSTART;TZID=Europe/Madrid:20240809T120000
DTEND;TZID=Europe/Madrid:20240809T200000
DTSTAMP:20260424T143541
CREATED:20240729T200852Z
LAST-MODIFIED:20240729T200852Z
UID:10000759-1723204800-1723233600@aboutmarbella.com
SUMMARY:Mogli The Key
DESCRIPTION:MOGLI X BABYLON
URL:https://aboutmarbella.com/evento/mogli-the-key-5/2024-08-09/
LOCATION:Mogli The Key\, Av. del Prado\, 37\, Marbella\, Malaga\, 29660\, España
ATTACH;FMTTYPE=image/jpeg:https://aboutmarbella.com/wp-content/uploads/2024/07/Imagen-de-WhatsApp-2024-07-29-a-las-21.51.03_9785ec9a.jpg
END:VEVENT
END:VCALENDAR