BEGIN:VCALENDAR
VERSION:2.0
PRODID:-//About Marbella - ECPv6.8.0//NONSGML v1.0//EN
CALSCALE:GREGORIAN
METHOD:PUBLISH
X-WR-CALNAME:About Marbella
X-ORIGINAL-URL:https://aboutmarbella.com
X-WR-CALDESC:Events for About Marbella
REFRESH-INTERVAL;VALUE=DURATION:PT1H
X-Robots-Tag:noindex
X-PUBLISHED-TTL:PT1H
BEGIN:VTIMEZONE
TZID:Europe/Madrid
BEGIN:DAYLIGHT
TZOFFSETFROM:+0100
TZOFFSETTO:+0200
TZNAME:CEST
DTSTART:20240331T010000
END:DAYLIGHT
BEGIN:STANDARD
TZOFFSETFROM:+0200
TZOFFSETTO:+0100
TZNAME:CET
DTSTART:20241027T010000
END:STANDARD
END:VTIMEZONE
BEGIN:VEVENT
DTSTART;TZID=Europe/Madrid:20240901T110000
DTEND;TZID=Europe/Madrid:20240901T210000
DTSTAMP:20260424T014514
CREATED:20240729T193513Z
LAST-MODIFIED:20240729T193513Z
UID:10000657-1725188400-1725224400@aboutmarbella.com
SUMMARY:Ocean Club Marbella
DESCRIPTION:TROPICANA
URL:https://aboutmarbella.com/evento/ocean-club-marbella-3/2024-09-01/
LOCATION:Ocean Club Marbella\, Avda. Lola Flores s/n\, Marbella\, Malaga\, 29660\, España
ATTACH;FMTTYPE=image/jpeg:https://aboutmarbella.com/wp-content/uploads/2024/07/Imagen-de-WhatsApp-2024-07-29-a-las-21.20.06_69df9ac5.jpg
END:VEVENT
BEGIN:VEVENT
DTSTART;TZID=Europe/Madrid:20240901T110000
DTEND;TZID=Europe/Madrid:20240901T210000
DTSTAMP:20260424T014514
CREATED:20240729T185242Z
LAST-MODIFIED:20240729T185242Z
UID:10000591-1725188400-1725224400@aboutmarbella.com
SUMMARY:La Sala By The Sea
DESCRIPTION:CARNIVAL\nJOSE GALLANO\nJOEL SAX
URL:https://aboutmarbella.com/evento/la-sala-by-the-sea-7/2024-09-01/
LOCATION:La Sala By The Sea\, Av José Banús\, Marbella\, Malaga\, 29660\, España
ATTACH;FMTTYPE=image/jpeg:https://aboutmarbella.com/wp-content/uploads/2024/07/sunday24.jpg
END:VEVENT
BEGIN:VEVENT
DTSTART;TZID=Europe/Madrid:20240831T233000
DTEND;TZID=Europe/Madrid:20240831T233000
DTSTAMP:20260424T014514
CREATED:20240724T213027Z
LAST-MODIFIED:20240725T154807Z
UID:10000122-1725147000-1725147000@aboutmarbella.com
SUMMARY:Starlite Marbella
DESCRIPTION:JUAN MAGÁN
URL:https://aboutmarbella.com/evento/juan-magan-4/
LOCATION:Starlite Marbella\, C. Albinoni\, s/n\, Marbella\, Malaga\, 29602\, España
ATTACH;FMTTYPE=image/jpeg:https://aboutmarbella.com/wp-content/uploads/2024/07/3b7e59a83a499cc01b8e4f1360c10aab_14-8_385_374_crop_1-2.jpg
END:VEVENT
BEGIN:VEVENT
DTSTART;TZID=Europe/Madrid:20240831T230000
DTEND;TZID=Europe/Madrid:20240831T230000
DTSTAMP:20260424T014514
CREATED:20240724T113509Z
LAST-MODIFIED:20240725T154834Z
UID:10000175-1725145200-1725145200@aboutmarbella.com
SUMMARY:Tibu Puerto Banus
DESCRIPTION:LA CAPITALE\n  \nVenant De La Capitale Presents De La Capitale – from Paris to Marbella with DJ Babs\, Alak Jackson & special guests playing the finest in urban\, French\, hip-hop\, and RnB music all night long! Experience Marbella’s premier nightlife at the best nightclub in town. Elevate your evening with unmatched ambiance\, top-notch music\, and unforgettable memories. Join the TIBU tribe for an extraordinary night out!
URL:https://aboutmarbella.com/evento/la-capitale-3/
LOCATION:Tibu Marbella\, Pl. de Antonio Banderas\, 34\, 35\,36\,37\, Marbella\, Malaga\, 29660\, España
END:VEVENT
BEGIN:VEVENT
DTSTART;TZID=Europe/Madrid:20240831T223000
DTEND;TZID=Europe/Madrid:20240831T233000
DTSTAMP:20260424T014514
CREATED:20240723T221246Z
LAST-MODIFIED:20240725T154900Z
UID:10000121-1725143400-1725147000@aboutmarbella.com
SUMMARY:Starlite Marbella
DESCRIPTION:HOMBRES G
URL:https://aboutmarbella.com/evento/hombres-g/
LOCATION:Starlite Marbella\, C. Albinoni\, s/n\, Marbella\, Malaga\, 29602\, España
ATTACH;FMTTYPE=image/jpeg:https://aboutmarbella.com/wp-content/uploads/2024/07/1f7c4f63071c2b04e3e293dea0546d0c_koobin_800x774_385_374_crop_1.jpg
END:VEVENT
BEGIN:VEVENT
DTSTART;TZID=Europe/Madrid:20240831T200000
DTEND;TZID=Europe/Madrid:20240831T230000
DTSTAMP:20260424T014514
CREATED:20240723T190306Z
LAST-MODIFIED:20240725T154931Z
UID:10000083-1725134400-1725145200@aboutmarbella.com
SUMMARY:La Sala Puerto Banus
DESCRIPTION:Diva Fever
URL:https://aboutmarbella.com/evento/diva-fever-6/
LOCATION:La Sala Puerto Banus\, C. Juan Belmonte\, s/n\, Marbella\, Marbella\, 29660\, España
ATTACH;FMTTYPE=image/jpeg:https://aboutmarbella.com/wp-content/uploads/2024/07/divafever_blAy.jpg
END:VEVENT
BEGIN:VEVENT
DTSTART;TZID=Europe/Madrid:20240831T200000
DTEND;TZID=Europe/Madrid:20240831T230000
DTSTAMP:20260424T014514
CREATED:20240723T190149Z
LAST-MODIFIED:20240725T154953Z
UID:10000082-1725134400-1725145200@aboutmarbella.com
SUMMARY:La Sala Puerto Banus
DESCRIPTION:Joey Sax &amp; DJ Lady Jade
URL:https://aboutmarbella.com/evento/joey-sax-dj-lady-jade-6/
LOCATION:La Sala Puerto Banus\, C. Juan Belmonte\, s/n\, Marbella\, Marbella\, 29660\, España
ATTACH;FMTTYPE=image/jpeg:https://aboutmarbella.com/wp-content/uploads/2024/07/JoeySax-LadyJade.jpg
END:VEVENT
BEGIN:VEVENT
DTSTART;TZID=Europe/Madrid:20240831T193000
DTEND;TZID=Europe/Madrid:20240831T233000
DTSTAMP:20260424T014514
CREATED:20240724T180316Z
LAST-MODIFIED:20240725T155021Z
UID:10000179-1725132600-1725147000@aboutmarbella.com
SUMMARY:Marbella Arena
DESCRIPTION:JIMMY CARR: LAUGHS FUNNY\n  \nSi te gustan los chistes rápidos y mordaces\, prepárate para reír. Jimmy Carr vuelve a estar de gira con su nuevo espectáculo «Jimmy Carr: Laughs Funny». \nJimmy cuenta chistes\, y los chistes son como imanes.\nLos chistes atraen a la gente\, pero también pueden repeler.\nA algunas personas les repele el humor negro de Jimmy. Este show no es para esas personas. \nPero si es el tipo de cosa que te gusta\, entonces este es el tipo de cosa que te gustará. \nJimmy Carr: Laughs Funny’ serán 90 minutos de risas sin descanso. \n*Show íntegro en inglés
URL:https://aboutmarbella.com/evento/jimmy-carr-laughs-funny/
LOCATION:Marbella Arena\, Avda. Pilar Calvo\, 28\, Nueva Andalucía\, Malaga\, 29660\, España
ATTACH;FMTTYPE=image/jpeg:https://aboutmarbella.com/wp-content/uploads/2024/07/jimmy-carr-mob.jpg
END:VEVENT
BEGIN:VEVENT
DTSTART;TZID=Europe/Madrid:20240831T120000
DTEND;TZID=Europe/Madrid:20240831T233000
DTSTAMP:20260424T014514
CREATED:20240729T174713Z
LAST-MODIFIED:20240729T174713Z
UID:10000394-1725105600-1725147000@aboutmarbella.com
SUMMARY:PLAYA PADRE
DESCRIPTION:VALE\nEvery Saturday\nARTCHITEC\nFrom 12:00h\n 
URL:https://aboutmarbella.com/evento/playa-padre-6/2024-08-31/
LOCATION:Playa Padre\, s/n\, Calle playa del cable\, Marbella\, Malaga\, 29603\, España
ATTACH;FMTTYPE=image/png:https://aboutmarbella.com/wp-content/uploads/2024/07/1722264332_06_VALEWEB2024PP-1400-she3nx.png
END:VEVENT
BEGIN:VEVENT
DTSTART;TZID=Europe/Madrid:20240831T120000
DTEND;TZID=Europe/Madrid:20240831T200000
DTSTAMP:20260424T014514
CREATED:20240729T201032Z
LAST-MODIFIED:20240729T201032Z
UID:10000784-1725105600-1725134400@aboutmarbella.com
SUMMARY:Mogli The Key
DESCRIPTION:MOGLI X LOVEJUICE\n 
URL:https://aboutmarbella.com/evento/mogli-the-key-6/2024-08-31/
LOCATION:Mogli The Key\, Av. del Prado\, 37\, Marbella\, Malaga\, 29660\, España
ATTACH;FMTTYPE=image/jpeg:https://aboutmarbella.com/wp-content/uploads/2024/07/Imagen-de-WhatsApp-2024-07-29-a-las-21.51.03_83676e95.jpg
END:VEVENT
BEGIN:VEVENT
DTSTART;TZID=Europe/Madrid:20240831T120000
DTEND;TZID=Europe/Madrid:20240831T150000
DTSTAMP:20260424T014514
CREATED:20240723T190018Z
LAST-MODIFIED:20240725T155051Z
UID:10000081-1725105600-1725116400@aboutmarbella.com
SUMMARY:La Sala Puerto Banus
DESCRIPTION:Debra Stacey\n  \nDebra has over 20 years experience in the music business including working as a session singer with some very well known Artists\, not only in the studio but live shows as well. \nShe’s a versatile vocalist covering an eclectic mix of Genres including; Mixed Soul\, Funk\, Motown\, Club Classics and Jazz to name a few.
URL:https://aboutmarbella.com/evento/debra-stacey-7/
LOCATION:La Sala Puerto Banus\, C. Juan Belmonte\, s/n\, Marbella\, Marbella\, 29660\, España
ATTACH;FMTTYPE=image/jpeg:https://aboutmarbella.com/wp-content/uploads/2024/07/DebraStacey_PZNI.jpg
END:VEVENT
BEGIN:VEVENT
DTSTART;TZID=Europe/Madrid:20240831T110000
DTEND;TZID=Europe/Madrid:20240831T210000
DTSTAMP:20260424T014514
CREATED:20240729T185058Z
LAST-MODIFIED:20240729T185058Z
UID:10000573-1725102000-1725138000@aboutmarbella.com
SUMMARY:La Sala By The Sea
DESCRIPTION:SAMUI\nSCOTT STRUTTOON \nSHAYNE G1VEN \nJOEY SAX
URL:https://aboutmarbella.com/evento/la-sala-by-the-sea-6/2024-08-31/
LOCATION:La Sala By The Sea\, Av José Banús\, Marbella\, Malaga\, 29660\, España
ATTACH;FMTTYPE=image/jpeg:https://aboutmarbella.com/wp-content/uploads/2024/07/saturday24.jpg
END:VEVENT
BEGIN:VEVENT
DTSTART;TZID=Europe/Madrid:20240830T230000
DTEND;TZID=Europe/Madrid:20240830T230000
DTSTAMP:20260424T014515
CREATED:20240724T113309Z
LAST-MODIFIED:20240725T155141Z
UID:10000174-1725058800-1725058800@aboutmarbella.com
SUMMARY:Tibu Puerto Banus
DESCRIPTION:MAYFAIR SESSIONS\n  \nGet ready for the much-anticipated comeback of The Mayfair Sessions in Summer 2024\, marking its ninth season in Marbella. Join us every week at Marbella’s premier nightclub\, Tibu Marbella\, for the flagship Friday Sessions. Prepare for an unforgettable experience with a lineup boasting BIG names such as Stormzy\, Craig David\, French Montana\, Trey Songz\, Sean Paul\, K Trap\, D Block Europe\, and more. Enjoy great vibes as Jordan Valleys and DJ Fourty spin the best of RnB\, Hip Hop\, House\, and Afrobeat each and every week. The summer of 2024 promises to be filled with sensational music and unforgettable moments.
URL:https://aboutmarbella.com/evento/mayfair-sessions/
LOCATION:Tibu Marbella\, Pl. de Antonio Banderas\, 34\, 35\,36\,37\, Marbella\, Malaga\, 29660\, España
ATTACH;FMTTYPE=image/jpeg:https://aboutmarbella.com/wp-content/uploads/2024/07/Mayfair-Sessions-2024-2.jpg
END:VEVENT
BEGIN:VEVENT
DTSTART;TZID=Europe/Madrid:20240830T220000
DTEND;TZID=Europe/Madrid:20240830T233000
DTSTAMP:20260424T014515
CREATED:20240723T221127Z
LAST-MODIFIED:20240725T155211Z
UID:10000120-1725055200-1725060600@aboutmarbella.com
SUMMARY:Starlite Marbella
DESCRIPTION:JULIO IGLESIAS JR
URL:https://aboutmarbella.com/evento/julio-iglesias-jr/
LOCATION:Starlite Marbella\, C. Albinoni\, s/n\, Marbella\, Malaga\, 29602\, España
ATTACH;FMTTYPE=image/jpeg:https://aboutmarbella.com/wp-content/uploads/2024/07/68e39bbcdc575d0e2fc3a1b6180dd64b_koobin_800x774_385_374_crop_1.jpg
END:VEVENT
BEGIN:VEVENT
DTSTART;TZID=Europe/Madrid:20240830T213000
DTEND;TZID=Europe/Madrid:20240830T233000
DTSTAMP:20260424T014515
CREATED:20240723T185627Z
LAST-MODIFIED:20240725T155238Z
UID:10000080-1725053400-1725060600@aboutmarbella.com
SUMMARY:La Sala Puerto Banus
DESCRIPTION:Tony Capo\n  \nTony Capo is a professional singer and guitarist\, with over 15 years’ experience he is able to work the room performing his extensive repertoire. Tony always keeps the dance floor bouncing! \nTony Capo es un cantante y guitarrista profesional\, con más de 15 años de experiencia\, es capaz de conectarse con la audiencia con su amplio repertorio. Tony siempre llena de ritmo trepidante la pista de baile.
URL:https://aboutmarbella.com/evento/tony-capo-6/
LOCATION:La Sala Puerto Banus\, C. Juan Belmonte\, s/n\, Marbella\, Marbella\, 29660\, España
ATTACH;FMTTYPE=image/jpeg:https://aboutmarbella.com/wp-content/uploads/2024/07/2020-TonyCapo.jpg
END:VEVENT
BEGIN:VEVENT
DTSTART;TZID=Europe/Madrid:20240830T200000
DTEND;TZID=Europe/Madrid:20240830T233000
DTSTAMP:20260424T014515
CREATED:20240730T144408Z
LAST-MODIFIED:20240730T144408Z
UID:10000826-1725048000-1725060600@aboutmarbella.com
SUMMARY:Mercadillo Artesanal Benahavis
DESCRIPTION:MERCADILLO ARTESANAL DE BENAHAVÍS DE VERANO\n\nEste jueves 4 de julio se inaugura el Mercadillo Artesanal de Benahavís. Se instalará jueves y viernes de julio y agosto\, a partir de las ocho de la tarde y hasta medianoche\, en la Avenida de Andalucía.\nSerá un espacio abierto para disfrutar\, en las noches de verano\, del trabajo de nuestros artesanos.\nThis Thursday\, the 4th of July\, sees the inauguration of the Benahavís Craft Market. It will be on Thursday and Friday\, July to August\, from eight until midnight\, in the Avenida de Andalucía.\nIt will be an open space to enjoy\, on summer evenings\, the work of our artists.
URL:https://aboutmarbella.com/evento/mercadillo-artesanal-benahavis/2024-08-30/
LOCATION:Benahavis Mercadillo Artesanal\, Avenida de Andalucía\, 34\, Benahavis\, Malaga\, 29679\, España
ATTACH;FMTTYPE=image/jpeg:https://aboutmarbella.com/wp-content/uploads/2024/07/mercadillo-artesanal-verano.jpg
END:VEVENT
BEGIN:VEVENT
DTSTART;TZID=Europe/Madrid:20240830T200000
DTEND;TZID=Europe/Madrid:20240830T230000
DTSTAMP:20260424T014515
CREATED:20240723T185302Z
LAST-MODIFIED:20240725T155259Z
UID:10000079-1725048000-1725058800@aboutmarbella.com
SUMMARY:La Sala Puerto Banus
DESCRIPTION:Debra Stacey\n  \nDebra has over 20 years experience in the music business including working as a session singer with some very well known Artists\, not only in the studio but live shows as well. \nShe’s a versatile vocalist covering an eclectic mix of Genres including; Mixed Soul\, Funk\, Motown\, Club Classics and Jazz to name a few.
URL:https://aboutmarbella.com/evento/debra-stacey-6/
LOCATION:La Sala Puerto Banus\, C. Juan Belmonte\, s/n\, Marbella\, Marbella\, 29660\, España
ATTACH;FMTTYPE=image/jpeg:https://aboutmarbella.com/wp-content/uploads/2024/07/DebraStacey_PZNI.jpg
END:VEVENT
BEGIN:VEVENT
DTSTART;TZID=Europe/Madrid:20240830T120000
DTEND;TZID=Europe/Madrid:20240830T233000
DTSTAMP:20260424T014515
CREATED:20240729T174516Z
LAST-MODIFIED:20240729T174516Z
UID:10000329-1725019200-1725060600@aboutmarbella.com
SUMMARY:PLAYA PADRE
DESCRIPTION:FRIDAY PADRE\nEvery Friday\nEMMERALD\nFrom 12:00h\n 
URL:https://aboutmarbella.com/evento/playa-padre-5/2024-08-30/
LOCATION:Playa Padre\, s/n\, Calle playa del cable\, Marbella\, Malaga\, 29603\, España
ATTACH;FMTTYPE=image/png:https://aboutmarbella.com/wp-content/uploads/2024/07/1722264227_05_FRIDAY_WEB-1400-she3kz.png
END:VEVENT
BEGIN:VEVENT
DTSTART;TZID=Europe/Madrid:20240830T120000
DTEND;TZID=Europe/Madrid:20240830T200000
DTSTAMP:20260424T014515
CREATED:20240729T200852Z
LAST-MODIFIED:20240729T200852Z
UID:10000762-1725019200-1725048000@aboutmarbella.com
SUMMARY:Mogli The Key
DESCRIPTION:MOGLI X BABYLON
URL:https://aboutmarbella.com/evento/mogli-the-key-5/2024-08-30/
LOCATION:Mogli The Key\, Av. del Prado\, 37\, Marbella\, Malaga\, 29660\, España
ATTACH;FMTTYPE=image/jpeg:https://aboutmarbella.com/wp-content/uploads/2024/07/Imagen-de-WhatsApp-2024-07-29-a-las-21.51.03_9785ec9a.jpg
END:VEVENT
BEGIN:VEVENT
DTSTART;TZID=Europe/Madrid:20240830T110000
DTEND;TZID=Europe/Madrid:20240830T210000
DTSTAMP:20260424T014515
CREATED:20240729T193040Z
LAST-MODIFIED:20240729T193040Z
UID:10000614-1725015600-1725051600@aboutmarbella.com
SUMMARY:Ocean Club Marbella
DESCRIPTION:ELEMENTS\n 
URL:https://aboutmarbella.com/evento/ocean-club-marbella/2024-08-30/
LOCATION:Ocean Club Marbella\, Avda. Lola Flores s/n\, Marbella\, Malaga\, 29660\, España
ATTACH;FMTTYPE=image/jpeg:https://aboutmarbella.com/wp-content/uploads/2024/07/Imagen-de-WhatsApp-2024-07-29-a-las-21.20.06_0ea55472.jpg
END:VEVENT
BEGIN:VEVENT
DTSTART;TZID=Europe/Madrid:20240830T110000
DTEND;TZID=Europe/Madrid:20240830T210000
DTSTAMP:20260424T014515
CREATED:20240729T184538Z
LAST-MODIFIED:20240729T184538Z
UID:10000555-1725015600-1725051600@aboutmarbella.com
SUMMARY:La Sala By The Sea
DESCRIPTION:EROS\nSCOTT STRUTTON\nADRIAN SAX
URL:https://aboutmarbella.com/evento/la-sala-by-the-sea-5/2024-08-30/
LOCATION:Malaga
ATTACH;FMTTYPE=image/jpeg:https://aboutmarbella.com/wp-content/uploads/2024/07/friday24.jpg
END:VEVENT
BEGIN:VEVENT
DTSTART;TZID=Europe/Madrid:20240830T100000
DTEND;TZID=Europe/Madrid:20240830T220000
DTSTAMP:20260424T014515
CREATED:20240729T180027Z
LAST-MODIFIED:20240729T180027Z
UID:10000477-1725012000-1725055200@aboutmarbella.com
SUMMARY:LA CABANE
DESCRIPTION:LA BELLEZZA
URL:https://aboutmarbella.com/evento/la-cabane-4/2024-08-30/
LOCATION:La Cabane\, C. Jabalí\, Marbella\, Malaga\, 29603\, España
ATTACH;FMTTYPE=image/png:https://aboutmarbella.com/wp-content/uploads/2024/07/00_BASIC_LA_BELLEZZA_SQ-1400-she38g.png
END:VEVENT
BEGIN:VEVENT
DTSTART;TZID=Europe/Madrid:20240830T080000
DTEND;TZID=Europe/Madrid:20240830T170000
DTSTAMP:20260424T014515
CREATED:20240723T185106Z
LAST-MODIFIED:20240725T155327Z
UID:10000078-1725004800-1725037200@aboutmarbella.com
SUMMARY:La Sala Puerto Banus
DESCRIPTION:Jai Northover\n  \nMulti-instrumentalist\, Jai Northover brings the life\, soul and party to La Sala with his exciting sound. His repertoire ranges from Pop-to-Rock-to-Folk making him a truly versatile musician and guaranteed crowd pleaser! \nMultiinstrumentista\, Jai Northober trae vida\, alma y fiesta a La Sala con su excitante sonido. Su repertorio tiene rango de Pop\, Rock y Folk haciendo que sea un músico verdaderamente versátil y con garantía de complacer a su público.
URL:https://aboutmarbella.com/evento/jai-northover-2/
LOCATION:La Sala Puerto Banus\, C. Juan Belmonte\, s/n\, Marbella\, Marbella\, 29660\, España
ATTACH;FMTTYPE=image/jpeg:https://aboutmarbella.com/wp-content/uploads/2024/07/JaiNorthover.jpg
END:VEVENT
BEGIN:VEVENT
DTSTART;TZID=Europe/Madrid:20240829T230000
DTEND;TZID=Europe/Madrid:20240830T060000
DTSTAMP:20260424T014515
CREATED:20240724T113122Z
LAST-MODIFIED:20240725T155350Z
UID:10000173-1724972400-1724997600@aboutmarbella.com
SUMMARY:Tibu Puerto Banus
DESCRIPTION:RED CUP\n  \nLondon & Dubai best brands come together every Thursday bringing you a brand new night RED CUP at TIBU Nightclub. With resident DJs and special guest and DJ SAI\, MAX DENHAM playing non stop bangers UK\, Afrobeats\, Hip-Hop\, Trap\, Amapiano\, RnB\, soulful house and much more
URL:https://aboutmarbella.com/evento/red-cup/
LOCATION:Tibu Marbella\, Pl. de Antonio Banderas\, 34\, 35\,36\,37\, Marbella\, Malaga\, 29660\, España
ATTACH;FMTTYPE=image/jpeg:https://aboutmarbella.com/wp-content/uploads/2024/07/red-cup-generic-002-1.jpeg
END:VEVENT
BEGIN:VEVENT
DTSTART;TZID=Europe/Madrid:20240829T200000
DTEND;TZID=Europe/Madrid:20240829T233000
DTSTAMP:20260424T014515
CREATED:20240730T144408Z
LAST-MODIFIED:20240730T144408Z
UID:10000825-1724961600-1724974200@aboutmarbella.com
SUMMARY:Mercadillo Artesanal Benahavis
DESCRIPTION:MERCADILLO ARTESANAL DE BENAHAVÍS DE VERANO\n\nEste jueves 4 de julio se inaugura el Mercadillo Artesanal de Benahavís. Se instalará jueves y viernes de julio y agosto\, a partir de las ocho de la tarde y hasta medianoche\, en la Avenida de Andalucía.\nSerá un espacio abierto para disfrutar\, en las noches de verano\, del trabajo de nuestros artesanos.\nThis Thursday\, the 4th of July\, sees the inauguration of the Benahavís Craft Market. It will be on Thursday and Friday\, July to August\, from eight until midnight\, in the Avenida de Andalucía.\nIt will be an open space to enjoy\, on summer evenings\, the work of our artists.
URL:https://aboutmarbella.com/evento/mercadillo-artesanal-benahavis/2024-08-29/
LOCATION:Benahavis Mercadillo Artesanal\, Avenida de Andalucía\, 34\, Benahavis\, Malaga\, 29679\, España
ATTACH;FMTTYPE=image/jpeg:https://aboutmarbella.com/wp-content/uploads/2024/07/mercadillo-artesanal-verano.jpg
END:VEVENT
BEGIN:VEVENT
DTSTART;TZID=Europe/Madrid:20240829T200000
DTEND;TZID=Europe/Madrid:20240829T230000
DTSTAMP:20260424T014515
CREATED:20240723T184900Z
LAST-MODIFIED:20240725T155412Z
UID:10000077-1724961600-1724972400@aboutmarbella.com
SUMMARY:La Sala Puerto Banus
DESCRIPTION:Amelinde\n  \nAmelinde has been singing on the coast for over 20 years in different projects ranging from various tribute shows to her very own live band. \nHer years of experience have brought with it an extensive repertoire as a solo artist of soul\, rock\, pop and everything in between so is guaranteed to have something to suit every musical taste.
URL:https://aboutmarbella.com/evento/amelinde-4/
LOCATION:La Sala Puerto Banus\, C. Juan Belmonte\, s/n\, Marbella\, Marbella\, 29660\, España
ATTACH;FMTTYPE=image/jpeg:https://aboutmarbella.com/wp-content/uploads/2024/07/Amelinde_eK3P.jpg
END:VEVENT
BEGIN:VEVENT
DTSTART;TZID=Europe/Madrid:20240829T120000
DTEND;TZID=Europe/Madrid:20240829T200000
DTSTAMP:20260424T014515
CREATED:20240729T200716Z
LAST-MODIFIED:20240729T200716Z
UID:10000740-1724932800-1724961600@aboutmarbella.com
SUMMARY:Mogli The Key
DESCRIPTION:MOGLI X THE MAYFAIR SESSIONS
URL:https://aboutmarbella.com/evento/mogli-the-key-4/2024-08-29/
LOCATION:Mogli The Key\, Av. del Prado\, 37\, Marbella\, Malaga\, 29660\, España
ATTACH;FMTTYPE=image/jpeg:https://aboutmarbella.com/wp-content/uploads/2024/07/Imagen-de-WhatsApp-2024-07-29-a-las-21.51.03_ccf0d506.jpg
END:VEVENT
BEGIN:VEVENT
DTSTART;TZID=Europe/Madrid:20240829T110000
DTEND;TZID=Europe/Madrid:20240829T210000
DTSTAMP:20260424T014515
CREATED:20240729T184332Z
LAST-MODIFIED:20240729T184332Z
UID:10000542-1724929200-1724965200@aboutmarbella.com
SUMMARY:La Sala By The Sea
DESCRIPTION:REWIND\nDJ BEN CULLUM\nSHAYNE G1VEN\nADRIAN SAX
URL:https://aboutmarbella.com/evento/la-sala-by-the-sea-4/2024-08-29/
LOCATION:Malaga
ATTACH;FMTTYPE=image/jpeg:https://aboutmarbella.com/wp-content/uploads/2024/07/thursday24.jpg
END:VEVENT
BEGIN:VEVENT
DTSTART;TZID=Europe/Madrid:20240828T230000
DTEND;TZID=Europe/Madrid:20240829T060000
DTSTAMP:20260424T014515
CREATED:20240724T113004Z
LAST-MODIFIED:20240725T155511Z
UID:10000172-1724886000-1724911200@aboutmarbella.com
SUMMARY:Tibu Puerto Banus
DESCRIPTION:AFRO GOLD\n  \nAfro Gold Presents a night of Afrobeats\, Amapiano\, Hip`-Hop\, RnB and more with resident and guest DJs
URL:https://aboutmarbella.com/evento/afro-gold-5/
LOCATION:Tibu Marbella\, Pl. de Antonio Banderas\, 34\, 35\,36\,37\, Marbella\, Malaga\, 29660\, España
ATTACH;FMTTYPE=image/webp:https://aboutmarbella.com/wp-content/uploads/2024/07/afrogold-generic-2024-002.jpeg.webp
END:VEVENT
BEGIN:VEVENT
DTSTART;TZID=Europe/Madrid:20240828T220000
DTEND;TZID=Europe/Madrid:20240828T233000
DTSTAMP:20260424T014515
CREATED:20240723T220924Z
LAST-MODIFIED:20240725T155529Z
UID:10000119-1724882400-1724887800@aboutmarbella.com
SUMMARY:Starlite Marbella
DESCRIPTION:OMAR MONTES
URL:https://aboutmarbella.com/evento/omar-montes/
LOCATION:Starlite Marbella\, C. Albinoni\, s/n\, Marbella\, Malaga\, 29602\, España
ATTACH;FMTTYPE=image/jpeg:https://aboutmarbella.com/wp-content/uploads/2024/07/18d7051d31200cfd1ccc64c1d960a535_koobin_800x7745_385_374_crop_1.jpg
END:VEVENT
END:VCALENDAR