BEGIN:VCALENDAR
VERSION:2.0
PRODID:-//About Marbella - ECPv6.8.0//NONSGML v1.0//EN
CALSCALE:GREGORIAN
METHOD:PUBLISH
X-WR-CALNAME:About Marbella
X-ORIGINAL-URL:https://aboutmarbella.com
X-WR-CALDESC:Events for About Marbella
REFRESH-INTERVAL;VALUE=DURATION:PT1H
X-Robots-Tag:noindex
X-PUBLISHED-TTL:PT1H
BEGIN:VTIMEZONE
TZID:Europe/Madrid
BEGIN:DAYLIGHT
TZOFFSETFROM:+0100
TZOFFSETTO:+0200
TZNAME:CEST
DTSTART:20240331T010000
END:DAYLIGHT
BEGIN:STANDARD
TZOFFSETFROM:+0200
TZOFFSETTO:+0100
TZNAME:CET
DTSTART:20241027T010000
END:STANDARD
END:VTIMEZONE
BEGIN:VEVENT
DTSTART;TZID=Europe/Madrid:20240815T220000
DTEND;TZID=Europe/Madrid:20240815T233000
DTSTAMP:20260424T131701
CREATED:20240723T214813Z
LAST-MODIFIED:20240725T162644Z
UID:10000103-1723759200-1723764600@aboutmarbella.com
SUMMARY:Starlite Marbella
DESCRIPTION:PAULA MATTHEUS Y MARLON
URL:https://aboutmarbella.com/evento/paula-mattheus-y-marlon/
LOCATION:Starlite Marbella\, C. Albinoni\, s/n\, Marbella\, Malaga\, 29602\, España
ATTACH;FMTTYPE=image/jpeg:https://aboutmarbella.com/wp-content/uploads/2024/07/efc7e84478e52f71aacce9778d9a7921_koobin_800x774_385_374_crop_1.jpg
END:VEVENT
BEGIN:VEVENT
DTSTART;TZID=Europe/Madrid:20240815T200000
DTEND;TZID=Europe/Madrid:20240815T233000
DTSTAMP:20260424T131701
CREATED:20240730T144408Z
LAST-MODIFIED:20240730T144408Z
UID:10000821-1723752000-1723764600@aboutmarbella.com
SUMMARY:Mercadillo Artesanal Benahavis
DESCRIPTION:MERCADILLO ARTESANAL DE BENAHAVÍS DE VERANO\n\nEste jueves 4 de julio se inaugura el Mercadillo Artesanal de Benahavís. Se instalará jueves y viernes de julio y agosto\, a partir de las ocho de la tarde y hasta medianoche\, en la Avenida de Andalucía.\nSerá un espacio abierto para disfrutar\, en las noches de verano\, del trabajo de nuestros artesanos.\nThis Thursday\, the 4th of July\, sees the inauguration of the Benahavís Craft Market. It will be on Thursday and Friday\, July to August\, from eight until midnight\, in the Avenida de Andalucía.\nIt will be an open space to enjoy\, on summer evenings\, the work of our artists.
URL:https://aboutmarbella.com/evento/mercadillo-artesanal-benahavis/2024-08-15/
LOCATION:Benahavis Mercadillo Artesanal\, Avenida de Andalucía\, 34\, Benahavis\, Malaga\, 29679\, España
ATTACH;FMTTYPE=image/jpeg:https://aboutmarbella.com/wp-content/uploads/2024/07/mercadillo-artesanal-verano.jpg
END:VEVENT
BEGIN:VEVENT
DTSTART;TZID=Europe/Madrid:20240815T200000
DTEND;TZID=Europe/Madrid:20240815T230000
DTSTAMP:20260424T131701
CREATED:20240723T180427Z
LAST-MODIFIED:20240725T162710Z
UID:10000049-1723752000-1723762800@aboutmarbella.com
SUMMARY:La Sala Puerto Banus
DESCRIPTION:Amelinde\n  \nAmelinde has been singing on the coast for over 20 years in different projects ranging from various tribute shows to her very own live band. \nHer years of experience have brought with it an extensive repertoire as a solo artist of soul\, rock\, pop and everything in between so is guaranteed to have something to suit every musical taste.
URL:https://aboutmarbella.com/evento/amelinde-2/
LOCATION:La Sala Puerto Banus\, C. Juan Belmonte\, s/n\, Marbella\, Marbella\, 29660\, España
ATTACH;FMTTYPE=image/jpeg:https://aboutmarbella.com/wp-content/uploads/2024/07/Amelinde_eK3P.jpg
END:VEVENT
BEGIN:VEVENT
DTSTART;TZID=Europe/Madrid:20240815T120000
DTEND;TZID=Europe/Madrid:20240815T200000
DTSTAMP:20260424T131701
CREATED:20240729T200716Z
LAST-MODIFIED:20240729T200716Z
UID:10000738-1723723200-1723752000@aboutmarbella.com
SUMMARY:Mogli The Key
DESCRIPTION:MOGLI X THE MAYFAIR SESSIONS
URL:https://aboutmarbella.com/evento/mogli-the-key-4/2024-08-15/
LOCATION:Mogli The Key\, Av. del Prado\, 37\, Marbella\, Malaga\, 29660\, España
ATTACH;FMTTYPE=image/jpeg:https://aboutmarbella.com/wp-content/uploads/2024/07/Imagen-de-WhatsApp-2024-07-29-a-las-21.51.03_ccf0d506.jpg
END:VEVENT
BEGIN:VEVENT
DTSTART;TZID=Europe/Madrid:20240815T110000
DTEND;TZID=Europe/Madrid:20240815T210000
DTSTAMP:20260424T131701
CREATED:20240729T184332Z
LAST-MODIFIED:20240729T184332Z
UID:10000540-1723719600-1723755600@aboutmarbella.com
SUMMARY:La Sala By The Sea
DESCRIPTION:REWIND\nDJ BEN CULLUM\nSHAYNE G1VEN\nADRIAN SAX
URL:https://aboutmarbella.com/evento/la-sala-by-the-sea-4/2024-08-15/
LOCATION:Malaga
ATTACH;FMTTYPE=image/jpeg:https://aboutmarbella.com/wp-content/uploads/2024/07/thursday24.jpg
END:VEVENT
BEGIN:VEVENT
DTSTART;TZID=Europe/Madrid:20240814T233000
DTEND;TZID=Europe/Madrid:20240815T070000
DTSTAMP:20260424T131701
CREATED:20240724T105226Z
LAST-MODIFIED:20240725T162732Z
UID:10000159-1723678200-1723705200@aboutmarbella.com
SUMMARY:Tibu Puerto Banus
DESCRIPTION:AFRO GOLD\n  \nAfro Gold presents a night of Afrobeats\, Hip-hop\, RnB\, Amapiano and more\, with resudent and guest DJs
URL:https://aboutmarbella.com/evento/afro-gold-3/
LOCATION:Tibu Marbella\, Pl. de Antonio Banderas\, 34\, 35\,36\,37\, Marbella\, Malaga\, 29660\, España
ATTACH;FMTTYPE=image/webp:https://aboutmarbella.com/wp-content/uploads/2024/07/afrogold-generic-2024-002.jpeg.webp
END:VEVENT
BEGIN:VEVENT
DTSTART;TZID=Europe/Madrid:20240814T233000
DTEND;TZID=Europe/Madrid:20240815T020000
DTSTAMP:20260424T131701
CREATED:20240723T214659Z
LAST-MODIFIED:20240725T162753Z
UID:10000102-1723678200-1723687200@aboutmarbella.com
SUMMARY:Starlite Marbella
DESCRIPTION:JUAN MAGÁN
URL:https://aboutmarbella.com/evento/juan-magan-2/
LOCATION:Starlite Marbella\, C. Albinoni\, s/n\, Marbella\, Malaga\, 29602\, España
ATTACH;FMTTYPE=image/jpeg:https://aboutmarbella.com/wp-content/uploads/2024/07/3b7e59a83a499cc01b8e4f1360c10aab_14-8_385_374_crop_1.jpg
END:VEVENT
BEGIN:VEVENT
DTSTART;TZID=Europe/Madrid:20240814T220000
DTEND;TZID=Europe/Madrid:20240814T233000
DTSTAMP:20260424T131701
CREATED:20240723T214553Z
LAST-MODIFIED:20240725T162808Z
UID:10000101-1723672800-1723678200@aboutmarbella.com
SUMMARY:Starlite Marbella
DESCRIPTION:LA OREJA DE VAN GOGH
URL:https://aboutmarbella.com/evento/la-oreja-de-van-gogh/
LOCATION:Starlite Marbella\, C. Albinoni\, s/n\, Marbella\, Malaga\, 29602\, España
ATTACH;FMTTYPE=image/jpeg:https://aboutmarbella.com/wp-content/uploads/2024/07/e9eccd55aa703ad18b1c884676ebb6ae_koobin_800x774_385_374_crop_1.jpg
END:VEVENT
BEGIN:VEVENT
DTSTART;TZID=Europe/Madrid:20240814T200000
DTEND;TZID=Europe/Madrid:20240815T020000
DTSTAMP:20260424T131701
CREATED:20240723T180224Z
LAST-MODIFIED:20240725T163151Z
UID:10000048-1723665600-1723687200@aboutmarbella.com
SUMMARY:La Sala Puerto Banus
DESCRIPTION:Rockin’ Wednesday
URL:https://aboutmarbella.com/evento/rockin-wednesday-3/
LOCATION:La Sala Puerto Banus\, C. Juan Belmonte\, s/n\, Marbella\, Marbella\, 29660\, España
ATTACH;FMTTYPE=image/jpeg:https://aboutmarbella.com/wp-content/uploads/2024/07/rockin_MlVh.jpg
END:VEVENT
BEGIN:VEVENT
DTSTART;TZID=Europe/Madrid:20240814T120000
DTEND;TZID=Europe/Madrid:20240814T233000
DTSTAMP:20260424T131701
CREATED:20240729T174210Z
LAST-MODIFIED:20240729T174210Z
UID:10000261-1723636800-1723678200@aboutmarbella.com
SUMMARY:PLAYA PADRE
DESCRIPTION:LUNCH WITH AMIGOS\nEvery Wednesday\nEMMERALD\nFrom 12:00h\n 
URL:https://aboutmarbella.com/evento/playa-padre-3/2024-08-14/
LOCATION:Playa Padre\, s/n\, Calle playa del cable\, Marbella\, Malaga\, 29603\, España
ATTACH;FMTTYPE=image/png:https://aboutmarbella.com/wp-content/uploads/2024/07/1722264007_03_WEDNESDAY_WEB_LUNCH_WITH_AMIGOS-1400-she3ew.png
END:VEVENT
BEGIN:VEVENT
DTSTART;TZID=Europe/Madrid:20240814T120000
DTEND;TZID=Europe/Madrid:20240814T210000
DTSTAMP:20260424T131701
CREATED:20240729T200547Z
LAST-MODIFIED:20240729T200547Z
UID:10000716-1723636800-1723669200@aboutmarbella.com
SUMMARY:Mogli The Key
DESCRIPTION:MOGLI X DONT BE SHY
URL:https://aboutmarbella.com/evento/mogli-the-key-3/2024-08-14/
LOCATION:Mogli The Key\, Av. del Prado\, 37\, Marbella\, Malaga\, 29660\, España
ATTACH;FMTTYPE=image/jpeg:https://aboutmarbella.com/wp-content/uploads/2024/07/Imagen-de-WhatsApp-2024-07-29-a-las-21.51.03_43912575.jpg
END:VEVENT
BEGIN:VEVENT
DTSTART;TZID=Europe/Madrid:20240814T110000
DTEND;TZID=Europe/Madrid:20240814T210000
DTSTAMP:20260424T131701
CREATED:20240729T193226Z
LAST-MODIFIED:20240729T193226Z
UID:10000633-1723633200-1723669200@aboutmarbella.com
SUMMARY:Ocean Club Marbella
DESCRIPTION:RETRO
URL:https://aboutmarbella.com/evento/ocean-club-marbella-2/2024-08-14/
LOCATION:Ocean Club Marbella\, Avda. Lola Flores s/n\, Marbella\, Malaga\, 29660\, España
ATTACH;FMTTYPE=image/jpeg:https://aboutmarbella.com/wp-content/uploads/2024/07/Imagen-de-WhatsApp-2024-07-29-a-las-21.20.06_3be2a1ef.jpg
END:VEVENT
BEGIN:VEVENT
DTSTART;TZID=Europe/Madrid:20240814T110000
DTEND;TZID=Europe/Madrid:20240814T210000
DTSTAMP:20260424T131701
CREATED:20240729T184127Z
LAST-MODIFIED:20240729T184127Z
UID:10000523-1723633200-1723669200@aboutmarbella.com
SUMMARY:La Sala By The Sea
DESCRIPTION:PERDIDA\nJOSE GALLANO
URL:https://aboutmarbella.com/evento/la-sala-by-the-sea-3/2024-08-14/
LOCATION:La Sala By The Sea\, Av José Banús\, Marbella\, Malaga\, 29660\, España
ATTACH;FMTTYPE=image/jpeg:https://aboutmarbella.com/wp-content/uploads/2024/07/wednesday24.jpg
END:VEVENT
BEGIN:VEVENT
DTSTART;TZID=Europe/Madrid:20240814T100000
DTEND;TZID=Europe/Madrid:20240814T220000
DTSTAMP:20260424T131701
CREATED:20240729T175839Z
LAST-MODIFIED:20240729T175839Z
UID:10000462-1723629600-1723672800@aboutmarbella.com
SUMMARY:LA CABANE
DESCRIPTION:THE YACHT CLUB\n  \n 
URL:https://aboutmarbella.com/evento/la-cabane-3/2024-08-14/
LOCATION:La Cabane\, C. Jabalí\, Marbella\, Malaga\, 29603\, España
ATTACH;FMTTYPE=image/png:https://aboutmarbella.com/wp-content/uploads/2024/07/1721919683_03_TYC_LC_2024_WEB-1400-sh6pqb.png
END:VEVENT
BEGIN:VEVENT
DTSTART;TZID=Europe/Madrid:20240813T233000
DTEND;TZID=Europe/Madrid:20240814T070000
DTSTAMP:20260424T131701
CREATED:20240724T105122Z
LAST-MODIFIED:20240725T162857Z
UID:10000158-1723591800-1723618800@aboutmarbella.com
SUMMARY:Tibu Puerto Banus
DESCRIPTION:Capitale\n  \nVanant De La Capitale from Paris to Marbella\, presents do you speak French?\, with guest DJs and artists preforming live\, playing the finest in urban\, French Rap\, RnB\, Afrobeats and more
URL:https://aboutmarbella.com/evento/parlez-vous-francais/
LOCATION:Tibu Marbella\, Pl. de Antonio Banderas\, 34\, 35\,36\,37\, Marbella\, Malaga\, 29660\, España
ATTACH;FMTTYPE=image/jpeg:https://aboutmarbella.com/wp-content/uploads/2024/07/french-generic-tuesday2024-1024x1024-1.jpg
END:VEVENT
BEGIN:VEVENT
DTSTART;TZID=Europe/Madrid:20240813T233000
DTEND;TZID=Europe/Madrid:20240814T020000
DTSTAMP:20260424T131701
CREATED:20240723T214439Z
LAST-MODIFIED:20240725T162917Z
UID:10000100-1723591800-1723600800@aboutmarbella.com
SUMMARY:Starlite Marbella
DESCRIPTION:MASQUERADE by CLAPTONE
URL:https://aboutmarbella.com/evento/masquerade-by-claptone/
LOCATION:Starlite Marbella\, C. Albinoni\, s/n\, Marbella\, Malaga\, 29602\, España
ATTACH;FMTTYPE=image/jpeg:https://aboutmarbella.com/wp-content/uploads/2024/07/ced3167ca534bb0ae5c910b0d2d3719c_koobin_800x774_385_374_crop_1.jpg
END:VEVENT
BEGIN:VEVENT
DTSTART;TZID=Europe/Madrid:20240813T220000
DTEND;TZID=Europe/Madrid:20240813T233000
DTSTAMP:20260424T131701
CREATED:20240723T212344Z
LAST-MODIFIED:20240725T162934Z
UID:10000099-1723586400-1723591800@aboutmarbella.com
SUMMARY:Starlite Marbella
DESCRIPTION:PLACIDO DOMINGO
URL:https://aboutmarbella.com/evento/placido-domingo/
LOCATION:Starlite Marbella\, C. Albinoni\, s/n\, Marbella\, Malaga\, 29602\, España
ATTACH;FMTTYPE=image/jpeg:https://aboutmarbella.com/wp-content/uploads/2024/07/9c4590da77480e0a8b0de9e581068dd4_koobin_800x774_385_374_crop_1.jpg
END:VEVENT
BEGIN:VEVENT
DTSTART;TZID=Europe/Madrid:20240813T200000
DTEND;TZID=Europe/Madrid:20240813T230000
DTSTAMP:20260424T131701
CREATED:20240723T180014Z
LAST-MODIFIED:20240725T162949Z
UID:10000047-1723579200-1723590000@aboutmarbella.com
SUMMARY:La Sala Puerto Banus
DESCRIPTION:Diva Fever
URL:https://aboutmarbella.com/evento/diva-fever-3/
LOCATION:La Sala Puerto Banus\, C. Juan Belmonte\, s/n\, Marbella\, Marbella\, 29660\, España
ATTACH;FMTTYPE=image/jpeg:https://aboutmarbella.com/wp-content/uploads/2024/07/divafever_blAy.jpg
END:VEVENT
BEGIN:VEVENT
DTSTART;TZID=Europe/Madrid:20240813T190000
DTEND;TZID=Europe/Madrid:20240813T230000
DTSTAMP:20260424T131701
CREATED:20240723T175832Z
LAST-MODIFIED:20240725T163012Z
UID:10000046-1723575600-1723590000@aboutmarbella.com
SUMMARY:La Sala Puerto Banus
DESCRIPTION:Michael Bublé Tribute\n  \nPeet Rothwell will be performing the best hits from Michael Bublé as the best tribute on the coast. He looks and sounds like the real Michael Bublé. One of the best tributes we have. \nPeet Rothwell interpretan los grandes éxitos de Michael Bublé convirtiendo la noche en una noche llena de magia\, buena música y el carisma que tanto precede a este gran artista. \nUse our online booking form below to secure your table\, call +34 95 281 4145 or email info@lasalabanus.com.
URL:https://aboutmarbella.com/evento/michael-buble-tribute/
LOCATION:La Sala Puerto Banus\, C. Juan Belmonte\, s/n\, Marbella\, Marbella\, 29660\, España
ATTACH;FMTTYPE=image/jpeg:https://aboutmarbella.com/wp-content/uploads/2024/07/buble-august_FMpH.jpg
END:VEVENT
BEGIN:VEVENT
DTSTART;TZID=Europe/Madrid:20240813T120000
DTEND;TZID=Europe/Madrid:20240813T200000
DTSTAMP:20260424T131701
CREATED:20240729T200151Z
LAST-MODIFIED:20240729T200151Z
UID:10000694-1723550400-1723579200@aboutmarbella.com
SUMMARY:Mogli The Key
DESCRIPTION:MOGLI X AFROBEAST
URL:https://aboutmarbella.com/evento/mogli-the-key-2/2024-08-13/
LOCATION:Mogli The Key\, Av. del Prado\, 37\, Marbella\, Malaga\, 29660\, España
ATTACH;FMTTYPE=image/jpeg:https://aboutmarbella.com/wp-content/uploads/2024/07/Imagen-de-WhatsApp-2024-07-29-a-las-21.51.03_ab1c2fa5.jpg
END:VEVENT
BEGIN:VEVENT
DTSTART;TZID=Europe/Madrid:20240813T110000
DTEND;TZID=Europe/Madrid:20240813T210000
DTSTAMP:20260424T131701
CREATED:20240729T183941Z
LAST-MODIFIED:20240729T183941Z
UID:10000506-1723546800-1723582800@aboutmarbella.com
SUMMARY:La Sala By The Sea
DESCRIPTION:LURE\nDJ BEN CULLUM
URL:https://aboutmarbella.com/evento/la-sala-by-the-sea-2/2024-08-13/
LOCATION:La Sala By The Sea\, Av José Banús\, Marbella\, Malaga\, 29660\, España
ATTACH;FMTTYPE=image/jpeg:https://aboutmarbella.com/wp-content/uploads/2024/07/tuesday24.jpg
END:VEVENT
BEGIN:VEVENT
DTSTART;TZID=Europe/Madrid:20240812T233000
DTEND;TZID=Europe/Madrid:20240813T070000
DTSTAMP:20260424T131701
CREATED:20240724T105009Z
LAST-MODIFIED:20240725T163041Z
UID:10000157-1723505400-1723532400@aboutmarbella.com
SUMMARY:Tibu Puerto Banus
DESCRIPTION:CERTTI EVENTS – DJ WENDALE DE JESUS\n  \nJoin us for Certti Events every Monday as the No.1 urban event in Marbella makes its triumphant return to TIBU Nightclub for its fourth consecutive year. Experience an unparalleled atmosphere with the finest DJs and artists from around the globe\, delivering a unique vibe that sets Marbella apart. Immerse yourself in the ultimate music mix featuring Afrobeats\, RnB\, Hip-hop\, Amapiano\, and house. Past events have hosted renowned artists such as Digga D\, NLE Choppa\, Dappy\, Giggs\, Russ Millions\, and many more\, making our parties unforgettable.
URL:https://aboutmarbella.com/evento/certti-events-dj-wendale-de-jesus/
LOCATION:Tibu Marbella\, Pl. de Antonio Banderas\, 34\, 35\,36\,37\, Marbella\, Malaga\, 29660\, España
ATTACH;FMTTYPE=image/jpeg:https://aboutmarbella.com/wp-content/uploads/2024/07/certti-monday-2024-1024x1024-1.jpg
END:VEVENT
BEGIN:VEVENT
DTSTART;TZID=Europe/Madrid:20240812T233000
DTEND;TZID=Europe/Madrid:20240813T020000
DTSTAMP:20260424T131701
CREATED:20240723T212204Z
LAST-MODIFIED:20240725T163101Z
UID:10000098-1723505400-1723514400@aboutmarbella.com
SUMMARY:Starlite Marbella
DESCRIPTION:LERICA
URL:https://aboutmarbella.com/evento/lerica/
LOCATION:Starlite Marbella\, C. Albinoni\, s/n\, Marbella\, Malaga\, 29602\, España
ATTACH;FMTTYPE=image/jpeg:https://aboutmarbella.com/wp-content/uploads/2024/07/2b8dfadb054185ac93901933e2f94405_koobin_800x774_385_374_crop_1.jpg
END:VEVENT
BEGIN:VEVENT
DTSTART;TZID=Europe/Madrid:20240812T220000
DTEND;TZID=Europe/Madrid:20240812T233000
DTSTAMP:20260424T131701
CREATED:20240723T212045Z
LAST-MODIFIED:20240725T163117Z
UID:10000097-1723500000-1723505400@aboutmarbella.com
SUMMARY:Starlite Marbella
DESCRIPTION:TABURETE
URL:https://aboutmarbella.com/evento/taburete/
LOCATION:Starlite Marbella\, C. Albinoni\, s/n\, Marbella\, Malaga\, 29602\, España
ATTACH;FMTTYPE=image/jpeg:https://aboutmarbella.com/wp-content/uploads/2024/07/a629292fcf0841946a287ca0744eef6f_koobin_800x774_385_374_crop_1.jpg
END:VEVENT
BEGIN:VEVENT
DTSTART;TZID=Europe/Madrid:20240812T200000
DTEND;TZID=Europe/Madrid:20240812T230000
DTSTAMP:20260424T131701
CREATED:20240723T175637Z
LAST-MODIFIED:20240725T163137Z
UID:10000045-1723492800-1723503600@aboutmarbella.com
SUMMARY:La Sala Puerto Banus
DESCRIPTION:Peet Rothwell\n  \nPeet has a wonderful mature vocal voice. His repertoire includes songs from the 50’s and 60’s right up to modern day pop classics. \nPeet tiene una voz maravillosa y madura. Su repertorio incluye canciones de los años 50 y 60 hasta los clásicos del pop de hoy en día.
URL:https://aboutmarbella.com/evento/peet-rothwell/
LOCATION:La Sala Puerto Banus\, C. Juan Belmonte\, s/n\, Marbella\, Marbella\, 29660\, España
ATTACH;FMTTYPE=image/jpeg:https://aboutmarbella.com/wp-content/uploads/2024/07/PeetRothwell.jpg
END:VEVENT
BEGIN:VEVENT
DTSTART;TZID=Europe/Madrid:20240812T120000
DTEND;TZID=Europe/Madrid:20240812T233000
DTSTAMP:20260424T131701
CREATED:20240729T173948Z
LAST-MODIFIED:20240729T173948Z
UID:10000199-1723464000-1723505400@aboutmarbella.com
SUMMARY:PLAYA PADRE
DESCRIPTION:CHAKRA\nEvery Tuesday\nNANO GARRIDO\nFrom 12:00h\n 
URL:https://aboutmarbella.com/evento/playa-padre-2/2024-08-12/
LOCATION:Playa Padre\, s/n\, Calle playa del cable\, Marbella\, Malaga\, 29603\, España
ATTACH;FMTTYPE=image/png:https://aboutmarbella.com/wp-content/uploads/2024/07/1721919311_02_CHAKRA_WEB-1400-sh6pfz.png
END:VEVENT
BEGIN:VEVENT
DTSTART;TZID=Europe/Madrid:20240812T120000
DTEND;TZID=Europe/Madrid:20240812T200000
DTSTAMP:20260424T131701
CREATED:20240729T195852Z
LAST-MODIFIED:20240729T195852Z
UID:10000672-1723464000-1723492800@aboutmarbella.com
SUMMARY:Mogli The Key
DESCRIPTION:MOGLI X WETT
URL:https://aboutmarbella.com/evento/mogli-the-key/2024-08-12/
LOCATION:Mogli The Key\, Av. del Prado\, 37\, Marbella\, Malaga\, 29660\, España
ATTACH;FMTTYPE=image/jpeg:https://aboutmarbella.com/wp-content/uploads/2024/07/Imagen-de-WhatsApp-2024-07-29-a-las-21.51.03_660fae3f.jpg
END:VEVENT
BEGIN:VEVENT
DTSTART;TZID=Europe/Madrid:20240812T110000
DTEND;TZID=Europe/Madrid:20240812T210000
DTSTAMP:20260424T131701
CREATED:20240729T183718Z
LAST-MODIFIED:20240729T183718Z
UID:10000488-1723460400-1723496400@aboutmarbella.com
SUMMARY:La Sala By The Sea
DESCRIPTION:MANTRA\nDJ BEN CULLUM
URL:https://aboutmarbella.com/evento/la-sala-by-the-sea/2024-08-12/
LOCATION:La Sala By The Sea\, Av José Banús\, Marbella\, Malaga\, 29660\, España
ATTACH;FMTTYPE=image/jpeg:https://aboutmarbella.com/wp-content/uploads/2024/07/monday24.jpg
END:VEVENT
BEGIN:VEVENT
DTSTART;TZID=Europe/Madrid:20240811T233000
DTEND;TZID=Europe/Madrid:20240812T070000
DTSTAMP:20260424T131701
CREATED:20240724T104826Z
LAST-MODIFIED:20240725T163324Z
UID:10000156-1723419000-1723446000@aboutmarbella.com
SUMMARY:Tibu Puerto Banus
DESCRIPTION:BABYLON EVENTS\n  \nBabylon events presents a night of house\, Hip-Hop\, RnB\, Afrobeats\, and more with resident and guest artists to be announced.
URL:https://aboutmarbella.com/evento/babylon-events-2/
LOCATION:Tibu Marbella\, Pl. de Antonio Banderas\, 34\, 35\,36\,37\, Marbella\, Malaga\, 29660\, España
ATTACH;FMTTYPE=image/png:https://aboutmarbella.com/wp-content/uploads/2024/07/babylon-sunday-2024-1024x1024-2.png
END:VEVENT
BEGIN:VEVENT
DTSTART;TZID=Europe/Madrid:20240811T200000
DTEND;TZID=Europe/Madrid:20240811T230000
DTSTAMP:20260424T131701
CREATED:20240723T175425Z
LAST-MODIFIED:20240725T163346Z
UID:10000044-1723406400-1723417200@aboutmarbella.com
SUMMARY:La Sala Puerto Banus
DESCRIPTION:Wall Street Band\n  \nWall Street are our sensational resident house rock band performing the best indie rock\, pop & dance hits. Famous on the Costa Del Sol\, they even supported the Kaiser Chiefs in concert back in 2016. \nWall Street Band es nuestra sensaional banda de rock residente\, que interpreta los mejores éxitos del indie\, rock\, pop y dance. Famosos en la Costa del Sol\, incluso telonearon a los Kaiser Chiefs en un concierto en 2016.
URL:https://aboutmarbella.com/evento/wall-street-band-3/
LOCATION:La Sala Puerto Banus\, C. Juan Belmonte\, s/n\, Marbella\, Marbella\, 29660\, España
ATTACH;FMTTYPE=image/jpeg:https://aboutmarbella.com/wp-content/uploads/2024/07/WallStBand.jpg
END:VEVENT
END:VCALENDAR