BEGIN:VCALENDAR
VERSION:2.0
PRODID:-//About Marbella - ECPv6.8.0//NONSGML v1.0//EN
CALSCALE:GREGORIAN
METHOD:PUBLISH
X-WR-CALNAME:About Marbella
X-ORIGINAL-URL:https://aboutmarbella.com
X-WR-CALDESC:Events for About Marbella
REFRESH-INTERVAL;VALUE=DURATION:PT1H
X-Robots-Tag:noindex
X-PUBLISHED-TTL:PT1H
BEGIN:VTIMEZONE
TZID:Europe/Madrid
BEGIN:DAYLIGHT
TZOFFSETFROM:+0100
TZOFFSETTO:+0200
TZNAME:CEST
DTSTART:20240331T010000
END:DAYLIGHT
BEGIN:STANDARD
TZOFFSETFROM:+0200
TZOFFSETTO:+0100
TZNAME:CET
DTSTART:20241027T010000
END:STANDARD
END:VTIMEZONE
BEGIN:VEVENT
DTSTART;TZID=Europe/Madrid:20240819T190000
DTEND;TZID=Europe/Madrid:20240819T230000
DTSTAMP:20260424T061640
CREATED:20240723T181812Z
LAST-MODIFIED:20240725T161603Z
UID:10000058-1724094000-1724108400@aboutmarbella.com
SUMMARY:La Sala Puerto Banus
DESCRIPTION:Bee Gees Tribute\n  \nBEE GEES Tribute\, 12.00€ per person VAT included\nTotal: 24.00€ VAT included (21.82€ VAT not included)Join us in our Live Lounge on Monday 19th August for our BEE GEES Tribute! \nThe show price is €12 per ticket\, which needs to be pre paid in full to confirm and secure your booking. We are offering reservations at 7pm so you can enjoy dinner comfortably followed by the show starting at 9pm until 11pm. \nThe menu available on the night is our A La Carte menu\, which is to be paid separately to the tickets for the show. Click HERE to see our A La Carte menu! \nIn the event of a cancellation\, the deposit is non-refundable but can be held as a credit note up to a year from the original date of the booking. Please note this credit is to be used on a single visit or booking only. Credit notes are only available if the booking is cancelled 7 days prior to the event date.
URL:https://aboutmarbella.com/evento/bee-gees-tribute/
LOCATION:La Sala Puerto Banus\, C. Juan Belmonte\, s/n\, Marbella\, Marbella\, 29660\, España
ATTACH;FMTTYPE=image/jpeg:https://aboutmarbella.com/wp-content/uploads/2024/07/beegees_NYAH.jpg
END:VEVENT
BEGIN:VEVENT
DTSTART;TZID=Europe/Madrid:20240819T120000
DTEND;TZID=Europe/Madrid:20240819T233000
DTSTAMP:20260424T061640
CREATED:20240729T173948Z
LAST-MODIFIED:20240729T173948Z
UID:10000200-1724068800-1724110200@aboutmarbella.com
SUMMARY:PLAYA PADRE
DESCRIPTION:CHAKRA\nEvery Tuesday\nNANO GARRIDO\nFrom 12:00h\n 
URL:https://aboutmarbella.com/evento/playa-padre-2/2024-08-19/
LOCATION:Playa Padre\, s/n\, Calle playa del cable\, Marbella\, Malaga\, 29603\, España
ATTACH;FMTTYPE=image/png:https://aboutmarbella.com/wp-content/uploads/2024/07/1721919311_02_CHAKRA_WEB-1400-sh6pfz.png
END:VEVENT
BEGIN:VEVENT
DTSTART;TZID=Europe/Madrid:20240819T120000
DTEND;TZID=Europe/Madrid:20240819T200000
DTSTAMP:20260424T061640
CREATED:20240729T195852Z
LAST-MODIFIED:20240729T195852Z
UID:10000673-1724068800-1724097600@aboutmarbella.com
SUMMARY:Mogli The Key
DESCRIPTION:MOGLI X WETT
URL:https://aboutmarbella.com/evento/mogli-the-key/2024-08-19/
LOCATION:Mogli The Key\, Av. del Prado\, 37\, Marbella\, Malaga\, 29660\, España
ATTACH;FMTTYPE=image/jpeg:https://aboutmarbella.com/wp-content/uploads/2024/07/Imagen-de-WhatsApp-2024-07-29-a-las-21.51.03_660fae3f.jpg
END:VEVENT
BEGIN:VEVENT
DTSTART;TZID=Europe/Madrid:20240819T110000
DTEND;TZID=Europe/Madrid:20240819T210000
DTSTAMP:20260424T061640
CREATED:20240729T183718Z
LAST-MODIFIED:20240729T183718Z
UID:10000489-1724065200-1724101200@aboutmarbella.com
SUMMARY:La Sala By The Sea
DESCRIPTION:MANTRA\nDJ BEN CULLUM
URL:https://aboutmarbella.com/evento/la-sala-by-the-sea/2024-08-19/
LOCATION:La Sala By The Sea\, Av José Banús\, Marbella\, Malaga\, 29660\, España
ATTACH;FMTTYPE=image/jpeg:https://aboutmarbella.com/wp-content/uploads/2024/07/monday24.jpg
END:VEVENT
BEGIN:VEVENT
DTSTART;TZID=Europe/Madrid:20240818T233000
DTEND;TZID=Europe/Madrid:20240819T070000
DTSTAMP:20260424T061640
CREATED:20240724T110215Z
LAST-MODIFIED:20240725T161634Z
UID:10000163-1724023800-1724050800@aboutmarbella.com
SUMMARY:Tibu Puerto Banus
DESCRIPTION:BABYLON EVENTS X DUBAI NIGHTS\n  \nA night of everything – expect the unexpected with resident and guest DJs\, playing the best in House\, Hip-Hop\, RnB\, Afrobeats\, Amapiano\, Urban and more……
URL:https://aboutmarbella.com/evento/babylon-events-x-dubai-nights/
LOCATION:Tibu Marbella\, Pl. de Antonio Banderas\, 34\, 35\,36\,37\, Marbella\, Malaga\, 29660\, España
ATTACH;FMTTYPE=image/png:https://aboutmarbella.com/wp-content/uploads/2024/07/babylon-sunday-2024-1024x1024-2.png
END:VEVENT
BEGIN:VEVENT
DTSTART;TZID=Europe/Madrid:20240818T200000
DTEND;TZID=Europe/Madrid:20240818T230000
DTSTAMP:20260424T061640
CREATED:20240723T181624Z
LAST-MODIFIED:20240725T161651Z
UID:10000057-1724011200-1724022000@aboutmarbella.com
SUMMARY:La Sala Puerto Banus
DESCRIPTION:5 Minute Memory
URL:https://aboutmarbella.com/evento/5-minute-memory-2/
LOCATION:La Sala Puerto Banus\, C. Juan Belmonte\, s/n\, Marbella\, Marbella\, 29660\, España
ATTACH;FMTTYPE=image/jpeg:https://aboutmarbella.com/wp-content/uploads/2024/07/5minmemory_aTNA.jpg
END:VEVENT
BEGIN:VEVENT
DTSTART;TZID=Europe/Madrid:20240818T140000
DTEND;TZID=Europe/Madrid:20240818T170000
DTSTAMP:20260424T061640
CREATED:20240723T181456Z
LAST-MODIFIED:20240725T161720Z
UID:10000056-1723989600-1724000400@aboutmarbella.com
SUMMARY:La Sala Puerto Banus
DESCRIPTION:Zoe Louise\n  \nOur youngest singer with a stunning voice. Zoe has been performing at La Sala Puerto Banús for over five years. Her material includes the best hits from soul\, pop and current chart hits. \nNuestra cantante más joven con una voz maravillosa. Zoe ha estado interpretando enLa Sala Puerto Banús desde hace más de cinco años. Su repertorio incluye los mejores éxitos del soul\, pop y los éxitos comerciales del momento.
URL:https://aboutmarbella.com/evento/zoe-louise-5/
LOCATION:La Sala Puerto Banus\, C. Juan Belmonte\, s/n\, Marbella\, Marbella\, 29660\, España
ATTACH;FMTTYPE=image/jpeg:https://aboutmarbella.com/wp-content/uploads/2024/07/Zoe.jpg
END:VEVENT
BEGIN:VEVENT
DTSTART;TZID=Europe/Madrid:20240818T120000
DTEND;TZID=Europe/Madrid:20240818T200000
DTSTAMP:20260424T061640
CREATED:20240729T201205Z
LAST-MODIFIED:20240729T201205Z
UID:10000801-1723982400-1724011200@aboutmarbella.com
SUMMARY:Mogli The Key
DESCRIPTION:MOGLI X CERTTI
URL:https://aboutmarbella.com/evento/mogli-the-key-7/2024-08-18/
LOCATION:Mogli The Key\, Av. del Prado\, 37\, Marbella\, Malaga\, 29660\, España
ATTACH;FMTTYPE=image/jpeg:https://aboutmarbella.com/wp-content/uploads/2024/07/Imagen-de-WhatsApp-2024-07-29-a-las-21.51.03_8c08939d.jpg
END:VEVENT
BEGIN:VEVENT
DTSTART;TZID=Europe/Madrid:20240818T110000
DTEND;TZID=Europe/Madrid:20240818T210000
DTSTAMP:20260424T061640
CREATED:20240729T193513Z
LAST-MODIFIED:20240729T193513Z
UID:10000655-1723978800-1724014800@aboutmarbella.com
SUMMARY:Ocean Club Marbella
DESCRIPTION:TROPICANA
URL:https://aboutmarbella.com/evento/ocean-club-marbella-3/2024-08-18/
LOCATION:Ocean Club Marbella\, Avda. Lola Flores s/n\, Marbella\, Malaga\, 29660\, España
ATTACH;FMTTYPE=image/jpeg:https://aboutmarbella.com/wp-content/uploads/2024/07/Imagen-de-WhatsApp-2024-07-29-a-las-21.20.06_69df9ac5.jpg
END:VEVENT
BEGIN:VEVENT
DTSTART;TZID=Europe/Madrid:20240818T110000
DTEND;TZID=Europe/Madrid:20240818T210000
DTSTAMP:20260424T061640
CREATED:20240729T185242Z
LAST-MODIFIED:20240729T185242Z
UID:10000589-1723978800-1724014800@aboutmarbella.com
SUMMARY:La Sala By The Sea
DESCRIPTION:CARNIVAL\nJOSE GALLANO\nJOEL SAX
URL:https://aboutmarbella.com/evento/la-sala-by-the-sea-7/2024-08-18/
LOCATION:La Sala By The Sea\, Av José Banús\, Marbella\, Malaga\, 29660\, España
ATTACH;FMTTYPE=image/jpeg:https://aboutmarbella.com/wp-content/uploads/2024/07/sunday24.jpg
END:VEVENT
BEGIN:VEVENT
DTSTART;TZID=Europe/Madrid:20240817T233000
DTEND;TZID=Europe/Madrid:20240818T020000
DTSTAMP:20260424T061640
CREATED:20240723T215313Z
LAST-MODIFIED:20240725T161735Z
UID:10000107-1723937400-1723946400@aboutmarbella.com
SUMMARY:Starlite Marbella
DESCRIPTION:PICOCO’S BAND
URL:https://aboutmarbella.com/evento/picocos-band/
LOCATION:Starlite Marbella\, C. Albinoni\, s/n\, Marbella\, Malaga\, 29602\, España
ATTACH;FMTTYPE=image/jpeg:https://aboutmarbella.com/wp-content/uploads/2024/07/d95f10f5021ef142854e1043b07f640b_koobin_800x774_385_374_crop_1.jpg
END:VEVENT
BEGIN:VEVENT
DTSTART;TZID=Europe/Madrid:20240817T220000
DTEND;TZID=Europe/Madrid:20240818T070000
DTSTAMP:20260424T061640
CREATED:20240724T110118Z
LAST-MODIFIED:20240725T161812Z
UID:10000162-1723932000-1723964400@aboutmarbella.com
SUMMARY:Tibu Puerto Banus
DESCRIPTION:LA CAPITALE\n  \nVenant De La Capitale Presents De La Capitale – from Paris to Marbella with DJ Babs\, Alak Jackson & special guests playing the finest in urban\, French\, hip-hop\, and RnB music all night long! Experience Marbella’s premier nightlife at the best nightclub in town. Elevate your evening with unmatched ambiance\, top-notch music\, and unforgettable memories. Join the TIBU tribe for an extraordinary night out!
URL:https://aboutmarbella.com/evento/la-capitale-2/
LOCATION:Tibu Marbella\, Pl. de Antonio Banderas\, 34\, 35\,36\,37\, Marbella\, Malaga\, 29660\, España
ATTACH;FMTTYPE=image/jpeg:https://aboutmarbella.com/wp-content/uploads/2024/07/LA-Capitale-saturdays-french-1.jpg
END:VEVENT
BEGIN:VEVENT
DTSTART;TZID=Europe/Madrid:20240817T220000
DTEND;TZID=Europe/Madrid:20240817T233000
DTSTAMP:20260424T061640
CREATED:20240723T215148Z
LAST-MODIFIED:20240725T161827Z
UID:10000106-1723932000-1723937400@aboutmarbella.com
SUMMARY:Starlite Marbella
DESCRIPTION:SARA BARAS
URL:https://aboutmarbella.com/evento/sara-baras/
LOCATION:Starlite Marbella\, C. Albinoni\, s/n\, Marbella\, Malaga\, 29602\, España
ATTACH;FMTTYPE=image/jpeg:https://aboutmarbella.com/wp-content/uploads/2024/07/196ec3b3efc9f12402f09b68b8acc6bd_koobin_800x774_385_374_crop_1.jpg
END:VEVENT
BEGIN:VEVENT
DTSTART;TZID=Europe/Madrid:20240817T200000
DTEND;TZID=Europe/Madrid:20240817T230000
DTSTAMP:20260424T061640
CREATED:20240723T181350Z
LAST-MODIFIED:20240725T161845Z
UID:10000055-1723924800-1723935600@aboutmarbella.com
SUMMARY:La Sala Puerto Banus
DESCRIPTION:Rose Phillipens
URL:https://aboutmarbella.com/evento/rose-phillipens-5/
LOCATION:La Sala Puerto Banus\, C. Juan Belmonte\, s/n\, Marbella\, Marbella\, 29660\, España
ATTACH;FMTTYPE=image/jpeg:https://aboutmarbella.com/wp-content/uploads/2024/07/RosePhillips_QrSa.jpg
END:VEVENT
BEGIN:VEVENT
DTSTART;TZID=Europe/Madrid:20240817T200000
DTEND;TZID=Europe/Madrid:20240817T230000
DTSTAMP:20260424T061640
CREATED:20240723T181240Z
LAST-MODIFIED:20240725T162110Z
UID:10000054-1723924800-1723935600@aboutmarbella.com
SUMMARY:La Sala Puerto Banus
DESCRIPTION:Joey Sax & DJ Lady Jade
URL:https://aboutmarbella.com/evento/joey-sax-dj-lady-jade-4/
LOCATION:La Sala Puerto Banus\, C. Juan Belmonte\, s/n\, Marbella\, Marbella\, 29660\, España
ATTACH;FMTTYPE=image/jpeg:https://aboutmarbella.com/wp-content/uploads/2024/07/JoeySax-LadyJade.jpg
END:VEVENT
BEGIN:VEVENT
DTSTART;TZID=Europe/Madrid:20240817T120000
DTEND;TZID=Europe/Madrid:20240817T233000
DTSTAMP:20260424T061640
CREATED:20240729T174713Z
LAST-MODIFIED:20240729T174713Z
UID:10000392-1723896000-1723937400@aboutmarbella.com
SUMMARY:PLAYA PADRE
DESCRIPTION:VALE\nEvery Saturday\nARTCHITEC\nFrom 12:00h\n 
URL:https://aboutmarbella.com/evento/playa-padre-6/2024-08-17/
LOCATION:Playa Padre\, s/n\, Calle playa del cable\, Marbella\, Malaga\, 29603\, España
ATTACH;FMTTYPE=image/png:https://aboutmarbella.com/wp-content/uploads/2024/07/1722264332_06_VALEWEB2024PP-1400-she3nx.png
END:VEVENT
BEGIN:VEVENT
DTSTART;TZID=Europe/Madrid:20240817T120000
DTEND;TZID=Europe/Madrid:20240817T200000
DTSTAMP:20260424T061640
CREATED:20240729T201032Z
LAST-MODIFIED:20240729T201032Z
UID:10000782-1723896000-1723924800@aboutmarbella.com
SUMMARY:Mogli The Key
DESCRIPTION:MOGLI X LOVEJUICE\n 
URL:https://aboutmarbella.com/evento/mogli-the-key-6/2024-08-17/
LOCATION:Mogli The Key\, Av. del Prado\, 37\, Marbella\, Malaga\, 29660\, España
ATTACH;FMTTYPE=image/jpeg:https://aboutmarbella.com/wp-content/uploads/2024/07/Imagen-de-WhatsApp-2024-07-29-a-las-21.51.03_83676e95.jpg
END:VEVENT
BEGIN:VEVENT
DTSTART;TZID=Europe/Madrid:20240817T120000
DTEND;TZID=Europe/Madrid:20240817T150000
DTSTAMP:20260424T061640
CREATED:20240723T181128Z
LAST-MODIFIED:20240725T162134Z
UID:10000053-1723896000-1723906800@aboutmarbella.com
SUMMARY:La Sala Puerto Banus
DESCRIPTION:Michelle Daniels\n  \nMichelle is a famous singer from her performance on the tribute to Abba\, “Abbatastic”. She is a very enthusiastic\, talented and beautiful entertainer. Her voice is incredible and her music goes from soul to disco music. \nFamosa por su Tributo a Abba\, ¨Abbatastic¨; es una cantante muy entusiasta y talentosa y una animadora única. Su increíble voz acompaña los mejores temas desde el soul hasta la música disco.
URL:https://aboutmarbella.com/evento/michelle-daniels-3/
LOCATION:La Sala Puerto Banus\, C. Juan Belmonte\, s/n\, Marbella\, Marbella\, 29660\, España
ATTACH;FMTTYPE=image/jpeg:https://aboutmarbella.com/wp-content/uploads/2024/07/michelle-daniels.jpg
END:VEVENT
BEGIN:VEVENT
DTSTART;TZID=Europe/Madrid:20240817T110000
DTEND;TZID=Europe/Madrid:20240817T210000
DTSTAMP:20260424T061640
CREATED:20240729T185058Z
LAST-MODIFIED:20240729T185058Z
UID:10000571-1723892400-1723928400@aboutmarbella.com
SUMMARY:La Sala By The Sea
DESCRIPTION:SAMUI\nSCOTT STRUTTOON \nSHAYNE G1VEN \nJOEY SAX
URL:https://aboutmarbella.com/evento/la-sala-by-the-sea-6/2024-08-17/
LOCATION:La Sala By The Sea\, Av José Banús\, Marbella\, Malaga\, 29660\, España
ATTACH;FMTTYPE=image/jpeg:https://aboutmarbella.com/wp-content/uploads/2024/07/saturday24.jpg
END:VEVENT
BEGIN:VEVENT
DTSTART;TZID=Europe/Madrid:20240816T233000
DTEND;TZID=Europe/Madrid:20240817T070000
DTSTAMP:20260424T061640
CREATED:20240724T105846Z
LAST-MODIFIED:20240725T162159Z
UID:10000161-1723851000-1723878000@aboutmarbella.com
SUMMARY:Tibu Puerto Banus
DESCRIPTION:MAYFAIR SESSIONS – DJ JORDAN VALLEYS\n  \nSummer 2024 sees the return of The Mayfair Sessions Marbella for season number 9 in Puerto Banus. Hosting their flagship Friday Sessions every week at Marbella’s number one nightclub TIBU Marbella. With acts previously such as Stormzy\, Craig David\, French Montana\, Trey Songz\, Sean Paul\, K Trap\, D Block Europe\, you can expect nothing but BIG names and great vibes. You can catch Jordan Valleys and DJ Fourty playing the best in RnB\, Hip Hop\, House\, Afrobeat each and every week.
URL:https://aboutmarbella.com/evento/mayfair-sessions-dj-jordan-valleys-3/
LOCATION:Tibu Marbella\, Pl. de Antonio Banderas\, 34\, 35\,36\,37\, Marbella\, Malaga\, 29660\, España
ATTACH;FMTTYPE=image/jpeg:https://aboutmarbella.com/wp-content/uploads/2024/07/Mayfair-Sessions-2024-2.jpg
END:VEVENT
BEGIN:VEVENT
DTSTART;TZID=Europe/Madrid:20240816T220000
DTEND;TZID=Europe/Madrid:20240816T233000
DTSTAMP:20260424T061640
CREATED:20240723T215043Z
LAST-MODIFIED:20240725T162255Z
UID:10000105-1723845600-1723851000@aboutmarbella.com
SUMMARY:Starlite Marbella
DESCRIPTION:ABRAHAM MATEO Y NIL MOLINER
URL:https://aboutmarbella.com/evento/abraham-mateo-y-nil-moliner/
LOCATION:Starlite Marbella\, C. Albinoni\, s/n\, Marbella\, Malaga\, 29602\, España
ATTACH;FMTTYPE=image/jpeg:https://aboutmarbella.com/wp-content/uploads/2024/07/70d109105304a5ccb88486f08e65d7c1_koobin_800x774_385_374_crop_1.jpg
END:VEVENT
BEGIN:VEVENT
DTSTART;TZID=Europe/Madrid:20240816T213000
DTEND;TZID=Europe/Madrid:20240816T233000
DTSTAMP:20260424T061640
CREATED:20240723T181006Z
LAST-MODIFIED:20240725T162315Z
UID:10000052-1723843800-1723851000@aboutmarbella.com
SUMMARY:La Sala Puerto Banus
DESCRIPTION:Tony Capo\n  \nTony Capo is a professional singer and guitarist\, with over 15 years’ experience he is able to work the room performing his extensive repertoire. Tony always keeps the dance floor bouncing! \nTony Capo es un cantante y guitarrista profesional\, con más de 15 años de experiencia\, es capaz de conectarse con la audiencia con su amplio repertorio. Tony siempre llena de ritmo trepidante la pista de baile.
URL:https://aboutmarbella.com/evento/tony-capo-3/
LOCATION:La Sala Puerto Banus\, C. Juan Belmonte\, s/n\, Marbella\, Marbella\, 29660\, España
ATTACH;FMTTYPE=image/jpeg:https://aboutmarbella.com/wp-content/uploads/2024/07/2020-TonyCapo.jpg
END:VEVENT
BEGIN:VEVENT
DTSTART;TZID=Europe/Madrid:20240816T200000
DTEND;TZID=Europe/Madrid:20240816T233000
DTSTAMP:20260424T061640
CREATED:20240730T144408Z
LAST-MODIFIED:20240730T144408Z
UID:10000822-1723838400-1723851000@aboutmarbella.com
SUMMARY:Mercadillo Artesanal Benahavis
DESCRIPTION:MERCADILLO ARTESANAL DE BENAHAVÍS DE VERANO\n\nEste jueves 4 de julio se inaugura el Mercadillo Artesanal de Benahavís. Se instalará jueves y viernes de julio y agosto\, a partir de las ocho de la tarde y hasta medianoche\, en la Avenida de Andalucía.\nSerá un espacio abierto para disfrutar\, en las noches de verano\, del trabajo de nuestros artesanos.\nThis Thursday\, the 4th of July\, sees the inauguration of the Benahavís Craft Market. It will be on Thursday and Friday\, July to August\, from eight until midnight\, in the Avenida de Andalucía.\nIt will be an open space to enjoy\, on summer evenings\, the work of our artists.
URL:https://aboutmarbella.com/evento/mercadillo-artesanal-benahavis/2024-08-16/
LOCATION:Benahavis Mercadillo Artesanal\, Avenida de Andalucía\, 34\, Benahavis\, Malaga\, 29679\, España
ATTACH;FMTTYPE=image/jpeg:https://aboutmarbella.com/wp-content/uploads/2024/07/mercadillo-artesanal-verano.jpg
END:VEVENT
BEGIN:VEVENT
DTSTART;TZID=Europe/Madrid:20240816T200000
DTEND;TZID=Europe/Madrid:20240816T233000
DTSTAMP:20260424T061640
CREATED:20240724T175903Z
LAST-MODIFIED:20240725T162452Z
UID:10000178-1723838400-1723851000@aboutmarbella.com
SUMMARY:Marbella Arena
DESCRIPTION:AL WALID HALLANI X DJ ASEEL X MOCCI X FAYDEEL\n\nDisfruta de una noche espectacular con la mejor escena musical árabe.\nAl Walid Hallani\, el ya anunciado DJ Aseel\, Mocci y Faydee estarán en uno de los eventos referentes del mundo árabe.
URL:https://aboutmarbella.com/evento/al-walid-hallani-x-dj-aseel-x-mocci-x-faydeel/
LOCATION:Marbella Arena\, Avda. Pilar Calvo\, 28\, Nueva Andalucía\, Malaga\, 29660\, España
ATTACH;FMTTYPE=image/jpeg:https://aboutmarbella.com/wp-content/uploads/2024/07/MARBELLA-ARENA-1080x1080-modified.jpg
END:VEVENT
BEGIN:VEVENT
DTSTART;TZID=Europe/Madrid:20240816T200000
DTEND;TZID=Europe/Madrid:20240816T230000
DTSTAMP:20260424T061640
CREATED:20240723T180725Z
LAST-MODIFIED:20240725T162514Z
UID:10000051-1723838400-1723849200@aboutmarbella.com
SUMMARY:La Sala Puerto Banus
DESCRIPTION:Johnny G Duo
URL:https://aboutmarbella.com/evento/johnny-g-duo-2/
LOCATION:La Sala Puerto Banus\, C. Juan Belmonte\, s/n\, Marbella\, Marbella\, 29660\, España
ATTACH;FMTTYPE=image/jpeg:https://aboutmarbella.com/wp-content/uploads/2024/07/johnnyg_4MMp.jpg
END:VEVENT
BEGIN:VEVENT
DTSTART;TZID=Europe/Madrid:20240816T190000
DTEND;TZID=Europe/Madrid:20240816T213000
DTSTAMP:20260424T061640
CREATED:20240723T180549Z
LAST-MODIFIED:20240725T162531Z
UID:10000050-1723834800-1723843800@aboutmarbella.com
SUMMARY:La Sala Puerto Banus
DESCRIPTION:Paul Hull
URL:https://aboutmarbella.com/evento/paul-hull-2/
LOCATION:La Sala Puerto Banus\, C. Juan Belmonte\, s/n\, Marbella\, Marbella\, 29660\, España
ATTACH;FMTTYPE=image/jpeg:https://aboutmarbella.com/wp-content/uploads/2024/07/paulhull_y8z1.jpg
END:VEVENT
BEGIN:VEVENT
DTSTART;TZID=Europe/Madrid:20240816T120000
DTEND;TZID=Europe/Madrid:20240816T233000
DTSTAMP:20260424T061640
CREATED:20240729T174516Z
LAST-MODIFIED:20240729T174516Z
UID:10000327-1723809600-1723851000@aboutmarbella.com
SUMMARY:PLAYA PADRE
DESCRIPTION:FRIDAY PADRE\nEvery Friday\nEMMERALD\nFrom 12:00h\n 
URL:https://aboutmarbella.com/evento/playa-padre-5/2024-08-16/
LOCATION:Playa Padre\, s/n\, Calle playa del cable\, Marbella\, Malaga\, 29603\, España
ATTACH;FMTTYPE=image/png:https://aboutmarbella.com/wp-content/uploads/2024/07/1722264227_05_FRIDAY_WEB-1400-she3kz.png
END:VEVENT
BEGIN:VEVENT
DTSTART;TZID=Europe/Madrid:20240816T120000
DTEND;TZID=Europe/Madrid:20240816T200000
DTSTAMP:20260424T061641
CREATED:20240729T200852Z
LAST-MODIFIED:20240729T200852Z
UID:10000760-1723809600-1723838400@aboutmarbella.com
SUMMARY:Mogli The Key
DESCRIPTION:MOGLI X BABYLON
URL:https://aboutmarbella.com/evento/mogli-the-key-5/2024-08-16/
LOCATION:Mogli The Key\, Av. del Prado\, 37\, Marbella\, Malaga\, 29660\, España
ATTACH;FMTTYPE=image/jpeg:https://aboutmarbella.com/wp-content/uploads/2024/07/Imagen-de-WhatsApp-2024-07-29-a-las-21.51.03_9785ec9a.jpg
END:VEVENT
BEGIN:VEVENT
DTSTART;TZID=Europe/Madrid:20240816T110000
DTEND;TZID=Europe/Madrid:20240816T210000
DTSTAMP:20260424T061641
CREATED:20240729T193040Z
LAST-MODIFIED:20240729T193040Z
UID:10000612-1723806000-1723842000@aboutmarbella.com
SUMMARY:Ocean Club Marbella
DESCRIPTION:ELEMENTS\n 
URL:https://aboutmarbella.com/evento/ocean-club-marbella/2024-08-16/
LOCATION:Ocean Club Marbella\, Avda. Lola Flores s/n\, Marbella\, Malaga\, 29660\, España
ATTACH;FMTTYPE=image/jpeg:https://aboutmarbella.com/wp-content/uploads/2024/07/Imagen-de-WhatsApp-2024-07-29-a-las-21.20.06_0ea55472.jpg
END:VEVENT
BEGIN:VEVENT
DTSTART;TZID=Europe/Madrid:20240816T110000
DTEND;TZID=Europe/Madrid:20240816T210000
DTSTAMP:20260424T061641
CREATED:20240729T184538Z
LAST-MODIFIED:20240729T184538Z
UID:10000553-1723806000-1723842000@aboutmarbella.com
SUMMARY:La Sala By The Sea
DESCRIPTION:EROS\nSCOTT STRUTTON\nADRIAN SAX
URL:https://aboutmarbella.com/evento/la-sala-by-the-sea-5/2024-08-16/
LOCATION:Malaga
ATTACH;FMTTYPE=image/jpeg:https://aboutmarbella.com/wp-content/uploads/2024/07/friday24.jpg
END:VEVENT
END:VCALENDAR