BEGIN:VCALENDAR
VERSION:2.0
PRODID:-//About Marbella - ECPv6.8.0//NONSGML v1.0//EN
CALSCALE:GREGORIAN
METHOD:PUBLISH
X-WR-CALNAME:About Marbella
X-ORIGINAL-URL:https://aboutmarbella.com
X-WR-CALDESC:Events for About Marbella
REFRESH-INTERVAL;VALUE=DURATION:PT1H
X-Robots-Tag:noindex
X-PUBLISHED-TTL:PT1H
BEGIN:VTIMEZONE
TZID:Europe/Madrid
BEGIN:DAYLIGHT
TZOFFSETFROM:+0100
TZOFFSETTO:+0200
TZNAME:CEST
DTSTART:20240331T010000
END:DAYLIGHT
BEGIN:STANDARD
TZOFFSETFROM:+0200
TZOFFSETTO:+0100
TZNAME:CET
DTSTART:20241027T010000
END:STANDARD
END:VTIMEZONE
BEGIN:VEVENT
DTSTART;TZID=Europe/Madrid:20240824T233000
DTEND;TZID=Europe/Madrid:20240825T020000
DTSTAMP:20260424T021832
CREATED:20240723T220547Z
LAST-MODIFIED:20240725T160235Z
UID:10000117-1724542200-1724551200@aboutmarbella.com
SUMMARY:Starlite Marbella
DESCRIPTION:ALVAMA ICE
URL:https://aboutmarbella.com/evento/alvama-ice/
LOCATION:Starlite Marbella\, C. Albinoni\, s/n\, Marbella\, Malaga\, 29602\, España
ATTACH;FMTTYPE=image/jpeg:https://aboutmarbella.com/wp-content/uploads/2024/07/6802e673a025fcf721917aff56c5d0e3_ALVAMAICE24.08_385_374_crop_1.jpg
END:VEVENT
BEGIN:VEVENT
DTSTART;TZID=Europe/Madrid:20240824T220000
DTEND;TZID=Europe/Madrid:20240824T233000
DTSTAMP:20260424T021832
CREATED:20240723T220420Z
LAST-MODIFIED:20240725T160255Z
UID:10000116-1724536800-1724542200@aboutmarbella.com
SUMMARY:Starlite Marbella
DESCRIPTION:SEBASTIÁN YATRA
URL:https://aboutmarbella.com/evento/sebastian-yatra/
LOCATION:Starlite Marbella\, C. Albinoni\, s/n\, Marbella\, Malaga\, 29602\, España
ATTACH;FMTTYPE=image/jpeg:https://aboutmarbella.com/wp-content/uploads/2024/07/8af24d3600be2fbdc106ac5f5270a820_koobin_800x77431_385_374_crop_1.jpg
END:VEVENT
BEGIN:VEVENT
DTSTART;TZID=Europe/Madrid:20240824T200000
DTEND;TZID=Europe/Madrid:20240824T230000
DTSTAMP:20260424T021832
CREATED:20240723T183343Z
LAST-MODIFIED:20240725T160320Z
UID:10000069-1724529600-1724540400@aboutmarbella.com
SUMMARY:La Sala Puerto Banus
DESCRIPTION:Diva Fever
URL:https://aboutmarbella.com/evento/diva-fever-4/
LOCATION:La Sala Puerto Banus\, C. Juan Belmonte\, s/n\, Marbella\, Marbella\, 29660\, España
ATTACH;FMTTYPE=image/jpeg:https://aboutmarbella.com/wp-content/uploads/2024/07/divafever_blAy.jpg
END:VEVENT
BEGIN:VEVENT
DTSTART;TZID=Europe/Madrid:20240824T200000
DTEND;TZID=Europe/Madrid:20240824T230000
DTSTAMP:20260424T021832
CREATED:20240723T183232Z
LAST-MODIFIED:20240725T160512Z
UID:10000068-1724529600-1724540400@aboutmarbella.com
SUMMARY:La Sala Puerto Banus
DESCRIPTION:Joey Sax &amp; DJ Lady Jade
URL:https://aboutmarbella.com/evento/joey-sax-dj-lady-jade-5/
LOCATION:La Sala Puerto Banus\, C. Juan Belmonte\, s/n\, Marbella\, Marbella\, 29660\, España
ATTACH;FMTTYPE=image/jpeg:https://aboutmarbella.com/wp-content/uploads/2024/07/JoeySax-LadyJade.jpg
END:VEVENT
BEGIN:VEVENT
DTSTART;TZID=Europe/Madrid:20240824T120000
DTEND;TZID=Europe/Madrid:20240824T233000
DTSTAMP:20260424T021832
CREATED:20240729T174713Z
LAST-MODIFIED:20240729T174713Z
UID:10000393-1724500800-1724542200@aboutmarbella.com
SUMMARY:PLAYA PADRE
DESCRIPTION:VALE\nEvery Saturday\nARTCHITEC\nFrom 12:00h\n 
URL:https://aboutmarbella.com/evento/playa-padre-6/2024-08-24/
LOCATION:Playa Padre\, s/n\, Calle playa del cable\, Marbella\, Malaga\, 29603\, España
ATTACH;FMTTYPE=image/png:https://aboutmarbella.com/wp-content/uploads/2024/07/1722264332_06_VALEWEB2024PP-1400-she3nx.png
END:VEVENT
BEGIN:VEVENT
DTSTART;TZID=Europe/Madrid:20240824T120000
DTEND;TZID=Europe/Madrid:20240824T200000
DTSTAMP:20260424T021832
CREATED:20240729T201032Z
LAST-MODIFIED:20240729T201032Z
UID:10000783-1724500800-1724529600@aboutmarbella.com
SUMMARY:Mogli The Key
DESCRIPTION:MOGLI X LOVEJUICE\n 
URL:https://aboutmarbella.com/evento/mogli-the-key-6/2024-08-24/
LOCATION:Mogli The Key\, Av. del Prado\, 37\, Marbella\, Malaga\, 29660\, España
ATTACH;FMTTYPE=image/jpeg:https://aboutmarbella.com/wp-content/uploads/2024/07/Imagen-de-WhatsApp-2024-07-29-a-las-21.51.03_83676e95.jpg
END:VEVENT
BEGIN:VEVENT
DTSTART;TZID=Europe/Madrid:20240824T120000
DTEND;TZID=Europe/Madrid:20240824T150000
DTSTAMP:20260424T021832
CREATED:20240723T183045Z
LAST-MODIFIED:20240725T160531Z
UID:10000067-1724500800-1724511600@aboutmarbella.com
SUMMARY:La Sala Puerto Banus
DESCRIPTION:Amelinde\n  \nAmelinde has been singing on the coast for over 20 years in different projects ranging from various tribute shows to her very own live band. \nHer years of experience have brought with it an extensive repertoire as a solo artist of soul\, rock\, pop and everything in between so is guaranteed to have something to suit every musical taste.
URL:https://aboutmarbella.com/evento/amelinde-3/
LOCATION:La Sala Puerto Banus\, C. Juan Belmonte\, s/n\, Marbella\, Marbella\, 29660\, España
ATTACH;FMTTYPE=image/jpeg:https://aboutmarbella.com/wp-content/uploads/2024/07/Amelinde_eK3P.jpg
END:VEVENT
BEGIN:VEVENT
DTSTART;TZID=Europe/Madrid:20240824T110000
DTEND;TZID=Europe/Madrid:20240824T210000
DTSTAMP:20260424T021832
CREATED:20240729T185058Z
LAST-MODIFIED:20240729T185058Z
UID:10000572-1724497200-1724533200@aboutmarbella.com
SUMMARY:La Sala By The Sea
DESCRIPTION:SAMUI\nSCOTT STRUTTOON \nSHAYNE G1VEN \nJOEY SAX
URL:https://aboutmarbella.com/evento/la-sala-by-the-sea-6/2024-08-24/
LOCATION:La Sala By The Sea\, Av José Banús\, Marbella\, Malaga\, 29660\, España
ATTACH;FMTTYPE=image/jpeg:https://aboutmarbella.com/wp-content/uploads/2024/07/saturday24.jpg
END:VEVENT
BEGIN:VEVENT
DTSTART;TZID=Europe/Madrid:20240823T233000
DTEND;TZID=Europe/Madrid:20240824T060000
DTSTAMP:20260424T021832
CREATED:20240724T111201Z
LAST-MODIFIED:20240725T160621Z
UID:10000168-1724455800-1724479200@aboutmarbella.com
SUMMARY:Tibu Puerto Banus
DESCRIPTION:MAYFAIR SESSIONS – DJ JORDAN VALLEYS\n  \nGet ready for the ninth season of The Mayfair Sessions in Marbella during Summer 2024. The highly anticipated return brings you the flagship Friday Sessions at Marbella’s premier nightclub\, Tibu Marbella. Prepare for an extraordinary lineup featuring big names and incredible vibes\, with past performances by artists like French Montana\, Trey Songz\, Sean Paul\, Stormzy\, Craig David\, K Trap\, and D Block Europe. Join us every week to catch Jordan Valleys and DJ Fourty spinning the best in RnB\, Hip Hop\, House\, and Afrobeat\, ensuring an unforgettable experience.
URL:https://aboutmarbella.com/evento/mayfair-sessions-dj-jordan-valleys-4/
LOCATION:Tibu Marbella\, Pl. de Antonio Banderas\, 34\, 35\,36\,37\, Marbella\, Malaga\, 29660\, España
ATTACH;FMTTYPE=image/jpeg:https://aboutmarbella.com/wp-content/uploads/2024/07/Mayfair-Sessions-2024-1.jpg
END:VEVENT
BEGIN:VEVENT
DTSTART;TZID=Europe/Madrid:20240823T220000
DTEND;TZID=Europe/Madrid:20240823T233000
DTSTAMP:20260424T021832
CREATED:20240723T220313Z
LAST-MODIFIED:20240725T160641Z
UID:10000115-1724450400-1724455800@aboutmarbella.com
SUMMARY:Starlite Marbella
DESCRIPTION:ANA MENA
URL:https://aboutmarbella.com/evento/ana-mena/
LOCATION:Starlite Marbella\, C. Albinoni\, s/n\, Marbella\, Malaga\, 29602\, España
ATTACH;FMTTYPE=image/jpeg:https://aboutmarbella.com/wp-content/uploads/2024/07/4aed0e3969de7ad3658eb343aa9a9898_0823_AnaMena_800x774_385_374_crop_1.jpg
END:VEVENT
BEGIN:VEVENT
DTSTART;TZID=Europe/Madrid:20240823T213000
DTEND;TZID=Europe/Madrid:20240823T233000
DTSTAMP:20260424T021832
CREATED:20240723T182925Z
LAST-MODIFIED:20240725T160710Z
UID:10000066-1724448600-1724455800@aboutmarbella.com
SUMMARY:La Sala Puerto Banus
DESCRIPTION:Tony Capo\n  \nTony Capo is a professional singer and guitarist\, with over 15 years’ experience he is able to work the room performing his extensive repertoire. Tony always keeps the dance floor bouncing! \nTony Capo es un cantante y guitarrista profesional\, con más de 15 años de experiencia\, es capaz de conectarse con la audiencia con su amplio repertorio. Tony siempre llena de ritmo trepidante la pista de baile.
URL:https://aboutmarbella.com/evento/tony-capo-5/
LOCATION:La Sala Puerto Banus\, C. Juan Belmonte\, s/n\, Marbella\, Marbella\, 29660\, España
ATTACH;FMTTYPE=image/jpeg:https://aboutmarbella.com/wp-content/uploads/2024/07/2020-TonyCapo.jpg
END:VEVENT
BEGIN:VEVENT
DTSTART;TZID=Europe/Madrid:20240823T200000
DTEND;TZID=Europe/Madrid:20240823T233000
DTSTAMP:20260424T021832
CREATED:20240730T144408Z
LAST-MODIFIED:20240730T144408Z
UID:10000824-1724443200-1724455800@aboutmarbella.com
SUMMARY:Mercadillo Artesanal Benahavis
DESCRIPTION:MERCADILLO ARTESANAL DE BENAHAVÍS DE VERANO\n\nEste jueves 4 de julio se inaugura el Mercadillo Artesanal de Benahavís. Se instalará jueves y viernes de julio y agosto\, a partir de las ocho de la tarde y hasta medianoche\, en la Avenida de Andalucía.\nSerá un espacio abierto para disfrutar\, en las noches de verano\, del trabajo de nuestros artesanos.\nThis Thursday\, the 4th of July\, sees the inauguration of the Benahavís Craft Market. It will be on Thursday and Friday\, July to August\, from eight until midnight\, in the Avenida de Andalucía.\nIt will be an open space to enjoy\, on summer evenings\, the work of our artists.
URL:https://aboutmarbella.com/evento/mercadillo-artesanal-benahavis/2024-08-23/
LOCATION:Benahavis Mercadillo Artesanal\, Avenida de Andalucía\, 34\, Benahavis\, Malaga\, 29679\, España
ATTACH;FMTTYPE=image/jpeg:https://aboutmarbella.com/wp-content/uploads/2024/07/mercadillo-artesanal-verano.jpg
END:VEVENT
BEGIN:VEVENT
DTSTART;TZID=Europe/Madrid:20240823T200000
DTEND;TZID=Europe/Madrid:20240823T230000
DTSTAMP:20260424T021832
CREATED:20240723T182800Z
LAST-MODIFIED:20240725T160734Z
UID:10000065-1724443200-1724454000@aboutmarbella.com
SUMMARY:La Sala Puerto Banus
DESCRIPTION:Debra Stacey\n  \nDebra has over 20 years experience in the music business including working as a session singer with some very well known Artists\, not only in the studio but live shows as well. \nShe’s a versatile vocalist covering an eclectic mix of Genres including; Mixed Soul\, Funk\, Motown\, Club Classics and Jazz to name a few.
URL:https://aboutmarbella.com/evento/debra-stacey-5/
LOCATION:Malaga
ATTACH;FMTTYPE=image/jpeg:https://aboutmarbella.com/wp-content/uploads/2024/07/DebraStacey_PZNI.jpg
END:VEVENT
BEGIN:VEVENT
DTSTART;TZID=Europe/Madrid:20240823T190000
DTEND;TZID=Europe/Madrid:20240823T213000
DTSTAMP:20260424T021833
CREATED:20240723T182634Z
LAST-MODIFIED:20240725T160756Z
UID:10000064-1724439600-1724448600@aboutmarbella.com
SUMMARY:La Sala Puerto Banus
DESCRIPTION:Paul Hull
URL:https://aboutmarbella.com/evento/paul-hull-3/
LOCATION:La Sala Puerto Banus\, C. Juan Belmonte\, s/n\, Marbella\, Marbella\, 29660\, España
ATTACH;FMTTYPE=image/jpeg:https://aboutmarbella.com/wp-content/uploads/2024/07/paulhull_y8z1.jpg
END:VEVENT
BEGIN:VEVENT
DTSTART;TZID=Europe/Madrid:20240823T120000
DTEND;TZID=Europe/Madrid:20240823T233000
DTSTAMP:20260424T021833
CREATED:20240729T174516Z
LAST-MODIFIED:20240729T174516Z
UID:10000328-1724414400-1724455800@aboutmarbella.com
SUMMARY:PLAYA PADRE
DESCRIPTION:FRIDAY PADRE\nEvery Friday\nEMMERALD\nFrom 12:00h\n 
URL:https://aboutmarbella.com/evento/playa-padre-5/2024-08-23/
LOCATION:Playa Padre\, s/n\, Calle playa del cable\, Marbella\, Malaga\, 29603\, España
ATTACH;FMTTYPE=image/png:https://aboutmarbella.com/wp-content/uploads/2024/07/1722264227_05_FRIDAY_WEB-1400-she3kz.png
END:VEVENT
BEGIN:VEVENT
DTSTART;TZID=Europe/Madrid:20240823T120000
DTEND;TZID=Europe/Madrid:20240823T200000
DTSTAMP:20260424T021833
CREATED:20240729T200852Z
LAST-MODIFIED:20240729T200852Z
UID:10000761-1724414400-1724443200@aboutmarbella.com
SUMMARY:Mogli The Key
DESCRIPTION:MOGLI X BABYLON
URL:https://aboutmarbella.com/evento/mogli-the-key-5/2024-08-23/
LOCATION:Mogli The Key\, Av. del Prado\, 37\, Marbella\, Malaga\, 29660\, España
ATTACH;FMTTYPE=image/jpeg:https://aboutmarbella.com/wp-content/uploads/2024/07/Imagen-de-WhatsApp-2024-07-29-a-las-21.51.03_9785ec9a.jpg
END:VEVENT
BEGIN:VEVENT
DTSTART;TZID=Europe/Madrid:20240823T110000
DTEND;TZID=Europe/Madrid:20240823T210000
DTSTAMP:20260424T021833
CREATED:20240729T193040Z
LAST-MODIFIED:20240729T193040Z
UID:10000613-1724410800-1724446800@aboutmarbella.com
SUMMARY:Ocean Club Marbella
DESCRIPTION:ELEMENTS\n 
URL:https://aboutmarbella.com/evento/ocean-club-marbella/2024-08-23/
LOCATION:Ocean Club Marbella\, Avda. Lola Flores s/n\, Marbella\, Malaga\, 29660\, España
ATTACH;FMTTYPE=image/jpeg:https://aboutmarbella.com/wp-content/uploads/2024/07/Imagen-de-WhatsApp-2024-07-29-a-las-21.20.06_0ea55472.jpg
END:VEVENT
BEGIN:VEVENT
DTSTART;TZID=Europe/Madrid:20240823T110000
DTEND;TZID=Europe/Madrid:20240823T210000
DTSTAMP:20260424T021833
CREATED:20240729T184538Z
LAST-MODIFIED:20240729T184538Z
UID:10000554-1724410800-1724446800@aboutmarbella.com
SUMMARY:La Sala By The Sea
DESCRIPTION:EROS\nSCOTT STRUTTON\nADRIAN SAX
URL:https://aboutmarbella.com/evento/la-sala-by-the-sea-5/2024-08-23/
LOCATION:Malaga
ATTACH;FMTTYPE=image/jpeg:https://aboutmarbella.com/wp-content/uploads/2024/07/friday24.jpg
END:VEVENT
BEGIN:VEVENT
DTSTART;TZID=Europe/Madrid:20240823T100000
DTEND;TZID=Europe/Madrid:20240823T220000
DTSTAMP:20260424T021833
CREATED:20240729T180027Z
LAST-MODIFIED:20240729T180027Z
UID:10000476-1724407200-1724450400@aboutmarbella.com
SUMMARY:LA CABANE
DESCRIPTION:LA BELLEZZA
URL:https://aboutmarbella.com/evento/la-cabane-4/2024-08-23/
LOCATION:La Cabane\, C. Jabalí\, Marbella\, Malaga\, 29603\, España
ATTACH;FMTTYPE=image/png:https://aboutmarbella.com/wp-content/uploads/2024/07/00_BASIC_LA_BELLEZZA_SQ-1400-she38g.png
END:VEVENT
BEGIN:VEVENT
DTSTART;TZID=Europe/Madrid:20240822T233000
DTEND;TZID=Europe/Madrid:20240823T060000
DTSTAMP:20260424T021833
CREATED:20240724T110957Z
LAST-MODIFIED:20240725T160819Z
UID:10000167-1724369400-1724392800@aboutmarbella.com
SUMMARY:Tibu Puerto Banus
DESCRIPTION:RED CUP PRESENTS PREDZ UK – DJ PREDZ UK\n  \nLondon & Dubai best brands come together every Thursday bringing you a brand new night RED CUP at TIBU Nightclub. With special guest PREDZ UK and DJ SAI\, MAX DENHAM playing non stop bangers UK\, Afrobeats\, Hip-Hop\, Trap\, Amapiano\, RnB\, soulful house and much more
URL:https://aboutmarbella.com/evento/red-cup-presents-predz-uk-dj-predz-uk/
LOCATION:Tibu Marbella\, Pl. de Antonio Banderas\, 34\, 35\,36\,37\, Marbella\, Malaga\, 29660\, España
ATTACH;FMTTYPE=image/jpeg:https://aboutmarbella.com/wp-content/uploads/2024/07/red-cup-predz-27.06-26.07-22.08-002.jpeg
END:VEVENT
BEGIN:VEVENT
DTSTART;TZID=Europe/Madrid:20240822T233000
DTEND;TZID=Europe/Madrid:20240823T020000
DTSTAMP:20260424T021833
CREATED:20240723T220201Z
LAST-MODIFIED:20240725T160836Z
UID:10000114-1724369400-1724378400@aboutmarbella.com
SUMMARY:Starlite Marbella
DESCRIPTION:DJ NANO
URL:https://aboutmarbella.com/evento/dj-nano-3/
LOCATION:Starlite Marbella\, C. Albinoni\, s/n\, Marbella\, Malaga\, 29602\, España
ATTACH;FMTTYPE=image/jpeg:https://aboutmarbella.com/wp-content/uploads/2024/07/50f311115de8382ad62d7da488255f3f_15-8_385_374_crop_1-1.jpg
END:VEVENT
BEGIN:VEVENT
DTSTART;TZID=Europe/Madrid:20240822T220000
DTEND;TZID=Europe/Madrid:20240822T233000
DTSTAMP:20260424T021833
CREATED:20240723T220049Z
LAST-MODIFIED:20240725T160851Z
UID:10000113-1724364000-1724369400@aboutmarbella.com
SUMMARY:Starlite Marbella
DESCRIPTION:RELS B
URL:https://aboutmarbella.com/evento/rels-b/
LOCATION:Starlite Marbella\, C. Albinoni\, s/n\, Marbella\, Malaga\, 29602\, España
ATTACH;FMTTYPE=image/jpeg:https://aboutmarbella.com/wp-content/uploads/2024/07/143dbc3ff6091031e881170bb0dd9d3d_koobin_800x774_385_374_crop_1.jpg
END:VEVENT
BEGIN:VEVENT
DTSTART;TZID=Europe/Madrid:20240822T200000
DTEND;TZID=Europe/Madrid:20240822T233000
DTSTAMP:20260424T021833
CREATED:20240730T144408Z
LAST-MODIFIED:20240730T144408Z
UID:10000823-1724356800-1724369400@aboutmarbella.com
SUMMARY:Mercadillo Artesanal Benahavis
DESCRIPTION:MERCADILLO ARTESANAL DE BENAHAVÍS DE VERANO\n\nEste jueves 4 de julio se inaugura el Mercadillo Artesanal de Benahavís. Se instalará jueves y viernes de julio y agosto\, a partir de las ocho de la tarde y hasta medianoche\, en la Avenida de Andalucía.\nSerá un espacio abierto para disfrutar\, en las noches de verano\, del trabajo de nuestros artesanos.\nThis Thursday\, the 4th of July\, sees the inauguration of the Benahavís Craft Market. It will be on Thursday and Friday\, July to August\, from eight until midnight\, in the Avenida de Andalucía.\nIt will be an open space to enjoy\, on summer evenings\, the work of our artists.
URL:https://aboutmarbella.com/evento/mercadillo-artesanal-benahavis/2024-08-22/
LOCATION:Benahavis Mercadillo Artesanal\, Avenida de Andalucía\, 34\, Benahavis\, Malaga\, 29679\, España
ATTACH;FMTTYPE=image/jpeg:https://aboutmarbella.com/wp-content/uploads/2024/07/mercadillo-artesanal-verano.jpg
END:VEVENT
BEGIN:VEVENT
DTSTART;TZID=Europe/Madrid:20240822T200000
DTEND;TZID=Europe/Madrid:20240822T230000
DTSTAMP:20260424T021833
CREATED:20240723T182509Z
LAST-MODIFIED:20240725T160911Z
UID:10000063-1724356800-1724367600@aboutmarbella.com
SUMMARY:La Sala Puerto Banus
DESCRIPTION:Debra Stacey\n  \nDebra has over 20 years experience in the music business including working as a session singer with some very well known Artists\, not only in the studio but live shows as well. \nShe’s a versatile vocalist covering an eclectic mix of Genres including; Mixed Soul\, Funk\, Motown\, Club Classics and Jazz to name a few.
URL:https://aboutmarbella.com/evento/debra-stacey-4/
LOCATION:La Sala Puerto Banus\, C. Juan Belmonte\, s/n\, Marbella\, Marbella\, 29660\, España
ATTACH;FMTTYPE=image/jpeg:https://aboutmarbella.com/wp-content/uploads/2024/07/DebraStacey_PZNI.jpg
END:VEVENT
BEGIN:VEVENT
DTSTART;TZID=Europe/Madrid:20240822T190000
DTEND;TZID=Europe/Madrid:20240822T190000
DTSTAMP:20260424T021833
CREATED:20240724T180111Z
LAST-MODIFIED:20240725T160934Z
UID:10000184-1724353200-1724353200@aboutmarbella.com
SUMMARY:Marbella Arena
DESCRIPTION:Bullring Sessions presenta a Example\n\nMyriad Live presenta las Bullring Sessions en la Marbella Arena con el único e inigualable artista galardonado y superestrella Example 🌟🎤\nÚnete a nosotros para una noche inolvidable con Example\, el músico\, cantante\, compositor\, rapero y productor musical inglés\, que se sube al escenario para darlo todo. Con éxitos como «Changed the Way You Kiss Me»\, «Kickstarts» y «Stay Awake»\, Example ha dominado las listas y los corazones de los fans en todo el mundo. 🎵💥
URL:https://aboutmarbella.com/evento/bullring-sessions-presenta-a-example/
LOCATION:Marbella Arena\, Avda. Pilar Calvo\, 28\, Nueva Andalucía\, Malaga\, 29660\, España
ATTACH;FMTTYPE=image/jpeg:https://aboutmarbella.com/wp-content/uploads/2024/07/post.jpg
END:VEVENT
BEGIN:VEVENT
DTSTART;TZID=Europe/Madrid:20240822T120000
DTEND;TZID=Europe/Madrid:20240822T200000
DTSTAMP:20260424T021833
CREATED:20240729T200716Z
LAST-MODIFIED:20240729T200716Z
UID:10000739-1724328000-1724356800@aboutmarbella.com
SUMMARY:Mogli The Key
DESCRIPTION:MOGLI X THE MAYFAIR SESSIONS
URL:https://aboutmarbella.com/evento/mogli-the-key-4/2024-08-22/
LOCATION:Mogli The Key\, Av. del Prado\, 37\, Marbella\, Malaga\, 29660\, España
ATTACH;FMTTYPE=image/jpeg:https://aboutmarbella.com/wp-content/uploads/2024/07/Imagen-de-WhatsApp-2024-07-29-a-las-21.51.03_ccf0d506.jpg
END:VEVENT
BEGIN:VEVENT
DTSTART;TZID=Europe/Madrid:20240822T110000
DTEND;TZID=Europe/Madrid:20240822T210000
DTSTAMP:20260424T021833
CREATED:20240729T184332Z
LAST-MODIFIED:20240729T184332Z
UID:10000541-1724324400-1724360400@aboutmarbella.com
SUMMARY:La Sala By The Sea
DESCRIPTION:REWIND\nDJ BEN CULLUM\nSHAYNE G1VEN\nADRIAN SAX
URL:https://aboutmarbella.com/evento/la-sala-by-the-sea-4/2024-08-22/
LOCATION:Malaga
ATTACH;FMTTYPE=image/jpeg:https://aboutmarbella.com/wp-content/uploads/2024/07/thursday24.jpg
END:VEVENT
BEGIN:VEVENT
DTSTART;TZID=Europe/Madrid:20240821T233000
DTEND;TZID=Europe/Madrid:20240822T060000
DTSTAMP:20260424T021833
CREATED:20240724T110801Z
LAST-MODIFIED:20240725T161000Z
UID:10000166-1724283000-1724306400@aboutmarbella.com
SUMMARY:Tibu Puerto Banus
DESCRIPTION:AFRO GOLD\n  \nAfro Gold presents a night of the fines Afrobeats\, Amapiano\, Hip-Hop\, RnB\, Urban and more\, with resident and guest DJs
URL:https://aboutmarbella.com/evento/afro-gold-4/
LOCATION:Tibu Marbella\, Pl. de Antonio Banderas\, 34\, 35\,36\,37\, Marbella\, Malaga\, 29660\, España
ATTACH;FMTTYPE=image/png:https://aboutmarbella.com/wp-content/uploads/2024/07/afrogold-21.8.24-864x1536-1.png
END:VEVENT
BEGIN:VEVENT
DTSTART;TZID=Europe/Madrid:20240821T233000
DTEND;TZID=Europe/Madrid:20240822T020000
DTSTAMP:20260424T021833
CREATED:20240723T215937Z
LAST-MODIFIED:20240725T161019Z
UID:10000112-1724283000-1724292000@aboutmarbella.com
SUMMARY:Starlite Marbella
DESCRIPTION:JUAN MAGÁN
URL:https://aboutmarbella.com/evento/juan-magan-3/
LOCATION:Starlite Marbella\, C. Albinoni\, s/n\, Marbella\, Malaga\, 29602\, España
ATTACH;FMTTYPE=image/jpeg:https://aboutmarbella.com/wp-content/uploads/2024/07/3b7e59a83a499cc01b8e4f1360c10aab_14-8_385_374_crop_1-1.jpg
END:VEVENT
BEGIN:VEVENT
DTSTART;TZID=Europe/Madrid:20240821T220000
DTEND;TZID=Europe/Madrid:20240822T010000
DTSTAMP:20260424T021833
CREATED:20240723T182323Z
LAST-MODIFIED:20240725T161037Z
UID:10000062-1724277600-1724288400@aboutmarbella.com
SUMMARY:La Sala Puerto Banus
DESCRIPTION:Tony Capo\n  \nTony Capo is a professional singer and guitarist\, with over 15 years’ experience he is able to work the room performing his extensive repertoire. Tony always keeps the dance floor bouncing! \nTony Capo es un cantante y guitarrista profesional\, con más de 15 años de experiencia\, es capaz de conectarse con la audiencia con su amplio repertorio. Tony siempre llena de ritmo trepidante la pista de baile.
URL:https://aboutmarbella.com/evento/tony-capo-4/
LOCATION:La Sala Puerto Banus\, C. Juan Belmonte\, s/n\, Marbella\, Marbella\, 29660\, España
ATTACH;FMTTYPE=image/jpeg:https://aboutmarbella.com/wp-content/uploads/2024/07/2020-TonyCapo.jpg
END:VEVENT
END:VCALENDAR