BEGIN:VCALENDAR
VERSION:2.0
PRODID:-//About Marbella - ECPv6.8.0//NONSGML v1.0//EN
CALSCALE:GREGORIAN
METHOD:PUBLISH
X-WR-CALNAME:About Marbella
X-ORIGINAL-URL:https://aboutmarbella.com
X-WR-CALDESC:Events for About Marbella
REFRESH-INTERVAL;VALUE=DURATION:PT1H
X-Robots-Tag:noindex
X-PUBLISHED-TTL:PT1H
BEGIN:VTIMEZONE
TZID:Europe/Madrid
BEGIN:DAYLIGHT
TZOFFSETFROM:+0100
TZOFFSETTO:+0200
TZNAME:CEST
DTSTART:20240331T010000
END:DAYLIGHT
BEGIN:STANDARD
TZOFFSETFROM:+0200
TZOFFSETTO:+0100
TZNAME:CET
DTSTART:20241027T010000
END:STANDARD
END:VTIMEZONE
BEGIN:VEVENT
DTSTART;TZID=Europe/Madrid:20240928T120000
DTEND;TZID=Europe/Madrid:20240928T233000
DTSTAMP:20260423T004042
CREATED:20240729T174713Z
LAST-MODIFIED:20240729T174713Z
UID:10000398-1727524800-1727566200@aboutmarbella.com
SUMMARY:PLAYA PADRE
DESCRIPTION:VALE\nEvery Saturday\nARTCHITEC\nFrom 12:00h\n 
URL:https://aboutmarbella.com/evento/playa-padre-6/2024-09-28/
LOCATION:Playa Padre\, s/n\, Calle playa del cable\, Marbella\, Malaga\, 29603\, España
ATTACH;FMTTYPE=image/png:https://aboutmarbella.com/wp-content/uploads/2024/07/1722264332_06_VALEWEB2024PP-1400-she3nx.png
END:VEVENT
BEGIN:VEVENT
DTSTART;TZID=Europe/Madrid:20240928T120000
DTEND;TZID=Europe/Madrid:20240928T200000
DTSTAMP:20260423T004042
CREATED:20240729T201032Z
LAST-MODIFIED:20240729T201032Z
UID:10000788-1727524800-1727553600@aboutmarbella.com
SUMMARY:Mogli The Key
DESCRIPTION:MOGLI X LOVEJUICE\n 
URL:https://aboutmarbella.com/evento/mogli-the-key-6/2024-09-28/
LOCATION:Mogli The Key\, Av. del Prado\, 37\, Marbella\, Malaga\, 29660\, España
ATTACH;FMTTYPE=image/jpeg:https://aboutmarbella.com/wp-content/uploads/2024/07/Imagen-de-WhatsApp-2024-07-29-a-las-21.51.03_83676e95.jpg
END:VEVENT
BEGIN:VEVENT
DTSTART;TZID=Europe/Madrid:20240928T110000
DTEND;TZID=Europe/Madrid:20240928T210000
DTSTAMP:20260423T004042
CREATED:20240729T185058Z
LAST-MODIFIED:20240729T185058Z
UID:10000577-1727521200-1727557200@aboutmarbella.com
SUMMARY:La Sala By The Sea
DESCRIPTION:SAMUI\nSCOTT STRUTTOON \nSHAYNE G1VEN \nJOEY SAX
URL:https://aboutmarbella.com/evento/la-sala-by-the-sea-6/2024-09-28/
LOCATION:La Sala By The Sea\, Av José Banús\, Marbella\, Malaga\, 29660\, España
ATTACH;FMTTYPE=image/jpeg:https://aboutmarbella.com/wp-content/uploads/2024/07/saturday24.jpg
END:VEVENT
BEGIN:VEVENT
DTSTART;TZID=Europe/Madrid:20240927T120000
DTEND;TZID=Europe/Madrid:20240927T233000
DTSTAMP:20260423T004042
CREATED:20240729T174516Z
LAST-MODIFIED:20240729T174516Z
UID:10000333-1727438400-1727479800@aboutmarbella.com
SUMMARY:PLAYA PADRE
DESCRIPTION:FRIDAY PADRE\nEvery Friday\nEMMERALD\nFrom 12:00h\n 
URL:https://aboutmarbella.com/evento/playa-padre-5/2024-09-27/
LOCATION:Playa Padre\, s/n\, Calle playa del cable\, Marbella\, Malaga\, 29603\, España
ATTACH;FMTTYPE=image/png:https://aboutmarbella.com/wp-content/uploads/2024/07/1722264227_05_FRIDAY_WEB-1400-she3kz.png
END:VEVENT
BEGIN:VEVENT
DTSTART;TZID=Europe/Madrid:20240927T120000
DTEND;TZID=Europe/Madrid:20240927T200000
DTSTAMP:20260423T004042
CREATED:20240729T200852Z
LAST-MODIFIED:20240729T200852Z
UID:10000766-1727438400-1727467200@aboutmarbella.com
SUMMARY:Mogli The Key
DESCRIPTION:MOGLI X BABYLON
URL:https://aboutmarbella.com/evento/mogli-the-key-5/2024-09-27/
LOCATION:Mogli The Key\, Av. del Prado\, 37\, Marbella\, Malaga\, 29660\, España
ATTACH;FMTTYPE=image/jpeg:https://aboutmarbella.com/wp-content/uploads/2024/07/Imagen-de-WhatsApp-2024-07-29-a-las-21.51.03_9785ec9a.jpg
END:VEVENT
BEGIN:VEVENT
DTSTART;TZID=Europe/Madrid:20240927T110000
DTEND;TZID=Europe/Madrid:20240927T210000
DTSTAMP:20260423T004042
CREATED:20240729T184538Z
LAST-MODIFIED:20240729T184538Z
UID:10000559-1727434800-1727470800@aboutmarbella.com
SUMMARY:La Sala By The Sea
DESCRIPTION:EROS\nSCOTT STRUTTON\nADRIAN SAX
URL:https://aboutmarbella.com/evento/la-sala-by-the-sea-5/2024-09-27/
LOCATION:Malaga
ATTACH;FMTTYPE=image/jpeg:https://aboutmarbella.com/wp-content/uploads/2024/07/friday24.jpg
END:VEVENT
BEGIN:VEVENT
DTSTART;TZID=Europe/Madrid:20240926T120000
DTEND;TZID=Europe/Madrid:20240926T200000
DTSTAMP:20260423T004042
CREATED:20240729T200716Z
LAST-MODIFIED:20240729T200716Z
UID:10000744-1727352000-1727380800@aboutmarbella.com
SUMMARY:Mogli The Key
DESCRIPTION:MOGLI X THE MAYFAIR SESSIONS
URL:https://aboutmarbella.com/evento/mogli-the-key-4/2024-09-26/
LOCATION:Mogli The Key\, Av. del Prado\, 37\, Marbella\, Malaga\, 29660\, España
ATTACH;FMTTYPE=image/jpeg:https://aboutmarbella.com/wp-content/uploads/2024/07/Imagen-de-WhatsApp-2024-07-29-a-las-21.51.03_ccf0d506.jpg
END:VEVENT
BEGIN:VEVENT
DTSTART;TZID=Europe/Madrid:20240926T110000
DTEND;TZID=Europe/Madrid:20240926T210000
DTSTAMP:20260423T004042
CREATED:20240729T184332Z
LAST-MODIFIED:20240729T184332Z
UID:10000546-1727348400-1727384400@aboutmarbella.com
SUMMARY:La Sala By The Sea
DESCRIPTION:REWIND\nDJ BEN CULLUM\nSHAYNE G1VEN\nADRIAN SAX
URL:https://aboutmarbella.com/evento/la-sala-by-the-sea-4/2024-09-26/
LOCATION:Malaga
ATTACH;FMTTYPE=image/jpeg:https://aboutmarbella.com/wp-content/uploads/2024/07/thursday24.jpg
END:VEVENT
BEGIN:VEVENT
DTSTART;TZID=Europe/Madrid:20240925T120000
DTEND;TZID=Europe/Madrid:20240925T233000
DTSTAMP:20260423T004042
CREATED:20240729T174210Z
LAST-MODIFIED:20240729T174210Z
UID:10000267-1727265600-1727307000@aboutmarbella.com
SUMMARY:PLAYA PADRE
DESCRIPTION:LUNCH WITH AMIGOS\nEvery Wednesday\nEMMERALD\nFrom 12:00h\n 
URL:https://aboutmarbella.com/evento/playa-padre-3/2024-09-25/
LOCATION:Playa Padre\, s/n\, Calle playa del cable\, Marbella\, Malaga\, 29603\, España
ATTACH;FMTTYPE=image/png:https://aboutmarbella.com/wp-content/uploads/2024/07/1722264007_03_WEDNESDAY_WEB_LUNCH_WITH_AMIGOS-1400-she3ew.png
END:VEVENT
BEGIN:VEVENT
DTSTART;TZID=Europe/Madrid:20240925T120000
DTEND;TZID=Europe/Madrid:20240925T210000
DTSTAMP:20260423T004042
CREATED:20240729T200547Z
LAST-MODIFIED:20240729T200547Z
UID:10000722-1727265600-1727298000@aboutmarbella.com
SUMMARY:Mogli The Key
DESCRIPTION:MOGLI X DONT BE SHY
URL:https://aboutmarbella.com/evento/mogli-the-key-3/2024-09-25/
LOCATION:Mogli The Key\, Av. del Prado\, 37\, Marbella\, Malaga\, 29660\, España
ATTACH;FMTTYPE=image/jpeg:https://aboutmarbella.com/wp-content/uploads/2024/07/Imagen-de-WhatsApp-2024-07-29-a-las-21.51.03_43912575.jpg
END:VEVENT
BEGIN:VEVENT
DTSTART;TZID=Europe/Madrid:20240925T110000
DTEND;TZID=Europe/Madrid:20240925T210000
DTSTAMP:20260423T004042
CREATED:20240729T193226Z
LAST-MODIFIED:20240729T193226Z
UID:10000639-1727262000-1727298000@aboutmarbella.com
SUMMARY:Ocean Club Marbella
DESCRIPTION:RETRO
URL:https://aboutmarbella.com/evento/ocean-club-marbella-2/2024-09-25/
LOCATION:Ocean Club Marbella\, Avda. Lola Flores s/n\, Marbella\, Malaga\, 29660\, España
ATTACH;FMTTYPE=image/jpeg:https://aboutmarbella.com/wp-content/uploads/2024/07/Imagen-de-WhatsApp-2024-07-29-a-las-21.20.06_3be2a1ef.jpg
END:VEVENT
BEGIN:VEVENT
DTSTART;TZID=Europe/Madrid:20240925T110000
DTEND;TZID=Europe/Madrid:20240925T210000
DTSTAMP:20260423T004042
CREATED:20240729T184127Z
LAST-MODIFIED:20240729T184127Z
UID:10000529-1727262000-1727298000@aboutmarbella.com
SUMMARY:La Sala By The Sea
DESCRIPTION:PERDIDA\nJOSE GALLANO
URL:https://aboutmarbella.com/evento/la-sala-by-the-sea-3/2024-09-25/
LOCATION:La Sala By The Sea\, Av José Banús\, Marbella\, Malaga\, 29660\, España
ATTACH;FMTTYPE=image/jpeg:https://aboutmarbella.com/wp-content/uploads/2024/07/wednesday24.jpg
END:VEVENT
BEGIN:VEVENT
DTSTART;TZID=Europe/Madrid:20240924T190000
DTEND;TZID=Europe/Madrid:20240924T230000
DTSTAMP:20260423T004042
CREATED:20240724T091912Z
LAST-MODIFIED:20240725T153226Z
UID:10000136-1727204400-1727218800@aboutmarbella.com
SUMMARY:La Sala Puerto Banus
DESCRIPTION:George Michael Tribute\n  \nGeorge Michael Tribute\, 12.00€ per person VAT included\nTotal: 24.00€ VAT included (21.82€ VAT not included)Join us in our Live Lounge on Tuesday 24th September for our George Michael Tribute performed by Ryan Joseph! \nThe show price is €12 per ticket\, which needs to be pre paid in full to confirm and secure your booking. We are offering reservations at 7pm so you can enjoy dinner comfortably followed by the show starting at 9pm until 11pm. \nThe menu available on the night is our A La Carte menu\, which is to be paid separately to the tickets for the show. Click HERE to see our A La Carte menu! \nIn the event of a cancellation\, the deposit is non-refundable but can be held as a credit note up to a year from the original date of the booking. Please note this credit is to be used on a single visit or booking only. Credit notes are only available if the booking is cancelled 7 days prior to the event date.
URL:https://aboutmarbella.com/evento/george-michael-tribute/
LOCATION:La Sala Puerto Banus\, C. Juan Belmonte\, s/n\, Marbella\, Marbella\, 29660\, España
ATTACH;FMTTYPE=image/jpeg:https://aboutmarbella.com/wp-content/uploads/2024/07/georgemichael_lIWj.jpg
END:VEVENT
BEGIN:VEVENT
DTSTART;TZID=Europe/Madrid:20240924T120000
DTEND;TZID=Europe/Madrid:20240924T200000
DTSTAMP:20260423T004042
CREATED:20240729T200151Z
LAST-MODIFIED:20240729T200151Z
UID:10000700-1727179200-1727208000@aboutmarbella.com
SUMMARY:Mogli The Key
DESCRIPTION:MOGLI X AFROBEAST
URL:https://aboutmarbella.com/evento/mogli-the-key-2/2024-09-24/
LOCATION:Mogli The Key\, Av. del Prado\, 37\, Marbella\, Malaga\, 29660\, España
ATTACH;FMTTYPE=image/jpeg:https://aboutmarbella.com/wp-content/uploads/2024/07/Imagen-de-WhatsApp-2024-07-29-a-las-21.51.03_ab1c2fa5.jpg
END:VEVENT
BEGIN:VEVENT
DTSTART;TZID=Europe/Madrid:20240924T110000
DTEND;TZID=Europe/Madrid:20240924T210000
DTSTAMP:20260423T004042
CREATED:20240729T183941Z
LAST-MODIFIED:20240729T183941Z
UID:10000512-1727175600-1727211600@aboutmarbella.com
SUMMARY:La Sala By The Sea
DESCRIPTION:LURE\nDJ BEN CULLUM
URL:https://aboutmarbella.com/evento/la-sala-by-the-sea-2/2024-09-24/
LOCATION:La Sala By The Sea\, Av José Banús\, Marbella\, Malaga\, 29660\, España
ATTACH;FMTTYPE=image/jpeg:https://aboutmarbella.com/wp-content/uploads/2024/07/tuesday24.jpg
END:VEVENT
BEGIN:VEVENT
DTSTART;TZID=Europe/Madrid:20240923T190000
DTEND;TZID=Europe/Madrid:20240923T230000
DTSTAMP:20260423T004042
CREATED:20240724T090114Z
LAST-MODIFIED:20240725T153309Z
UID:10000135-1727118000-1727132400@aboutmarbella.com
SUMMARY:La Sala Puerto Banus
DESCRIPTION:Robbie Williams Tribute\n  \nRobbie Williams Tribute\, 12.00€ per person VAT included\nTotal: 24.00€ VAT included (21.82€ VAT not included)Join us in our Live Lounge on Monday 23rd September for our Robbie Williams Tribute performed by Liam Gray! \nThe show price is €12 per ticket\, which needs to be pre paid in full to confirm and secure your booking. We are offering reservations at 7pm so you can enjoy dinner comfortably followed by the show starting at 9pm until 11pm. \nThe menu available on the night is our A La Carte menu\, which is to be paid separately to the tickets for the show. Click HERE to see our A La Carte menu! \nIn the event of a cancellation\, the deposit is non-refundable but can be held as a credit note up to a year from the original date of the booking. Please note this credit is to be used on a single visit or booking only. Credit notes are only available if the booking is cancelled 7 days prior to the event date.
URL:https://aboutmarbella.com/evento/robbie-williams-tribute/
LOCATION:La Sala Puerto Banus\, C. Juan Belmonte\, s/n\, Marbella\, Marbella\, 29660\, España
ATTACH;FMTTYPE=image/jpeg:https://aboutmarbella.com/wp-content/uploads/2024/07/robbie_C3sI.jpg
END:VEVENT
BEGIN:VEVENT
DTSTART;TZID=Europe/Madrid:20240923T120000
DTEND;TZID=Europe/Madrid:20240923T233000
DTSTAMP:20260423T004042
CREATED:20240729T173948Z
LAST-MODIFIED:20240729T173948Z
UID:10000205-1727092800-1727134200@aboutmarbella.com
SUMMARY:PLAYA PADRE
DESCRIPTION:CHAKRA\nEvery Tuesday\nNANO GARRIDO\nFrom 12:00h\n 
URL:https://aboutmarbella.com/evento/playa-padre-2/2024-09-23/
LOCATION:Playa Padre\, s/n\, Calle playa del cable\, Marbella\, Malaga\, 29603\, España
ATTACH;FMTTYPE=image/png:https://aboutmarbella.com/wp-content/uploads/2024/07/1721919311_02_CHAKRA_WEB-1400-sh6pfz.png
END:VEVENT
BEGIN:VEVENT
DTSTART;TZID=Europe/Madrid:20240923T120000
DTEND;TZID=Europe/Madrid:20240923T200000
DTSTAMP:20260423T004042
CREATED:20240729T195852Z
LAST-MODIFIED:20240729T195852Z
UID:10000678-1727092800-1727121600@aboutmarbella.com
SUMMARY:Mogli The Key
DESCRIPTION:MOGLI X WETT
URL:https://aboutmarbella.com/evento/mogli-the-key/2024-09-23/
LOCATION:Mogli The Key\, Av. del Prado\, 37\, Marbella\, Malaga\, 29660\, España
ATTACH;FMTTYPE=image/jpeg:https://aboutmarbella.com/wp-content/uploads/2024/07/Imagen-de-WhatsApp-2024-07-29-a-las-21.51.03_660fae3f.jpg
END:VEVENT
BEGIN:VEVENT
DTSTART;TZID=Europe/Madrid:20240923T110000
DTEND;TZID=Europe/Madrid:20240923T210000
DTSTAMP:20260423T004042
CREATED:20240729T183718Z
LAST-MODIFIED:20240729T183718Z
UID:10000494-1727089200-1727125200@aboutmarbella.com
SUMMARY:La Sala By The Sea
DESCRIPTION:MANTRA\nDJ BEN CULLUM
URL:https://aboutmarbella.com/evento/la-sala-by-the-sea/2024-09-23/
LOCATION:La Sala By The Sea\, Av José Banús\, Marbella\, Malaga\, 29660\, España
ATTACH;FMTTYPE=image/jpeg:https://aboutmarbella.com/wp-content/uploads/2024/07/monday24.jpg
END:VEVENT
BEGIN:VEVENT
DTSTART;TZID=Europe/Madrid:20240922T120000
DTEND;TZID=Europe/Madrid:20240922T200000
DTSTAMP:20260423T004042
CREATED:20240729T201205Z
LAST-MODIFIED:20240729T201205Z
UID:10000806-1727006400-1727035200@aboutmarbella.com
SUMMARY:Mogli The Key
DESCRIPTION:MOGLI X CERTTI
URL:https://aboutmarbella.com/evento/mogli-the-key-7/2024-09-22/
LOCATION:Mogli The Key\, Av. del Prado\, 37\, Marbella\, Malaga\, 29660\, España
ATTACH;FMTTYPE=image/jpeg:https://aboutmarbella.com/wp-content/uploads/2024/07/Imagen-de-WhatsApp-2024-07-29-a-las-21.51.03_8c08939d.jpg
END:VEVENT
BEGIN:VEVENT
DTSTART;TZID=Europe/Madrid:20240922T110000
DTEND;TZID=Europe/Madrid:20240922T210000
DTSTAMP:20260423T004042
CREATED:20240729T193513Z
LAST-MODIFIED:20240729T193513Z
UID:10000660-1727002800-1727038800@aboutmarbella.com
SUMMARY:Ocean Club Marbella
DESCRIPTION:TROPICANA
URL:https://aboutmarbella.com/evento/ocean-club-marbella-3/2024-09-22/
LOCATION:Ocean Club Marbella\, Avda. Lola Flores s/n\, Marbella\, Malaga\, 29660\, España
ATTACH;FMTTYPE=image/jpeg:https://aboutmarbella.com/wp-content/uploads/2024/07/Imagen-de-WhatsApp-2024-07-29-a-las-21.20.06_69df9ac5.jpg
END:VEVENT
BEGIN:VEVENT
DTSTART;TZID=Europe/Madrid:20240922T110000
DTEND;TZID=Europe/Madrid:20240922T210000
DTSTAMP:20260423T004042
CREATED:20240729T185242Z
LAST-MODIFIED:20240729T185242Z
UID:10000594-1727002800-1727038800@aboutmarbella.com
SUMMARY:La Sala By The Sea
DESCRIPTION:CARNIVAL\nJOSE GALLANO\nJOEL SAX
URL:https://aboutmarbella.com/evento/la-sala-by-the-sea-7/2024-09-22/
LOCATION:La Sala By The Sea\, Av José Banús\, Marbella\, Malaga\, 29660\, España
ATTACH;FMTTYPE=image/jpeg:https://aboutmarbella.com/wp-content/uploads/2024/07/sunday24.jpg
END:VEVENT
BEGIN:VEVENT
DTSTART;TZID=Europe/Madrid:20240921T120000
DTEND;TZID=Europe/Madrid:20240921T233000
DTSTAMP:20260423T004042
CREATED:20240729T174713Z
LAST-MODIFIED:20240729T174713Z
UID:10000397-1726920000-1726961400@aboutmarbella.com
SUMMARY:PLAYA PADRE
DESCRIPTION:VALE\nEvery Saturday\nARTCHITEC\nFrom 12:00h\n 
URL:https://aboutmarbella.com/evento/playa-padre-6/2024-09-21/
LOCATION:Playa Padre\, s/n\, Calle playa del cable\, Marbella\, Malaga\, 29603\, España
ATTACH;FMTTYPE=image/png:https://aboutmarbella.com/wp-content/uploads/2024/07/1722264332_06_VALEWEB2024PP-1400-she3nx.png
END:VEVENT
BEGIN:VEVENT
DTSTART;TZID=Europe/Madrid:20240921T120000
DTEND;TZID=Europe/Madrid:20240921T200000
DTSTAMP:20260423T004042
CREATED:20240729T201032Z
LAST-MODIFIED:20240729T201032Z
UID:10000787-1726920000-1726948800@aboutmarbella.com
SUMMARY:Mogli The Key
DESCRIPTION:MOGLI X LOVEJUICE\n 
URL:https://aboutmarbella.com/evento/mogli-the-key-6/2024-09-21/
LOCATION:Mogli The Key\, Av. del Prado\, 37\, Marbella\, Malaga\, 29660\, España
ATTACH;FMTTYPE=image/jpeg:https://aboutmarbella.com/wp-content/uploads/2024/07/Imagen-de-WhatsApp-2024-07-29-a-las-21.51.03_83676e95.jpg
END:VEVENT
BEGIN:VEVENT
DTSTART;TZID=Europe/Madrid:20240921T110000
DTEND;TZID=Europe/Madrid:20240921T210000
DTSTAMP:20260423T004042
CREATED:20240729T185058Z
LAST-MODIFIED:20240729T185058Z
UID:10000576-1726916400-1726952400@aboutmarbella.com
SUMMARY:La Sala By The Sea
DESCRIPTION:SAMUI\nSCOTT STRUTTOON \nSHAYNE G1VEN \nJOEY SAX
URL:https://aboutmarbella.com/evento/la-sala-by-the-sea-6/2024-09-21/
LOCATION:La Sala By The Sea\, Av José Banús\, Marbella\, Malaga\, 29660\, España
ATTACH;FMTTYPE=image/jpeg:https://aboutmarbella.com/wp-content/uploads/2024/07/saturday24.jpg
END:VEVENT
BEGIN:VEVENT
DTSTART;TZID=Europe/Madrid:20240920T190000
DTEND;TZID=Europe/Madrid:20240920T233000
DTSTAMP:20260423T004042
CREATED:20240724T180723Z
LAST-MODIFIED:20240725T153352Z
UID:10000181-1726858800-1726875000@aboutmarbella.com
SUMMARY:Marbella Arena
DESCRIPTION:Okean Elzy\n  \nOkean Elzy\, la famosa banda de rock ucraniano celebrará en Marbella Arena sus tres décadas de pura pasión\, energía y música que ha marcado la historia de Ucrania. \n\n\nUna única oportunidad para escuchar en vivo esas canciones que han sido parte de la banda sonora de tus momentos más memorables.\n\nCompra tus entradas y sé parte de la historia. ¡Únete a Okean Elzy en su 30 aniversario!
URL:https://aboutmarbella.com/evento/okean-elzy/
LOCATION:Marbella Arena\, Avda. Pilar Calvo\, 28\, Nueva Andalucía\, Malaga\, 29660\, España
ATTACH;FMTTYPE=image/jpeg:https://aboutmarbella.com/wp-content/uploads/2024/07/OKEAN-ELZY-1.jpg
END:VEVENT
BEGIN:VEVENT
DTSTART;TZID=Europe/Madrid:20240920T120000
DTEND;TZID=Europe/Madrid:20240920T233000
DTSTAMP:20260423T004042
CREATED:20240729T174516Z
LAST-MODIFIED:20240729T174516Z
UID:10000332-1726833600-1726875000@aboutmarbella.com
SUMMARY:PLAYA PADRE
DESCRIPTION:FRIDAY PADRE\nEvery Friday\nEMMERALD\nFrom 12:00h\n 
URL:https://aboutmarbella.com/evento/playa-padre-5/2024-09-20/
LOCATION:Playa Padre\, s/n\, Calle playa del cable\, Marbella\, Malaga\, 29603\, España
ATTACH;FMTTYPE=image/png:https://aboutmarbella.com/wp-content/uploads/2024/07/1722264227_05_FRIDAY_WEB-1400-she3kz.png
END:VEVENT
BEGIN:VEVENT
DTSTART;TZID=Europe/Madrid:20240920T120000
DTEND;TZID=Europe/Madrid:20240920T200000
DTSTAMP:20260423T004042
CREATED:20240729T200852Z
LAST-MODIFIED:20240729T200852Z
UID:10000765-1726833600-1726862400@aboutmarbella.com
SUMMARY:Mogli The Key
DESCRIPTION:MOGLI X BABYLON
URL:https://aboutmarbella.com/evento/mogli-the-key-5/2024-09-20/
LOCATION:Mogli The Key\, Av. del Prado\, 37\, Marbella\, Malaga\, 29660\, España
ATTACH;FMTTYPE=image/jpeg:https://aboutmarbella.com/wp-content/uploads/2024/07/Imagen-de-WhatsApp-2024-07-29-a-las-21.51.03_9785ec9a.jpg
END:VEVENT
BEGIN:VEVENT
DTSTART;TZID=Europe/Madrid:20240920T110000
DTEND;TZID=Europe/Madrid:20240920T210000
DTSTAMP:20260423T004042
CREATED:20240729T193040Z
LAST-MODIFIED:20240729T193040Z
UID:10000617-1726830000-1726866000@aboutmarbella.com
SUMMARY:Ocean Club Marbella
DESCRIPTION:ELEMENTS\n 
URL:https://aboutmarbella.com/evento/ocean-club-marbella/2024-09-20/
LOCATION:Ocean Club Marbella\, Avda. Lola Flores s/n\, Marbella\, Malaga\, 29660\, España
ATTACH;FMTTYPE=image/jpeg:https://aboutmarbella.com/wp-content/uploads/2024/07/Imagen-de-WhatsApp-2024-07-29-a-las-21.20.06_0ea55472.jpg
END:VEVENT
BEGIN:VEVENT
DTSTART;TZID=Europe/Madrid:20240920T110000
DTEND;TZID=Europe/Madrid:20240920T210000
DTSTAMP:20260423T004042
CREATED:20240729T184538Z
LAST-MODIFIED:20240729T184538Z
UID:10000558-1726830000-1726866000@aboutmarbella.com
SUMMARY:La Sala By The Sea
DESCRIPTION:EROS\nSCOTT STRUTTON\nADRIAN SAX
URL:https://aboutmarbella.com/evento/la-sala-by-the-sea-5/2024-09-20/
LOCATION:Malaga
ATTACH;FMTTYPE=image/jpeg:https://aboutmarbella.com/wp-content/uploads/2024/07/friday24.jpg
END:VEVENT
END:VCALENDAR