BEGIN:VCALENDAR
VERSION:2.0
PRODID:-//About Marbella - ECPv6.8.0//NONSGML v1.0//EN
CALSCALE:GREGORIAN
METHOD:PUBLISH
X-WR-CALNAME:About Marbella
X-ORIGINAL-URL:https://aboutmarbella.com
X-WR-CALDESC:Events for About Marbella
REFRESH-INTERVAL;VALUE=DURATION:PT1H
X-Robots-Tag:noindex
X-PUBLISHED-TTL:PT1H
BEGIN:VTIMEZONE
TZID:Europe/Madrid
BEGIN:DAYLIGHT
TZOFFSETFROM:+0100
TZOFFSETTO:+0200
TZNAME:CEST
DTSTART:20240331T010000
END:DAYLIGHT
BEGIN:STANDARD
TZOFFSETFROM:+0200
TZOFFSETTO:+0100
TZNAME:CET
DTSTART:20241027T010000
END:STANDARD
END:VTIMEZONE
BEGIN:VEVENT
DTSTART;TZID=Europe/Madrid:20240830T100000
DTEND;TZID=Europe/Madrid:20240830T220000
DTSTAMP:20260423T223720
CREATED:20240729T180027Z
LAST-MODIFIED:20240729T180027Z
UID:10000477-1725012000-1725055200@aboutmarbella.com
SUMMARY:LA CABANE
DESCRIPTION:LA BELLEZZA
URL:https://aboutmarbella.com/evento/la-cabane-4/2024-08-30/
LOCATION:La Cabane\, C. Jabalí\, Marbella\, Malaga\, 29603\, España
ATTACH;FMTTYPE=image/png:https://aboutmarbella.com/wp-content/uploads/2024/07/00_BASIC_LA_BELLEZZA_SQ-1400-she38g.png
END:VEVENT
BEGIN:VEVENT
DTSTART;TZID=Europe/Madrid:20240830T080000
DTEND;TZID=Europe/Madrid:20240830T170000
DTSTAMP:20260423T223720
CREATED:20240723T185106Z
LAST-MODIFIED:20240725T155327Z
UID:10000078-1725004800-1725037200@aboutmarbella.com
SUMMARY:La Sala Puerto Banus
DESCRIPTION:Jai Northover\n  \nMulti-instrumentalist\, Jai Northover brings the life\, soul and party to La Sala with his exciting sound. His repertoire ranges from Pop-to-Rock-to-Folk making him a truly versatile musician and guaranteed crowd pleaser! \nMultiinstrumentista\, Jai Northober trae vida\, alma y fiesta a La Sala con su excitante sonido. Su repertorio tiene rango de Pop\, Rock y Folk haciendo que sea un músico verdaderamente versátil y con garantía de complacer a su público.
URL:https://aboutmarbella.com/evento/jai-northover-2/
LOCATION:La Sala Puerto Banus\, C. Juan Belmonte\, s/n\, Marbella\, Marbella\, 29660\, España
ATTACH;FMTTYPE=image/jpeg:https://aboutmarbella.com/wp-content/uploads/2024/07/JaiNorthover.jpg
END:VEVENT
BEGIN:VEVENT
DTSTART;TZID=Europe/Madrid:20240829T230000
DTEND;TZID=Europe/Madrid:20240830T060000
DTSTAMP:20260423T223720
CREATED:20240724T113122Z
LAST-MODIFIED:20240725T155350Z
UID:10000173-1724972400-1724997600@aboutmarbella.com
SUMMARY:Tibu Puerto Banus
DESCRIPTION:RED CUP\n  \nLondon & Dubai best brands come together every Thursday bringing you a brand new night RED CUP at TIBU Nightclub. With resident DJs and special guest and DJ SAI\, MAX DENHAM playing non stop bangers UK\, Afrobeats\, Hip-Hop\, Trap\, Amapiano\, RnB\, soulful house and much more
URL:https://aboutmarbella.com/evento/red-cup/
LOCATION:Tibu Marbella\, Pl. de Antonio Banderas\, 34\, 35\,36\,37\, Marbella\, Malaga\, 29660\, España
ATTACH;FMTTYPE=image/jpeg:https://aboutmarbella.com/wp-content/uploads/2024/07/red-cup-generic-002-1.jpeg
END:VEVENT
BEGIN:VEVENT
DTSTART;TZID=Europe/Madrid:20240829T200000
DTEND;TZID=Europe/Madrid:20240829T233000
DTSTAMP:20260423T223720
CREATED:20240730T144408Z
LAST-MODIFIED:20240730T144408Z
UID:10000825-1724961600-1724974200@aboutmarbella.com
SUMMARY:Mercadillo Artesanal Benahavis
DESCRIPTION:MERCADILLO ARTESANAL DE BENAHAVÍS DE VERANO\n\nEste jueves 4 de julio se inaugura el Mercadillo Artesanal de Benahavís. Se instalará jueves y viernes de julio y agosto\, a partir de las ocho de la tarde y hasta medianoche\, en la Avenida de Andalucía.\nSerá un espacio abierto para disfrutar\, en las noches de verano\, del trabajo de nuestros artesanos.\nThis Thursday\, the 4th of July\, sees the inauguration of the Benahavís Craft Market. It will be on Thursday and Friday\, July to August\, from eight until midnight\, in the Avenida de Andalucía.\nIt will be an open space to enjoy\, on summer evenings\, the work of our artists.
URL:https://aboutmarbella.com/evento/mercadillo-artesanal-benahavis/2024-08-29/
LOCATION:Benahavis Mercadillo Artesanal\, Avenida de Andalucía\, 34\, Benahavis\, Malaga\, 29679\, España
ATTACH;FMTTYPE=image/jpeg:https://aboutmarbella.com/wp-content/uploads/2024/07/mercadillo-artesanal-verano.jpg
END:VEVENT
BEGIN:VEVENT
DTSTART;TZID=Europe/Madrid:20240829T200000
DTEND;TZID=Europe/Madrid:20240829T230000
DTSTAMP:20260423T223720
CREATED:20240723T184900Z
LAST-MODIFIED:20240725T155412Z
UID:10000077-1724961600-1724972400@aboutmarbella.com
SUMMARY:La Sala Puerto Banus
DESCRIPTION:Amelinde\n  \nAmelinde has been singing on the coast for over 20 years in different projects ranging from various tribute shows to her very own live band. \nHer years of experience have brought with it an extensive repertoire as a solo artist of soul\, rock\, pop and everything in between so is guaranteed to have something to suit every musical taste.
URL:https://aboutmarbella.com/evento/amelinde-4/
LOCATION:La Sala Puerto Banus\, C. Juan Belmonte\, s/n\, Marbella\, Marbella\, 29660\, España
ATTACH;FMTTYPE=image/jpeg:https://aboutmarbella.com/wp-content/uploads/2024/07/Amelinde_eK3P.jpg
END:VEVENT
BEGIN:VEVENT
DTSTART;TZID=Europe/Madrid:20240829T120000
DTEND;TZID=Europe/Madrid:20240829T200000
DTSTAMP:20260423T223720
CREATED:20240729T200716Z
LAST-MODIFIED:20240729T200716Z
UID:10000740-1724932800-1724961600@aboutmarbella.com
SUMMARY:Mogli The Key
DESCRIPTION:MOGLI X THE MAYFAIR SESSIONS
URL:https://aboutmarbella.com/evento/mogli-the-key-4/2024-08-29/
LOCATION:Mogli The Key\, Av. del Prado\, 37\, Marbella\, Malaga\, 29660\, España
ATTACH;FMTTYPE=image/jpeg:https://aboutmarbella.com/wp-content/uploads/2024/07/Imagen-de-WhatsApp-2024-07-29-a-las-21.51.03_ccf0d506.jpg
END:VEVENT
BEGIN:VEVENT
DTSTART;TZID=Europe/Madrid:20240829T110000
DTEND;TZID=Europe/Madrid:20240829T210000
DTSTAMP:20260423T223720
CREATED:20240729T184332Z
LAST-MODIFIED:20240729T184332Z
UID:10000542-1724929200-1724965200@aboutmarbella.com
SUMMARY:La Sala By The Sea
DESCRIPTION:REWIND\nDJ BEN CULLUM\nSHAYNE G1VEN\nADRIAN SAX
URL:https://aboutmarbella.com/evento/la-sala-by-the-sea-4/2024-08-29/
LOCATION:Malaga
ATTACH;FMTTYPE=image/jpeg:https://aboutmarbella.com/wp-content/uploads/2024/07/thursday24.jpg
END:VEVENT
BEGIN:VEVENT
DTSTART;TZID=Europe/Madrid:20240828T230000
DTEND;TZID=Europe/Madrid:20240829T060000
DTSTAMP:20260423T223720
CREATED:20240724T113004Z
LAST-MODIFIED:20240725T155511Z
UID:10000172-1724886000-1724911200@aboutmarbella.com
SUMMARY:Tibu Puerto Banus
DESCRIPTION:AFRO GOLD\n  \nAfro Gold Presents a night of Afrobeats\, Amapiano\, Hip`-Hop\, RnB and more with resident and guest DJs
URL:https://aboutmarbella.com/evento/afro-gold-5/
LOCATION:Tibu Marbella\, Pl. de Antonio Banderas\, 34\, 35\,36\,37\, Marbella\, Malaga\, 29660\, España
ATTACH;FMTTYPE=image/webp:https://aboutmarbella.com/wp-content/uploads/2024/07/afrogold-generic-2024-002.jpeg.webp
END:VEVENT
BEGIN:VEVENT
DTSTART;TZID=Europe/Madrid:20240828T220000
DTEND;TZID=Europe/Madrid:20240828T233000
DTSTAMP:20260423T223720
CREATED:20240723T220924Z
LAST-MODIFIED:20240725T155529Z
UID:10000119-1724882400-1724887800@aboutmarbella.com
SUMMARY:Starlite Marbella
DESCRIPTION:OMAR MONTES
URL:https://aboutmarbella.com/evento/omar-montes/
LOCATION:Starlite Marbella\, C. Albinoni\, s/n\, Marbella\, Malaga\, 29602\, España
ATTACH;FMTTYPE=image/jpeg:https://aboutmarbella.com/wp-content/uploads/2024/07/18d7051d31200cfd1ccc64c1d960a535_koobin_800x7745_385_374_crop_1.jpg
END:VEVENT
BEGIN:VEVENT
DTSTART;TZID=Europe/Madrid:20240828T200000
DTEND;TZID=Europe/Madrid:20240829T020000
DTSTAMP:20260423T223720
CREATED:20240723T184646Z
LAST-MODIFIED:20240725T155547Z
UID:10000076-1724875200-1724896800@aboutmarbella.com
SUMMARY:La Sala Puerto Banus
DESCRIPTION:Rockin’ Wednesday
URL:https://aboutmarbella.com/evento/rockin-wednesday-4/
LOCATION:La Sala Puerto Banus\, C. Juan Belmonte\, s/n\, Marbella\, Marbella\, 29660\, España
ATTACH;FMTTYPE=image/jpeg:https://aboutmarbella.com/wp-content/uploads/2024/07/rockin_MlVh.jpg
END:VEVENT
BEGIN:VEVENT
DTSTART;TZID=Europe/Madrid:20240828T120000
DTEND;TZID=Europe/Madrid:20240828T233000
DTSTAMP:20260423T223720
CREATED:20240729T174210Z
LAST-MODIFIED:20240729T174210Z
UID:10000263-1724846400-1724887800@aboutmarbella.com
SUMMARY:PLAYA PADRE
DESCRIPTION:LUNCH WITH AMIGOS\nEvery Wednesday\nEMMERALD\nFrom 12:00h\n 
URL:https://aboutmarbella.com/evento/playa-padre-3/2024-08-28/
LOCATION:Playa Padre\, s/n\, Calle playa del cable\, Marbella\, Malaga\, 29603\, España
ATTACH;FMTTYPE=image/png:https://aboutmarbella.com/wp-content/uploads/2024/07/1722264007_03_WEDNESDAY_WEB_LUNCH_WITH_AMIGOS-1400-she3ew.png
END:VEVENT
BEGIN:VEVENT
DTSTART;TZID=Europe/Madrid:20240828T120000
DTEND;TZID=Europe/Madrid:20240828T210000
DTSTAMP:20260423T223720
CREATED:20240729T200547Z
LAST-MODIFIED:20240729T200547Z
UID:10000718-1724846400-1724878800@aboutmarbella.com
SUMMARY:Mogli The Key
DESCRIPTION:MOGLI X DONT BE SHY
URL:https://aboutmarbella.com/evento/mogli-the-key-3/2024-08-28/
LOCATION:Mogli The Key\, Av. del Prado\, 37\, Marbella\, Malaga\, 29660\, España
ATTACH;FMTTYPE=image/jpeg:https://aboutmarbella.com/wp-content/uploads/2024/07/Imagen-de-WhatsApp-2024-07-29-a-las-21.51.03_43912575.jpg
END:VEVENT
BEGIN:VEVENT
DTSTART;TZID=Europe/Madrid:20240828T110000
DTEND;TZID=Europe/Madrid:20240828T210000
DTSTAMP:20260423T223720
CREATED:20240729T193226Z
LAST-MODIFIED:20240729T193226Z
UID:10000635-1724842800-1724878800@aboutmarbella.com
SUMMARY:Ocean Club Marbella
DESCRIPTION:RETRO
URL:https://aboutmarbella.com/evento/ocean-club-marbella-2/2024-08-28/
LOCATION:Ocean Club Marbella\, Avda. Lola Flores s/n\, Marbella\, Malaga\, 29660\, España
ATTACH;FMTTYPE=image/jpeg:https://aboutmarbella.com/wp-content/uploads/2024/07/Imagen-de-WhatsApp-2024-07-29-a-las-21.20.06_3be2a1ef.jpg
END:VEVENT
BEGIN:VEVENT
DTSTART;TZID=Europe/Madrid:20240828T110000
DTEND;TZID=Europe/Madrid:20240828T210000
DTSTAMP:20260423T223720
CREATED:20240729T184127Z
LAST-MODIFIED:20240729T184127Z
UID:10000525-1724842800-1724878800@aboutmarbella.com
SUMMARY:La Sala By The Sea
DESCRIPTION:PERDIDA\nJOSE GALLANO
URL:https://aboutmarbella.com/evento/la-sala-by-the-sea-3/2024-08-28/
LOCATION:La Sala By The Sea\, Av José Banús\, Marbella\, Malaga\, 29660\, España
ATTACH;FMTTYPE=image/jpeg:https://aboutmarbella.com/wp-content/uploads/2024/07/wednesday24.jpg
END:VEVENT
BEGIN:VEVENT
DTSTART;TZID=Europe/Madrid:20240828T100000
DTEND;TZID=Europe/Madrid:20240828T220000
DTSTAMP:20260423T223720
CREATED:20240729T175839Z
LAST-MODIFIED:20240729T175839Z
UID:10000464-1724839200-1724882400@aboutmarbella.com
SUMMARY:LA CABANE
DESCRIPTION:THE YACHT CLUB\n  \n 
URL:https://aboutmarbella.com/evento/la-cabane-3/2024-08-28/
LOCATION:La Cabane\, C. Jabalí\, Marbella\, Malaga\, 29603\, España
ATTACH;FMTTYPE=image/png:https://aboutmarbella.com/wp-content/uploads/2024/07/1721919683_03_TYC_LC_2024_WEB-1400-sh6pqb.png
END:VEVENT
BEGIN:VEVENT
DTSTART;TZID=Europe/Madrid:20240827T230000
DTEND;TZID=Europe/Madrid:20240828T060000
DTSTAMP:20260423T223720
CREATED:20240724T112844Z
LAST-MODIFIED:20240725T155745Z
UID:10000171-1724799600-1724824800@aboutmarbella.com
SUMMARY:Tibu Puerto Banus
DESCRIPTION:LA CAPITALE\n  \nVanant De La Capitale from Paris to Marbella\, presents do you speak French?\, with guest DJs and artists preforming live\, playing the finest in urban\, French Rap\, RnB\, Afrobeats and more
URL:https://aboutmarbella.com/evento/parlez-vous-francais-3/
LOCATION:Tibu Marbella\, Pl. de Antonio Banderas\, 34\, 35\,36\,37\, Marbella\, Malaga\, 29660\, España
ATTACH;FMTTYPE=image/jpeg:https://aboutmarbella.com/wp-content/uploads/2024/07/french-generic-tuesday2024-1024x1024-1.jpg
END:VEVENT
BEGIN:VEVENT
DTSTART;TZID=Europe/Madrid:20240827T200000
DTEND;TZID=Europe/Madrid:20240827T230000
DTSTAMP:20260423T223720
CREATED:20240723T184526Z
LAST-MODIFIED:20240725T155811Z
UID:10000075-1724788800-1724799600@aboutmarbella.com
SUMMARY:La Sala Puerto Banus
DESCRIPTION:Diva Fever
URL:https://aboutmarbella.com/evento/diva-fever-5/
LOCATION:La Sala Puerto Banus\, C. Juan Belmonte\, s/n\, Marbella\, Marbella\, 29660\, España
ATTACH;FMTTYPE=image/jpeg:https://aboutmarbella.com/wp-content/uploads/2024/07/divafever_blAy.jpg
END:VEVENT
BEGIN:VEVENT
DTSTART;TZID=Europe/Madrid:20240827T190000
DTEND;TZID=Europe/Madrid:20240827T230000
DTSTAMP:20260423T223720
CREATED:20240723T184313Z
LAST-MODIFIED:20240725T155836Z
UID:10000074-1724785200-1724799600@aboutmarbella.com
SUMMARY:La Sala Puerto Banus
DESCRIPTION:Elton John Tribute\n  \nElton John Tribute\, 12.00€ per person VAT included\nTotal: 24.00€ VAT included (21.82€ VAT not included)Join us in our Live Lounge on Tuesday 27th August for our Elton John Tribute! \nThe show price is €12 per ticket\, which needs to be pre paid in full to confirm and secure your booking. We are offering reservations at 7pm so you can enjoy dinner comfortably followed by the show starting at 9pm until 11pm. \nThe menu available on the night is our A La Carte menu\, which is to be paid separately to the tickets for the show. Click HERE to see our A La Carte menu! \nIn the event of a cancellation\, the deposit is non-refundable but can be held as a credit note up to a year from the original date of the booking. Please note this credit is to be used on a single visit or booking only. Credit notes are only available if the booking is cancelled 7 days prior to the event date.
URL:https://aboutmarbella.com/evento/elton-john-tribute/
LOCATION:La Sala Puerto Banus\, C. Juan Belmonte\, s/n\, Marbella\, Marbella\, 29660\, España
ATTACH;FMTTYPE=image/jpeg:https://aboutmarbella.com/wp-content/uploads/2024/07/eltonjohn_APdg.jpg
END:VEVENT
BEGIN:VEVENT
DTSTART;TZID=Europe/Madrid:20240827T120000
DTEND;TZID=Europe/Madrid:20240827T200000
DTSTAMP:20260423T223720
CREATED:20240729T200151Z
LAST-MODIFIED:20240729T200151Z
UID:10000696-1724760000-1724788800@aboutmarbella.com
SUMMARY:Mogli The Key
DESCRIPTION:MOGLI X AFROBEAST
URL:https://aboutmarbella.com/evento/mogli-the-key-2/2024-08-27/
LOCATION:Mogli The Key\, Av. del Prado\, 37\, Marbella\, Malaga\, 29660\, España
ATTACH;FMTTYPE=image/jpeg:https://aboutmarbella.com/wp-content/uploads/2024/07/Imagen-de-WhatsApp-2024-07-29-a-las-21.51.03_ab1c2fa5.jpg
END:VEVENT
BEGIN:VEVENT
DTSTART;TZID=Europe/Madrid:20240827T110000
DTEND;TZID=Europe/Madrid:20240827T210000
DTSTAMP:20260423T223720
CREATED:20240729T183941Z
LAST-MODIFIED:20240729T183941Z
UID:10000508-1724756400-1724792400@aboutmarbella.com
SUMMARY:La Sala By The Sea
DESCRIPTION:LURE\nDJ BEN CULLUM
URL:https://aboutmarbella.com/evento/la-sala-by-the-sea-2/2024-08-27/
LOCATION:La Sala By The Sea\, Av José Banús\, Marbella\, Malaga\, 29660\, España
ATTACH;FMTTYPE=image/jpeg:https://aboutmarbella.com/wp-content/uploads/2024/07/tuesday24.jpg
END:VEVENT
BEGIN:VEVENT
DTSTART;TZID=Europe/Madrid:20240826T230000
DTEND;TZID=Europe/Madrid:20240827T060000
DTSTAMP:20260423T223720
CREATED:20240724T112538Z
LAST-MODIFIED:20240725T155913Z
UID:10000170-1724713200-1724738400@aboutmarbella.com
SUMMARY:Tibu Puerto Banus
DESCRIPTION:CERTTI EVENTS – DJ WENDALE DE JESUS\n  \nEmbark on a weekly journey with Certti\, Marbella’s premier urban event that comes alive every Monday at TIBU Nightclub. Now in its fourth year\, this extraordinary night promises an unparalleled experience with top DJs and artists from across the globe. Immerse yourself in the distinctive vibe that sets Marbella apart\, featuring the best in Afrobeats\, RnB\, Hip-hop\, Amapiano\, and House. Past parties have seen acclaimed artists like Digga D\, NLE Choppa\, Dappy\, Giggs\, Russ Millions\, and many others gracing the stage\, ensuring each event is a musical spectacle.
URL:https://aboutmarbella.com/evento/certti-events-dj-wendale-de-jesus-2/
LOCATION:Tibu Marbella\, Pl. de Antonio Banderas\, 34\, 35\,36\,37\, Marbella\, Malaga\, 29660\, España
ATTACH;FMTTYPE=image/jpeg:https://aboutmarbella.com/wp-content/uploads/2024/07/certti-monday-2024-1024x1024-1.jpg
END:VEVENT
BEGIN:VEVENT
DTSTART;TZID=Europe/Madrid:20240826T220000
DTEND;TZID=Europe/Madrid:20240826T233000
DTSTAMP:20260423T223720
CREATED:20240723T220825Z
LAST-MODIFIED:20240725T155940Z
UID:10000118-1724709600-1724715000@aboutmarbella.com
SUMMARY:Starlite Marbella
DESCRIPTION:MELENDI
URL:https://aboutmarbella.com/evento/melendi/
LOCATION:Starlite Marbella\, C. Albinoni\, s/n\, Marbella\, Malaga\, 29602\, España
ATTACH;FMTTYPE=image/jpeg:https://aboutmarbella.com/wp-content/uploads/2024/07/6cf2dd88a88d0cbfef85a63ac35365e8_koobin_800x77422_385_374_crop_1.jpg
END:VEVENT
BEGIN:VEVENT
DTSTART;TZID=Europe/Madrid:20240826T200000
DTEND;TZID=Europe/Madrid:20240826T230000
DTSTAMP:20260423T223720
CREATED:20240723T184135Z
LAST-MODIFIED:20240725T160012Z
UID:10000073-1724702400-1724713200@aboutmarbella.com
SUMMARY:La Sala Puerto Banus
DESCRIPTION:Paige Lefley
URL:https://aboutmarbella.com/evento/paige-lefley-3/
LOCATION:La Sala Puerto Banus\, C. Juan Belmonte\, s/n\, Marbella\, Marbella\, 29660\, España
ATTACH;FMTTYPE=image/jpeg:https://aboutmarbella.com/wp-content/uploads/2024/07/paigelefley_aOQX.jpg
END:VEVENT
BEGIN:VEVENT
DTSTART;TZID=Europe/Madrid:20240826T120000
DTEND;TZID=Europe/Madrid:20240826T233000
DTSTAMP:20260423T223720
CREATED:20240729T173948Z
LAST-MODIFIED:20240729T173948Z
UID:10000201-1724673600-1724715000@aboutmarbella.com
SUMMARY:PLAYA PADRE
DESCRIPTION:CHAKRA\nEvery Tuesday\nNANO GARRIDO\nFrom 12:00h\n 
URL:https://aboutmarbella.com/evento/playa-padre-2/2024-08-26/
LOCATION:Playa Padre\, s/n\, Calle playa del cable\, Marbella\, Malaga\, 29603\, España
ATTACH;FMTTYPE=image/png:https://aboutmarbella.com/wp-content/uploads/2024/07/1721919311_02_CHAKRA_WEB-1400-sh6pfz.png
END:VEVENT
BEGIN:VEVENT
DTSTART;TZID=Europe/Madrid:20240826T120000
DTEND;TZID=Europe/Madrid:20240826T200000
DTSTAMP:20260423T223720
CREATED:20240729T195852Z
LAST-MODIFIED:20240729T195852Z
UID:10000674-1724673600-1724702400@aboutmarbella.com
SUMMARY:Mogli The Key
DESCRIPTION:MOGLI X WETT
URL:https://aboutmarbella.com/evento/mogli-the-key/2024-08-26/
LOCATION:Mogli The Key\, Av. del Prado\, 37\, Marbella\, Malaga\, 29660\, España
ATTACH;FMTTYPE=image/jpeg:https://aboutmarbella.com/wp-content/uploads/2024/07/Imagen-de-WhatsApp-2024-07-29-a-las-21.51.03_660fae3f.jpg
END:VEVENT
BEGIN:VEVENT
DTSTART;TZID=Europe/Madrid:20240826T110000
DTEND;TZID=Europe/Madrid:20240826T210000
DTSTAMP:20260423T223720
CREATED:20240729T183718Z
LAST-MODIFIED:20240729T183718Z
UID:10000490-1724670000-1724706000@aboutmarbella.com
SUMMARY:La Sala By The Sea
DESCRIPTION:MANTRA\nDJ BEN CULLUM
URL:https://aboutmarbella.com/evento/la-sala-by-the-sea/2024-08-26/
LOCATION:La Sala By The Sea\, Av José Banús\, Marbella\, Malaga\, 29660\, España
ATTACH;FMTTYPE=image/jpeg:https://aboutmarbella.com/wp-content/uploads/2024/07/monday24.jpg
END:VEVENT
BEGIN:VEVENT
DTSTART;TZID=Europe/Madrid:20240825T200000
DTEND;TZID=Europe/Madrid:20240825T230000
DTSTAMP:20260423T223720
CREATED:20240723T183925Z
LAST-MODIFIED:20240725T160033Z
UID:10000072-1724616000-1724626800@aboutmarbella.com
SUMMARY:La Sala Puerto Banus
DESCRIPTION:5 Minute Memory
URL:https://aboutmarbella.com/evento/5-minute-memory-3/
LOCATION:La Sala Puerto Banus\, C. Juan Belmonte\, s/n\, Marbella\, Marbella\, 29660\, España
ATTACH;FMTTYPE=image/jpeg:https://aboutmarbella.com/wp-content/uploads/2024/07/5minmemory_aTNA.jpg
END:VEVENT
BEGIN:VEVENT
DTSTART;TZID=Europe/Madrid:20240825T140000
DTEND;TZID=Europe/Madrid:20240825T170000
DTSTAMP:20260423T223720
CREATED:20240723T183719Z
LAST-MODIFIED:20240725T160106Z
UID:10000071-1724594400-1724605200@aboutmarbella.com
SUMMARY:La Sala Puerto Banus
DESCRIPTION:Zoe Louise\n  \nOur youngest singer with a stunning voice. Zoe has been performing at La Sala Puerto Banús for over five years. Her material includes the best hits from soul\, pop and current chart hits. \nNuestra cantante más joven con una voz maravillosa. Zoe ha estado interpretando enLa Sala Puerto Banús desde hace más de cinco años. Su repertorio incluye los mejores éxitos del soul\, pop y los éxitos comerciales del momento.
URL:https://aboutmarbella.com/evento/zoe-louise-7/
LOCATION:La Sala Puerto Banus\, C. Juan Belmonte\, s/n\, Marbella\, Marbella\, 29660\, España
ATTACH;FMTTYPE=image/jpeg:https://aboutmarbella.com/wp-content/uploads/2024/07/Zoe.jpg
END:VEVENT
BEGIN:VEVENT
DTSTART;TZID=Europe/Madrid:20240825T120000
DTEND;TZID=Europe/Madrid:20240825T200000
DTSTAMP:20260423T223720
CREATED:20240729T201205Z
LAST-MODIFIED:20240729T201205Z
UID:10000802-1724587200-1724616000@aboutmarbella.com
SUMMARY:Mogli The Key
DESCRIPTION:MOGLI X CERTTI
URL:https://aboutmarbella.com/evento/mogli-the-key-7/2024-08-25/
LOCATION:Mogli The Key\, Av. del Prado\, 37\, Marbella\, Malaga\, 29660\, España
ATTACH;FMTTYPE=image/jpeg:https://aboutmarbella.com/wp-content/uploads/2024/07/Imagen-de-WhatsApp-2024-07-29-a-las-21.51.03_8c08939d.jpg
END:VEVENT
BEGIN:VEVENT
DTSTART;TZID=Europe/Madrid:20240825T110000
DTEND;TZID=Europe/Madrid:20240825T210000
DTSTAMP:20260423T223720
CREATED:20240729T193513Z
LAST-MODIFIED:20240729T193513Z
UID:10000656-1724583600-1724619600@aboutmarbella.com
SUMMARY:Ocean Club Marbella
DESCRIPTION:TROPICANA
URL:https://aboutmarbella.com/evento/ocean-club-marbella-3/2024-08-25/
LOCATION:Ocean Club Marbella\, Avda. Lola Flores s/n\, Marbella\, Malaga\, 29660\, España
ATTACH;FMTTYPE=image/jpeg:https://aboutmarbella.com/wp-content/uploads/2024/07/Imagen-de-WhatsApp-2024-07-29-a-las-21.20.06_69df9ac5.jpg
END:VEVENT
END:VCALENDAR