BEGIN:VCALENDAR
VERSION:2.0
PRODID:-//About Marbella - ECPv6.8.0//NONSGML v1.0//EN
CALSCALE:GREGORIAN
METHOD:PUBLISH
X-WR-CALNAME:About Marbella
X-ORIGINAL-URL:https://aboutmarbella.com
X-WR-CALDESC:Events for About Marbella
REFRESH-INTERVAL;VALUE=DURATION:PT1H
X-Robots-Tag:noindex
X-PUBLISHED-TTL:PT1H
BEGIN:VTIMEZONE
TZID:Europe/Madrid
BEGIN:DAYLIGHT
TZOFFSETFROM:+0100
TZOFFSETTO:+0200
TZNAME:CEST
DTSTART:20240331T010000
END:DAYLIGHT
BEGIN:STANDARD
TZOFFSETFROM:+0200
TZOFFSETTO:+0100
TZNAME:CET
DTSTART:20241027T010000
END:STANDARD
END:VTIMEZONE
BEGIN:VEVENT
DTSTART;TZID=Europe/Madrid:20240827T190000
DTEND;TZID=Europe/Madrid:20240827T230000
DTSTAMP:20260423T223305
CREATED:20240723T184313Z
LAST-MODIFIED:20240725T155836Z
UID:10000074-1724785200-1724799600@aboutmarbella.com
SUMMARY:La Sala Puerto Banus
DESCRIPTION:Elton John Tribute\n  \nElton John Tribute\, 12.00€ per person VAT included\nTotal: 24.00€ VAT included (21.82€ VAT not included)Join us in our Live Lounge on Tuesday 27th August for our Elton John Tribute! \nThe show price is €12 per ticket\, which needs to be pre paid in full to confirm and secure your booking. We are offering reservations at 7pm so you can enjoy dinner comfortably followed by the show starting at 9pm until 11pm. \nThe menu available on the night is our A La Carte menu\, which is to be paid separately to the tickets for the show. Click HERE to see our A La Carte menu! \nIn the event of a cancellation\, the deposit is non-refundable but can be held as a credit note up to a year from the original date of the booking. Please note this credit is to be used on a single visit or booking only. Credit notes are only available if the booking is cancelled 7 days prior to the event date.
URL:https://aboutmarbella.com/evento/elton-john-tribute/
LOCATION:La Sala Puerto Banus\, C. Juan Belmonte\, s/n\, Marbella\, Marbella\, 29660\, España
ATTACH;FMTTYPE=image/jpeg:https://aboutmarbella.com/wp-content/uploads/2024/07/eltonjohn_APdg.jpg
END:VEVENT
BEGIN:VEVENT
DTSTART;TZID=Europe/Madrid:20240827T120000
DTEND;TZID=Europe/Madrid:20240827T200000
DTSTAMP:20260423T223305
CREATED:20240729T200151Z
LAST-MODIFIED:20240729T200151Z
UID:10000696-1724760000-1724788800@aboutmarbella.com
SUMMARY:Mogli The Key
DESCRIPTION:MOGLI X AFROBEAST
URL:https://aboutmarbella.com/evento/mogli-the-key-2/2024-08-27/
LOCATION:Mogli The Key\, Av. del Prado\, 37\, Marbella\, Malaga\, 29660\, España
ATTACH;FMTTYPE=image/jpeg:https://aboutmarbella.com/wp-content/uploads/2024/07/Imagen-de-WhatsApp-2024-07-29-a-las-21.51.03_ab1c2fa5.jpg
END:VEVENT
BEGIN:VEVENT
DTSTART;TZID=Europe/Madrid:20240827T110000
DTEND;TZID=Europe/Madrid:20240827T210000
DTSTAMP:20260423T223305
CREATED:20240729T183941Z
LAST-MODIFIED:20240729T183941Z
UID:10000508-1724756400-1724792400@aboutmarbella.com
SUMMARY:La Sala By The Sea
DESCRIPTION:LURE\nDJ BEN CULLUM
URL:https://aboutmarbella.com/evento/la-sala-by-the-sea-2/2024-08-27/
LOCATION:La Sala By The Sea\, Av José Banús\, Marbella\, Malaga\, 29660\, España
ATTACH;FMTTYPE=image/jpeg:https://aboutmarbella.com/wp-content/uploads/2024/07/tuesday24.jpg
END:VEVENT
BEGIN:VEVENT
DTSTART;TZID=Europe/Madrid:20240826T230000
DTEND;TZID=Europe/Madrid:20240827T060000
DTSTAMP:20260423T223305
CREATED:20240724T112538Z
LAST-MODIFIED:20240725T155913Z
UID:10000170-1724713200-1724738400@aboutmarbella.com
SUMMARY:Tibu Puerto Banus
DESCRIPTION:CERTTI EVENTS – DJ WENDALE DE JESUS\n  \nEmbark on a weekly journey with Certti\, Marbella’s premier urban event that comes alive every Monday at TIBU Nightclub. Now in its fourth year\, this extraordinary night promises an unparalleled experience with top DJs and artists from across the globe. Immerse yourself in the distinctive vibe that sets Marbella apart\, featuring the best in Afrobeats\, RnB\, Hip-hop\, Amapiano\, and House. Past parties have seen acclaimed artists like Digga D\, NLE Choppa\, Dappy\, Giggs\, Russ Millions\, and many others gracing the stage\, ensuring each event is a musical spectacle.
URL:https://aboutmarbella.com/evento/certti-events-dj-wendale-de-jesus-2/
LOCATION:Tibu Marbella\, Pl. de Antonio Banderas\, 34\, 35\,36\,37\, Marbella\, Malaga\, 29660\, España
ATTACH;FMTTYPE=image/jpeg:https://aboutmarbella.com/wp-content/uploads/2024/07/certti-monday-2024-1024x1024-1.jpg
END:VEVENT
BEGIN:VEVENT
DTSTART;TZID=Europe/Madrid:20240826T220000
DTEND;TZID=Europe/Madrid:20240826T233000
DTSTAMP:20260423T223305
CREATED:20240723T220825Z
LAST-MODIFIED:20240725T155940Z
UID:10000118-1724709600-1724715000@aboutmarbella.com
SUMMARY:Starlite Marbella
DESCRIPTION:MELENDI
URL:https://aboutmarbella.com/evento/melendi/
LOCATION:Starlite Marbella\, C. Albinoni\, s/n\, Marbella\, Malaga\, 29602\, España
ATTACH;FMTTYPE=image/jpeg:https://aboutmarbella.com/wp-content/uploads/2024/07/6cf2dd88a88d0cbfef85a63ac35365e8_koobin_800x77422_385_374_crop_1.jpg
END:VEVENT
BEGIN:VEVENT
DTSTART;TZID=Europe/Madrid:20240826T200000
DTEND;TZID=Europe/Madrid:20240826T230000
DTSTAMP:20260423T223305
CREATED:20240723T184135Z
LAST-MODIFIED:20240725T160012Z
UID:10000073-1724702400-1724713200@aboutmarbella.com
SUMMARY:La Sala Puerto Banus
DESCRIPTION:Paige Lefley
URL:https://aboutmarbella.com/evento/paige-lefley-3/
LOCATION:La Sala Puerto Banus\, C. Juan Belmonte\, s/n\, Marbella\, Marbella\, 29660\, España
ATTACH;FMTTYPE=image/jpeg:https://aboutmarbella.com/wp-content/uploads/2024/07/paigelefley_aOQX.jpg
END:VEVENT
BEGIN:VEVENT
DTSTART;TZID=Europe/Madrid:20240826T120000
DTEND;TZID=Europe/Madrid:20240826T233000
DTSTAMP:20260423T223305
CREATED:20240729T173948Z
LAST-MODIFIED:20240729T173948Z
UID:10000201-1724673600-1724715000@aboutmarbella.com
SUMMARY:PLAYA PADRE
DESCRIPTION:CHAKRA\nEvery Tuesday\nNANO GARRIDO\nFrom 12:00h\n 
URL:https://aboutmarbella.com/evento/playa-padre-2/2024-08-26/
LOCATION:Playa Padre\, s/n\, Calle playa del cable\, Marbella\, Malaga\, 29603\, España
ATTACH;FMTTYPE=image/png:https://aboutmarbella.com/wp-content/uploads/2024/07/1721919311_02_CHAKRA_WEB-1400-sh6pfz.png
END:VEVENT
BEGIN:VEVENT
DTSTART;TZID=Europe/Madrid:20240826T120000
DTEND;TZID=Europe/Madrid:20240826T200000
DTSTAMP:20260423T223305
CREATED:20240729T195852Z
LAST-MODIFIED:20240729T195852Z
UID:10000674-1724673600-1724702400@aboutmarbella.com
SUMMARY:Mogli The Key
DESCRIPTION:MOGLI X WETT
URL:https://aboutmarbella.com/evento/mogli-the-key/2024-08-26/
LOCATION:Mogli The Key\, Av. del Prado\, 37\, Marbella\, Malaga\, 29660\, España
ATTACH;FMTTYPE=image/jpeg:https://aboutmarbella.com/wp-content/uploads/2024/07/Imagen-de-WhatsApp-2024-07-29-a-las-21.51.03_660fae3f.jpg
END:VEVENT
BEGIN:VEVENT
DTSTART;TZID=Europe/Madrid:20240826T110000
DTEND;TZID=Europe/Madrid:20240826T210000
DTSTAMP:20260423T223305
CREATED:20240729T183718Z
LAST-MODIFIED:20240729T183718Z
UID:10000490-1724670000-1724706000@aboutmarbella.com
SUMMARY:La Sala By The Sea
DESCRIPTION:MANTRA\nDJ BEN CULLUM
URL:https://aboutmarbella.com/evento/la-sala-by-the-sea/2024-08-26/
LOCATION:La Sala By The Sea\, Av José Banús\, Marbella\, Malaga\, 29660\, España
ATTACH;FMTTYPE=image/jpeg:https://aboutmarbella.com/wp-content/uploads/2024/07/monday24.jpg
END:VEVENT
BEGIN:VEVENT
DTSTART;TZID=Europe/Madrid:20240825T200000
DTEND;TZID=Europe/Madrid:20240825T230000
DTSTAMP:20260423T223305
CREATED:20240723T183925Z
LAST-MODIFIED:20240725T160033Z
UID:10000072-1724616000-1724626800@aboutmarbella.com
SUMMARY:La Sala Puerto Banus
DESCRIPTION:5 Minute Memory
URL:https://aboutmarbella.com/evento/5-minute-memory-3/
LOCATION:La Sala Puerto Banus\, C. Juan Belmonte\, s/n\, Marbella\, Marbella\, 29660\, España
ATTACH;FMTTYPE=image/jpeg:https://aboutmarbella.com/wp-content/uploads/2024/07/5minmemory_aTNA.jpg
END:VEVENT
BEGIN:VEVENT
DTSTART;TZID=Europe/Madrid:20240825T140000
DTEND;TZID=Europe/Madrid:20240825T170000
DTSTAMP:20260423T223305
CREATED:20240723T183719Z
LAST-MODIFIED:20240725T160106Z
UID:10000071-1724594400-1724605200@aboutmarbella.com
SUMMARY:La Sala Puerto Banus
DESCRIPTION:Zoe Louise\n  \nOur youngest singer with a stunning voice. Zoe has been performing at La Sala Puerto Banús for over five years. Her material includes the best hits from soul\, pop and current chart hits. \nNuestra cantante más joven con una voz maravillosa. Zoe ha estado interpretando enLa Sala Puerto Banús desde hace más de cinco años. Su repertorio incluye los mejores éxitos del soul\, pop y los éxitos comerciales del momento.
URL:https://aboutmarbella.com/evento/zoe-louise-7/
LOCATION:La Sala Puerto Banus\, C. Juan Belmonte\, s/n\, Marbella\, Marbella\, 29660\, España
ATTACH;FMTTYPE=image/jpeg:https://aboutmarbella.com/wp-content/uploads/2024/07/Zoe.jpg
END:VEVENT
BEGIN:VEVENT
DTSTART;TZID=Europe/Madrid:20240825T120000
DTEND;TZID=Europe/Madrid:20240825T200000
DTSTAMP:20260423T223305
CREATED:20240729T201205Z
LAST-MODIFIED:20240729T201205Z
UID:10000802-1724587200-1724616000@aboutmarbella.com
SUMMARY:Mogli The Key
DESCRIPTION:MOGLI X CERTTI
URL:https://aboutmarbella.com/evento/mogli-the-key-7/2024-08-25/
LOCATION:Mogli The Key\, Av. del Prado\, 37\, Marbella\, Malaga\, 29660\, España
ATTACH;FMTTYPE=image/jpeg:https://aboutmarbella.com/wp-content/uploads/2024/07/Imagen-de-WhatsApp-2024-07-29-a-las-21.51.03_8c08939d.jpg
END:VEVENT
BEGIN:VEVENT
DTSTART;TZID=Europe/Madrid:20240825T110000
DTEND;TZID=Europe/Madrid:20240825T210000
DTSTAMP:20260423T223305
CREATED:20240729T193513Z
LAST-MODIFIED:20240729T193513Z
UID:10000656-1724583600-1724619600@aboutmarbella.com
SUMMARY:Ocean Club Marbella
DESCRIPTION:TROPICANA
URL:https://aboutmarbella.com/evento/ocean-club-marbella-3/2024-08-25/
LOCATION:Ocean Club Marbella\, Avda. Lola Flores s/n\, Marbella\, Malaga\, 29660\, España
ATTACH;FMTTYPE=image/jpeg:https://aboutmarbella.com/wp-content/uploads/2024/07/Imagen-de-WhatsApp-2024-07-29-a-las-21.20.06_69df9ac5.jpg
END:VEVENT
BEGIN:VEVENT
DTSTART;TZID=Europe/Madrid:20240825T110000
DTEND;TZID=Europe/Madrid:20240825T210000
DTSTAMP:20260423T223305
CREATED:20240729T185242Z
LAST-MODIFIED:20240729T185242Z
UID:10000590-1724583600-1724619600@aboutmarbella.com
SUMMARY:La Sala By The Sea
DESCRIPTION:CARNIVAL\nJOSE GALLANO\nJOEL SAX
URL:https://aboutmarbella.com/evento/la-sala-by-the-sea-7/2024-08-25/
LOCATION:La Sala By The Sea\, Av José Banús\, Marbella\, Malaga\, 29660\, España
ATTACH;FMTTYPE=image/jpeg:https://aboutmarbella.com/wp-content/uploads/2024/07/sunday24.jpg
END:VEVENT
BEGIN:VEVENT
DTSTART;TZID=Europe/Madrid:20240825T110000
DTEND;TZID=Europe/Madrid:20240825T123000
DTSTAMP:20260423T223305
CREATED:20240723T183532Z
LAST-MODIFIED:20240725T160129Z
UID:10000070-1724583600-1724589000@aboutmarbella.com
SUMMARY:La Sala Puerto Banus
DESCRIPTION:Breakfast with Spiderman\n  \nBreakfast with Spiderman\, 25.00€ per person VAT included\nTotal: 50.00€ VAT included (45.45€ VAT not included)Join us in our Live Lounge on Sunday 25th August to celebrate Breakfast with Spiderman! \nWe are currently offering breakfast and a drink\, along with fun games with Spiderman! The event will start at 11am and will last for 90 minutes. \nTickets are available for 25€ per person. Please note all bookings need to be prepaid in full in order to confirm and secure the reservation. \nClick HERE to see our Special Breakfast Menu! \nThis event is for children of all ages and their accompanying parents. Babies aged 2 and under are free to attend\, although please note that no food will be provided for them (you are welcome to bring their food). \nPlease note prams will be left outside of the room due to limited space.
URL:https://aboutmarbella.com/evento/breakfast-with-spiderman/
LOCATION:La Sala Puerto Banus\, C. Juan Belmonte\, s/n\, Marbella\, Marbella\, 29660\, España
ATTACH;FMTTYPE=image/jpeg:https://aboutmarbella.com/wp-content/uploads/2024/07/spiderman_R2Au.jpg
END:VEVENT
BEGIN:VEVENT
DTSTART;TZID=Europe/Madrid:20240824T233000
DTEND;TZID=Europe/Madrid:20240825T060000
DTSTAMP:20260423T223305
CREATED:20240724T112432Z
LAST-MODIFIED:20240725T160201Z
UID:10000169-1724542200-1724565600@aboutmarbella.com
SUMMARY:Tibu Puerto Banus
DESCRIPTION:BOAT CLUB – DJ MICHAEL YOUNGER\n  \nThe Boat Club back in TIBU nightclub\, for another sell out night – with guest DJs\, Michael Younger\, O´Neil McDowall\, Sonny Kane and more to be announced – this events will need to be pre-booked by using the 24 hour reservation link
URL:https://aboutmarbella.com/evento/boat-club-dj-michael-younger/
LOCATION:Tibu Marbella\, Pl. de Antonio Banderas\, 34\, 35\,36\,37\, Marbella\, Malaga\, 29660\, España
ATTACH;FMTTYPE=image/jpeg:https://aboutmarbella.com/wp-content/uploads/2024/07/boat-club-24.8.24.jpg
END:VEVENT
BEGIN:VEVENT
DTSTART;TZID=Europe/Madrid:20240824T233000
DTEND;TZID=Europe/Madrid:20240825T020000
DTSTAMP:20260423T223305
CREATED:20240723T220547Z
LAST-MODIFIED:20240725T160235Z
UID:10000117-1724542200-1724551200@aboutmarbella.com
SUMMARY:Starlite Marbella
DESCRIPTION:ALVAMA ICE
URL:https://aboutmarbella.com/evento/alvama-ice/
LOCATION:Starlite Marbella\, C. Albinoni\, s/n\, Marbella\, Malaga\, 29602\, España
ATTACH;FMTTYPE=image/jpeg:https://aboutmarbella.com/wp-content/uploads/2024/07/6802e673a025fcf721917aff56c5d0e3_ALVAMAICE24.08_385_374_crop_1.jpg
END:VEVENT
BEGIN:VEVENT
DTSTART;TZID=Europe/Madrid:20240824T220000
DTEND;TZID=Europe/Madrid:20240824T233000
DTSTAMP:20260423T223305
CREATED:20240723T220420Z
LAST-MODIFIED:20240725T160255Z
UID:10000116-1724536800-1724542200@aboutmarbella.com
SUMMARY:Starlite Marbella
DESCRIPTION:SEBASTIÁN YATRA
URL:https://aboutmarbella.com/evento/sebastian-yatra/
LOCATION:Starlite Marbella\, C. Albinoni\, s/n\, Marbella\, Malaga\, 29602\, España
ATTACH;FMTTYPE=image/jpeg:https://aboutmarbella.com/wp-content/uploads/2024/07/8af24d3600be2fbdc106ac5f5270a820_koobin_800x77431_385_374_crop_1.jpg
END:VEVENT
BEGIN:VEVENT
DTSTART;TZID=Europe/Madrid:20240824T200000
DTEND;TZID=Europe/Madrid:20240824T230000
DTSTAMP:20260423T223305
CREATED:20240723T183343Z
LAST-MODIFIED:20240725T160320Z
UID:10000069-1724529600-1724540400@aboutmarbella.com
SUMMARY:La Sala Puerto Banus
DESCRIPTION:Diva Fever
URL:https://aboutmarbella.com/evento/diva-fever-4/
LOCATION:La Sala Puerto Banus\, C. Juan Belmonte\, s/n\, Marbella\, Marbella\, 29660\, España
ATTACH;FMTTYPE=image/jpeg:https://aboutmarbella.com/wp-content/uploads/2024/07/divafever_blAy.jpg
END:VEVENT
BEGIN:VEVENT
DTSTART;TZID=Europe/Madrid:20240824T200000
DTEND;TZID=Europe/Madrid:20240824T230000
DTSTAMP:20260423T223305
CREATED:20240723T183232Z
LAST-MODIFIED:20240725T160512Z
UID:10000068-1724529600-1724540400@aboutmarbella.com
SUMMARY:La Sala Puerto Banus
DESCRIPTION:Joey Sax &amp; DJ Lady Jade
URL:https://aboutmarbella.com/evento/joey-sax-dj-lady-jade-5/
LOCATION:La Sala Puerto Banus\, C. Juan Belmonte\, s/n\, Marbella\, Marbella\, 29660\, España
ATTACH;FMTTYPE=image/jpeg:https://aboutmarbella.com/wp-content/uploads/2024/07/JoeySax-LadyJade.jpg
END:VEVENT
BEGIN:VEVENT
DTSTART;TZID=Europe/Madrid:20240824T120000
DTEND;TZID=Europe/Madrid:20240824T233000
DTSTAMP:20260423T223305
CREATED:20240729T174713Z
LAST-MODIFIED:20240729T174713Z
UID:10000393-1724500800-1724542200@aboutmarbella.com
SUMMARY:PLAYA PADRE
DESCRIPTION:VALE\nEvery Saturday\nARTCHITEC\nFrom 12:00h\n 
URL:https://aboutmarbella.com/evento/playa-padre-6/2024-08-24/
LOCATION:Playa Padre\, s/n\, Calle playa del cable\, Marbella\, Malaga\, 29603\, España
ATTACH;FMTTYPE=image/png:https://aboutmarbella.com/wp-content/uploads/2024/07/1722264332_06_VALEWEB2024PP-1400-she3nx.png
END:VEVENT
BEGIN:VEVENT
DTSTART;TZID=Europe/Madrid:20240824T120000
DTEND;TZID=Europe/Madrid:20240824T200000
DTSTAMP:20260423T223305
CREATED:20240729T201032Z
LAST-MODIFIED:20240729T201032Z
UID:10000783-1724500800-1724529600@aboutmarbella.com
SUMMARY:Mogli The Key
DESCRIPTION:MOGLI X LOVEJUICE\n 
URL:https://aboutmarbella.com/evento/mogli-the-key-6/2024-08-24/
LOCATION:Mogli The Key\, Av. del Prado\, 37\, Marbella\, Malaga\, 29660\, España
ATTACH;FMTTYPE=image/jpeg:https://aboutmarbella.com/wp-content/uploads/2024/07/Imagen-de-WhatsApp-2024-07-29-a-las-21.51.03_83676e95.jpg
END:VEVENT
BEGIN:VEVENT
DTSTART;TZID=Europe/Madrid:20240824T120000
DTEND;TZID=Europe/Madrid:20240824T150000
DTSTAMP:20260423T223305
CREATED:20240723T183045Z
LAST-MODIFIED:20240725T160531Z
UID:10000067-1724500800-1724511600@aboutmarbella.com
SUMMARY:La Sala Puerto Banus
DESCRIPTION:Amelinde\n  \nAmelinde has been singing on the coast for over 20 years in different projects ranging from various tribute shows to her very own live band. \nHer years of experience have brought with it an extensive repertoire as a solo artist of soul\, rock\, pop and everything in between so is guaranteed to have something to suit every musical taste.
URL:https://aboutmarbella.com/evento/amelinde-3/
LOCATION:La Sala Puerto Banus\, C. Juan Belmonte\, s/n\, Marbella\, Marbella\, 29660\, España
ATTACH;FMTTYPE=image/jpeg:https://aboutmarbella.com/wp-content/uploads/2024/07/Amelinde_eK3P.jpg
END:VEVENT
BEGIN:VEVENT
DTSTART;TZID=Europe/Madrid:20240824T110000
DTEND;TZID=Europe/Madrid:20240824T210000
DTSTAMP:20260423T223305
CREATED:20240729T185058Z
LAST-MODIFIED:20240729T185058Z
UID:10000572-1724497200-1724533200@aboutmarbella.com
SUMMARY:La Sala By The Sea
DESCRIPTION:SAMUI\nSCOTT STRUTTOON \nSHAYNE G1VEN \nJOEY SAX
URL:https://aboutmarbella.com/evento/la-sala-by-the-sea-6/2024-08-24/
LOCATION:La Sala By The Sea\, Av José Banús\, Marbella\, Malaga\, 29660\, España
ATTACH;FMTTYPE=image/jpeg:https://aboutmarbella.com/wp-content/uploads/2024/07/saturday24.jpg
END:VEVENT
BEGIN:VEVENT
DTSTART;TZID=Europe/Madrid:20240823T233000
DTEND;TZID=Europe/Madrid:20240824T060000
DTSTAMP:20260423T223305
CREATED:20240724T111201Z
LAST-MODIFIED:20240725T160621Z
UID:10000168-1724455800-1724479200@aboutmarbella.com
SUMMARY:Tibu Puerto Banus
DESCRIPTION:MAYFAIR SESSIONS – DJ JORDAN VALLEYS\n  \nGet ready for the ninth season of The Mayfair Sessions in Marbella during Summer 2024. The highly anticipated return brings you the flagship Friday Sessions at Marbella’s premier nightclub\, Tibu Marbella. Prepare for an extraordinary lineup featuring big names and incredible vibes\, with past performances by artists like French Montana\, Trey Songz\, Sean Paul\, Stormzy\, Craig David\, K Trap\, and D Block Europe. Join us every week to catch Jordan Valleys and DJ Fourty spinning the best in RnB\, Hip Hop\, House\, and Afrobeat\, ensuring an unforgettable experience.
URL:https://aboutmarbella.com/evento/mayfair-sessions-dj-jordan-valleys-4/
LOCATION:Tibu Marbella\, Pl. de Antonio Banderas\, 34\, 35\,36\,37\, Marbella\, Malaga\, 29660\, España
ATTACH;FMTTYPE=image/jpeg:https://aboutmarbella.com/wp-content/uploads/2024/07/Mayfair-Sessions-2024-1.jpg
END:VEVENT
BEGIN:VEVENT
DTSTART;TZID=Europe/Madrid:20240823T220000
DTEND;TZID=Europe/Madrid:20240823T233000
DTSTAMP:20260423T223305
CREATED:20240723T220313Z
LAST-MODIFIED:20240725T160641Z
UID:10000115-1724450400-1724455800@aboutmarbella.com
SUMMARY:Starlite Marbella
DESCRIPTION:ANA MENA
URL:https://aboutmarbella.com/evento/ana-mena/
LOCATION:Starlite Marbella\, C. Albinoni\, s/n\, Marbella\, Malaga\, 29602\, España
ATTACH;FMTTYPE=image/jpeg:https://aboutmarbella.com/wp-content/uploads/2024/07/4aed0e3969de7ad3658eb343aa9a9898_0823_AnaMena_800x774_385_374_crop_1.jpg
END:VEVENT
BEGIN:VEVENT
DTSTART;TZID=Europe/Madrid:20240823T213000
DTEND;TZID=Europe/Madrid:20240823T233000
DTSTAMP:20260423T223305
CREATED:20240723T182925Z
LAST-MODIFIED:20240725T160710Z
UID:10000066-1724448600-1724455800@aboutmarbella.com
SUMMARY:La Sala Puerto Banus
DESCRIPTION:Tony Capo\n  \nTony Capo is a professional singer and guitarist\, with over 15 years’ experience he is able to work the room performing his extensive repertoire. Tony always keeps the dance floor bouncing! \nTony Capo es un cantante y guitarrista profesional\, con más de 15 años de experiencia\, es capaz de conectarse con la audiencia con su amplio repertorio. Tony siempre llena de ritmo trepidante la pista de baile.
URL:https://aboutmarbella.com/evento/tony-capo-5/
LOCATION:La Sala Puerto Banus\, C. Juan Belmonte\, s/n\, Marbella\, Marbella\, 29660\, España
ATTACH;FMTTYPE=image/jpeg:https://aboutmarbella.com/wp-content/uploads/2024/07/2020-TonyCapo.jpg
END:VEVENT
BEGIN:VEVENT
DTSTART;TZID=Europe/Madrid:20240823T200000
DTEND;TZID=Europe/Madrid:20240823T233000
DTSTAMP:20260423T223305
CREATED:20240730T144408Z
LAST-MODIFIED:20240730T144408Z
UID:10000824-1724443200-1724455800@aboutmarbella.com
SUMMARY:Mercadillo Artesanal Benahavis
DESCRIPTION:MERCADILLO ARTESANAL DE BENAHAVÍS DE VERANO\n\nEste jueves 4 de julio se inaugura el Mercadillo Artesanal de Benahavís. Se instalará jueves y viernes de julio y agosto\, a partir de las ocho de la tarde y hasta medianoche\, en la Avenida de Andalucía.\nSerá un espacio abierto para disfrutar\, en las noches de verano\, del trabajo de nuestros artesanos.\nThis Thursday\, the 4th of July\, sees the inauguration of the Benahavís Craft Market. It will be on Thursday and Friday\, July to August\, from eight until midnight\, in the Avenida de Andalucía.\nIt will be an open space to enjoy\, on summer evenings\, the work of our artists.
URL:https://aboutmarbella.com/evento/mercadillo-artesanal-benahavis/2024-08-23/
LOCATION:Benahavis Mercadillo Artesanal\, Avenida de Andalucía\, 34\, Benahavis\, Malaga\, 29679\, España
ATTACH;FMTTYPE=image/jpeg:https://aboutmarbella.com/wp-content/uploads/2024/07/mercadillo-artesanal-verano.jpg
END:VEVENT
BEGIN:VEVENT
DTSTART;TZID=Europe/Madrid:20240823T200000
DTEND;TZID=Europe/Madrid:20240823T230000
DTSTAMP:20260423T223305
CREATED:20240723T182800Z
LAST-MODIFIED:20240725T160734Z
UID:10000065-1724443200-1724454000@aboutmarbella.com
SUMMARY:La Sala Puerto Banus
DESCRIPTION:Debra Stacey\n  \nDebra has over 20 years experience in the music business including working as a session singer with some very well known Artists\, not only in the studio but live shows as well. \nShe’s a versatile vocalist covering an eclectic mix of Genres including; Mixed Soul\, Funk\, Motown\, Club Classics and Jazz to name a few.
URL:https://aboutmarbella.com/evento/debra-stacey-5/
LOCATION:Malaga
ATTACH;FMTTYPE=image/jpeg:https://aboutmarbella.com/wp-content/uploads/2024/07/DebraStacey_PZNI.jpg
END:VEVENT
BEGIN:VEVENT
DTSTART;TZID=Europe/Madrid:20240823T190000
DTEND;TZID=Europe/Madrid:20240823T213000
DTSTAMP:20260423T223305
CREATED:20240723T182634Z
LAST-MODIFIED:20240725T160756Z
UID:10000064-1724439600-1724448600@aboutmarbella.com
SUMMARY:La Sala Puerto Banus
DESCRIPTION:Paul Hull
URL:https://aboutmarbella.com/evento/paul-hull-3/
LOCATION:La Sala Puerto Banus\, C. Juan Belmonte\, s/n\, Marbella\, Marbella\, 29660\, España
ATTACH;FMTTYPE=image/jpeg:https://aboutmarbella.com/wp-content/uploads/2024/07/paulhull_y8z1.jpg
END:VEVENT
END:VCALENDAR