BEGIN:VCALENDAR
VERSION:2.0
PRODID:-//About Marbella - ECPv6.8.0//NONSGML v1.0//EN
CALSCALE:GREGORIAN
METHOD:PUBLISH
X-WR-CALNAME:About Marbella
X-ORIGINAL-URL:https://aboutmarbella.com
X-WR-CALDESC:Events for About Marbella
REFRESH-INTERVAL;VALUE=DURATION:PT1H
X-Robots-Tag:noindex
X-PUBLISHED-TTL:PT1H
BEGIN:VTIMEZONE
TZID:Europe/Madrid
BEGIN:DAYLIGHT
TZOFFSETFROM:+0100
TZOFFSETTO:+0200
TZNAME:CEST
DTSTART:20240331T010000
END:DAYLIGHT
BEGIN:STANDARD
TZOFFSETFROM:+0200
TZOFFSETTO:+0100
TZNAME:CET
DTSTART:20241027T010000
END:STANDARD
END:VTIMEZONE
BEGIN:VEVENT
DTSTART;TZID=Europe/Madrid:20241209T120000
DTEND;TZID=Europe/Madrid:20241209T233000
DTSTAMP:20260423T081754
CREATED:20240729T173948Z
LAST-MODIFIED:20240729T173948Z
UID:10000216-1733745600-1733787000@aboutmarbella.com
SUMMARY:PLAYA PADRE
DESCRIPTION:CHAKRA\nEvery Tuesday\nNANO GARRIDO\nFrom 12:00h\n 
URL:https://aboutmarbella.com/evento/playa-padre-2/2024-12-09/
LOCATION:Playa Padre\, s/n\, Calle playa del cable\, Marbella\, Malaga\, 29603\, España
ATTACH;FMTTYPE=image/png:https://aboutmarbella.com/wp-content/uploads/2024/07/1721919311_02_CHAKRA_WEB-1400-sh6pfz.png
END:VEVENT
BEGIN:VEVENT
DTSTART;TZID=Europe/Madrid:20241207T120000
DTEND;TZID=Europe/Madrid:20241207T233000
DTSTAMP:20260423T081754
CREATED:20240729T174713Z
LAST-MODIFIED:20240729T174713Z
UID:10000408-1733572800-1733614200@aboutmarbella.com
SUMMARY:PLAYA PADRE
DESCRIPTION:VALE\nEvery Saturday\nARTCHITEC\nFrom 12:00h\n 
URL:https://aboutmarbella.com/evento/playa-padre-6/2024-12-07/
LOCATION:Playa Padre\, s/n\, Calle playa del cable\, Marbella\, Malaga\, 29603\, España
ATTACH;FMTTYPE=image/png:https://aboutmarbella.com/wp-content/uploads/2024/07/1722264332_06_VALEWEB2024PP-1400-she3nx.png
END:VEVENT
BEGIN:VEVENT
DTSTART;TZID=Europe/Madrid:20241206T120000
DTEND;TZID=Europe/Madrid:20241206T233000
DTSTAMP:20260423T081754
CREATED:20240729T174516Z
LAST-MODIFIED:20240729T174516Z
UID:10000343-1733486400-1733527800@aboutmarbella.com
SUMMARY:PLAYA PADRE
DESCRIPTION:FRIDAY PADRE\nEvery Friday\nEMMERALD\nFrom 12:00h\n 
URL:https://aboutmarbella.com/evento/playa-padre-5/2024-12-06/
LOCATION:Playa Padre\, s/n\, Calle playa del cable\, Marbella\, Malaga\, 29603\, España
ATTACH;FMTTYPE=image/png:https://aboutmarbella.com/wp-content/uploads/2024/07/1722264227_05_FRIDAY_WEB-1400-she3kz.png
END:VEVENT
BEGIN:VEVENT
DTSTART;TZID=Europe/Madrid:20241204T120000
DTEND;TZID=Europe/Madrid:20241204T233000
DTSTAMP:20260423T081754
CREATED:20240729T174210Z
LAST-MODIFIED:20240729T174210Z
UID:10000277-1733313600-1733355000@aboutmarbella.com
SUMMARY:PLAYA PADRE
DESCRIPTION:LUNCH WITH AMIGOS\nEvery Wednesday\nEMMERALD\nFrom 12:00h\n 
URL:https://aboutmarbella.com/evento/playa-padre-3/2024-12-04/
LOCATION:Playa Padre\, s/n\, Calle playa del cable\, Marbella\, Malaga\, 29603\, España
ATTACH;FMTTYPE=image/png:https://aboutmarbella.com/wp-content/uploads/2024/07/1722264007_03_WEDNESDAY_WEB_LUNCH_WITH_AMIGOS-1400-she3ew.png
END:VEVENT
BEGIN:VEVENT
DTSTART;TZID=Europe/Madrid:20241202T120000
DTEND;TZID=Europe/Madrid:20241202T233000
DTSTAMP:20260423T081754
CREATED:20240729T173948Z
LAST-MODIFIED:20240729T173948Z
UID:10000215-1733140800-1733182200@aboutmarbella.com
SUMMARY:PLAYA PADRE
DESCRIPTION:CHAKRA\nEvery Tuesday\nNANO GARRIDO\nFrom 12:00h\n 
URL:https://aboutmarbella.com/evento/playa-padre-2/2024-12-02/
LOCATION:Playa Padre\, s/n\, Calle playa del cable\, Marbella\, Malaga\, 29603\, España
ATTACH;FMTTYPE=image/png:https://aboutmarbella.com/wp-content/uploads/2024/07/1721919311_02_CHAKRA_WEB-1400-sh6pfz.png
END:VEVENT
BEGIN:VEVENT
DTSTART;TZID=Europe/Madrid:20241130T120000
DTEND;TZID=Europe/Madrid:20241130T233000
DTSTAMP:20260423T081754
CREATED:20240729T174713Z
LAST-MODIFIED:20240729T174713Z
UID:10000407-1732968000-1733009400@aboutmarbella.com
SUMMARY:PLAYA PADRE
DESCRIPTION:VALE\nEvery Saturday\nARTCHITEC\nFrom 12:00h\n 
URL:https://aboutmarbella.com/evento/playa-padre-6/2024-11-30/
LOCATION:Playa Padre\, s/n\, Calle playa del cable\, Marbella\, Malaga\, 29603\, España
ATTACH;FMTTYPE=image/png:https://aboutmarbella.com/wp-content/uploads/2024/07/1722264332_06_VALEWEB2024PP-1400-she3nx.png
END:VEVENT
BEGIN:VEVENT
DTSTART;TZID=Europe/Madrid:20241129T120000
DTEND;TZID=Europe/Madrid:20241129T233000
DTSTAMP:20260423T081754
CREATED:20240729T174516Z
LAST-MODIFIED:20240729T174516Z
UID:10000342-1732881600-1732923000@aboutmarbella.com
SUMMARY:PLAYA PADRE
DESCRIPTION:FRIDAY PADRE\nEvery Friday\nEMMERALD\nFrom 12:00h\n 
URL:https://aboutmarbella.com/evento/playa-padre-5/2024-11-29/
LOCATION:Playa Padre\, s/n\, Calle playa del cable\, Marbella\, Malaga\, 29603\, España
ATTACH;FMTTYPE=image/png:https://aboutmarbella.com/wp-content/uploads/2024/07/1722264227_05_FRIDAY_WEB-1400-she3kz.png
END:VEVENT
BEGIN:VEVENT
DTSTART;TZID=Europe/Madrid:20241127T120000
DTEND;TZID=Europe/Madrid:20241127T233000
DTSTAMP:20260423T081754
CREATED:20240729T174210Z
LAST-MODIFIED:20240729T174210Z
UID:10000276-1732708800-1732750200@aboutmarbella.com
SUMMARY:PLAYA PADRE
DESCRIPTION:LUNCH WITH AMIGOS\nEvery Wednesday\nEMMERALD\nFrom 12:00h\n 
URL:https://aboutmarbella.com/evento/playa-padre-3/2024-11-27/
LOCATION:Playa Padre\, s/n\, Calle playa del cable\, Marbella\, Malaga\, 29603\, España
ATTACH;FMTTYPE=image/png:https://aboutmarbella.com/wp-content/uploads/2024/07/1722264007_03_WEDNESDAY_WEB_LUNCH_WITH_AMIGOS-1400-she3ew.png
END:VEVENT
BEGIN:VEVENT
DTSTART;TZID=Europe/Madrid:20241125T120000
DTEND;TZID=Europe/Madrid:20241125T233000
DTSTAMP:20260423T081754
CREATED:20240729T173948Z
LAST-MODIFIED:20240729T173948Z
UID:10000214-1732536000-1732577400@aboutmarbella.com
SUMMARY:PLAYA PADRE
DESCRIPTION:CHAKRA\nEvery Tuesday\nNANO GARRIDO\nFrom 12:00h\n 
URL:https://aboutmarbella.com/evento/playa-padre-2/2024-11-25/
LOCATION:Playa Padre\, s/n\, Calle playa del cable\, Marbella\, Malaga\, 29603\, España
ATTACH;FMTTYPE=image/png:https://aboutmarbella.com/wp-content/uploads/2024/07/1721919311_02_CHAKRA_WEB-1400-sh6pfz.png
END:VEVENT
BEGIN:VEVENT
DTSTART;TZID=Europe/Madrid:20241123T120000
DTEND;TZID=Europe/Madrid:20241123T233000
DTSTAMP:20260423T081754
CREATED:20240729T174713Z
LAST-MODIFIED:20240729T174713Z
UID:10000406-1732363200-1732404600@aboutmarbella.com
SUMMARY:PLAYA PADRE
DESCRIPTION:VALE\nEvery Saturday\nARTCHITEC\nFrom 12:00h\n 
URL:https://aboutmarbella.com/evento/playa-padre-6/2024-11-23/
LOCATION:Playa Padre\, s/n\, Calle playa del cable\, Marbella\, Malaga\, 29603\, España
ATTACH;FMTTYPE=image/png:https://aboutmarbella.com/wp-content/uploads/2024/07/1722264332_06_VALEWEB2024PP-1400-she3nx.png
END:VEVENT
BEGIN:VEVENT
DTSTART;TZID=Europe/Madrid:20241122T120000
DTEND;TZID=Europe/Madrid:20241122T233000
DTSTAMP:20260423T081754
CREATED:20240729T174516Z
LAST-MODIFIED:20240729T174516Z
UID:10000341-1732276800-1732318200@aboutmarbella.com
SUMMARY:PLAYA PADRE
DESCRIPTION:FRIDAY PADRE\nEvery Friday\nEMMERALD\nFrom 12:00h\n 
URL:https://aboutmarbella.com/evento/playa-padre-5/2024-11-22/
LOCATION:Playa Padre\, s/n\, Calle playa del cable\, Marbella\, Malaga\, 29603\, España
ATTACH;FMTTYPE=image/png:https://aboutmarbella.com/wp-content/uploads/2024/07/1722264227_05_FRIDAY_WEB-1400-she3kz.png
END:VEVENT
BEGIN:VEVENT
DTSTART;TZID=Europe/Madrid:20241120T120000
DTEND;TZID=Europe/Madrid:20241120T233000
DTSTAMP:20260423T081754
CREATED:20240729T174210Z
LAST-MODIFIED:20240729T174210Z
UID:10000275-1732104000-1732145400@aboutmarbella.com
SUMMARY:PLAYA PADRE
DESCRIPTION:LUNCH WITH AMIGOS\nEvery Wednesday\nEMMERALD\nFrom 12:00h\n 
URL:https://aboutmarbella.com/evento/playa-padre-3/2024-11-20/
LOCATION:Playa Padre\, s/n\, Calle playa del cable\, Marbella\, Malaga\, 29603\, España
ATTACH;FMTTYPE=image/png:https://aboutmarbella.com/wp-content/uploads/2024/07/1722264007_03_WEDNESDAY_WEB_LUNCH_WITH_AMIGOS-1400-she3ew.png
END:VEVENT
BEGIN:VEVENT
DTSTART;TZID=Europe/Madrid:20241118T120000
DTEND;TZID=Europe/Madrid:20241118T233000
DTSTAMP:20260423T081754
CREATED:20240729T173948Z
LAST-MODIFIED:20240729T173948Z
UID:10000213-1731931200-1731972600@aboutmarbella.com
SUMMARY:PLAYA PADRE
DESCRIPTION:CHAKRA\nEvery Tuesday\nNANO GARRIDO\nFrom 12:00h\n 
URL:https://aboutmarbella.com/evento/playa-padre-2/2024-11-18/
LOCATION:Playa Padre\, s/n\, Calle playa del cable\, Marbella\, Malaga\, 29603\, España
ATTACH;FMTTYPE=image/png:https://aboutmarbella.com/wp-content/uploads/2024/07/1721919311_02_CHAKRA_WEB-1400-sh6pfz.png
END:VEVENT
BEGIN:VEVENT
DTSTART;TZID=Europe/Madrid:20241116T120000
DTEND;TZID=Europe/Madrid:20241116T233000
DTSTAMP:20260423T081754
CREATED:20240729T174713Z
LAST-MODIFIED:20240729T174713Z
UID:10000405-1731758400-1731799800@aboutmarbella.com
SUMMARY:PLAYA PADRE
DESCRIPTION:VALE\nEvery Saturday\nARTCHITEC\nFrom 12:00h\n 
URL:https://aboutmarbella.com/evento/playa-padre-6/2024-11-16/
LOCATION:Playa Padre\, s/n\, Calle playa del cable\, Marbella\, Malaga\, 29603\, España
ATTACH;FMTTYPE=image/png:https://aboutmarbella.com/wp-content/uploads/2024/07/1722264332_06_VALEWEB2024PP-1400-she3nx.png
END:VEVENT
BEGIN:VEVENT
DTSTART;TZID=Europe/Madrid:20241115T120000
DTEND;TZID=Europe/Madrid:20241115T233000
DTSTAMP:20260423T081754
CREATED:20240729T174516Z
LAST-MODIFIED:20240729T174516Z
UID:10000340-1731672000-1731713400@aboutmarbella.com
SUMMARY:PLAYA PADRE
DESCRIPTION:FRIDAY PADRE\nEvery Friday\nEMMERALD\nFrom 12:00h\n 
URL:https://aboutmarbella.com/evento/playa-padre-5/2024-11-15/
LOCATION:Playa Padre\, s/n\, Calle playa del cable\, Marbella\, Malaga\, 29603\, España
ATTACH;FMTTYPE=image/png:https://aboutmarbella.com/wp-content/uploads/2024/07/1722264227_05_FRIDAY_WEB-1400-she3kz.png
END:VEVENT
BEGIN:VEVENT
DTSTART;TZID=Europe/Madrid:20241113T120000
DTEND;TZID=Europe/Madrid:20241113T233000
DTSTAMP:20260423T081754
CREATED:20240729T174210Z
LAST-MODIFIED:20240729T174210Z
UID:10000274-1731499200-1731540600@aboutmarbella.com
SUMMARY:PLAYA PADRE
DESCRIPTION:LUNCH WITH AMIGOS\nEvery Wednesday\nEMMERALD\nFrom 12:00h\n 
URL:https://aboutmarbella.com/evento/playa-padre-3/2024-11-13/
LOCATION:Playa Padre\, s/n\, Calle playa del cable\, Marbella\, Malaga\, 29603\, España
ATTACH;FMTTYPE=image/png:https://aboutmarbella.com/wp-content/uploads/2024/07/1722264007_03_WEDNESDAY_WEB_LUNCH_WITH_AMIGOS-1400-she3ew.png
END:VEVENT
BEGIN:VEVENT
DTSTART;TZID=Europe/Madrid:20241111T120000
DTEND;TZID=Europe/Madrid:20241111T233000
DTSTAMP:20260423T081754
CREATED:20240729T173948Z
LAST-MODIFIED:20240729T173948Z
UID:10000212-1731326400-1731367800@aboutmarbella.com
SUMMARY:PLAYA PADRE
DESCRIPTION:CHAKRA\nEvery Tuesday\nNANO GARRIDO\nFrom 12:00h\n 
URL:https://aboutmarbella.com/evento/playa-padre-2/2024-11-11/
LOCATION:Playa Padre\, s/n\, Calle playa del cable\, Marbella\, Malaga\, 29603\, España
ATTACH;FMTTYPE=image/png:https://aboutmarbella.com/wp-content/uploads/2024/07/1721919311_02_CHAKRA_WEB-1400-sh6pfz.png
END:VEVENT
BEGIN:VEVENT
DTSTART;TZID=Europe/Madrid:20241109T120000
DTEND;TZID=Europe/Madrid:20241109T233000
DTSTAMP:20260423T081754
CREATED:20240729T174713Z
LAST-MODIFIED:20240729T174713Z
UID:10000404-1731153600-1731195000@aboutmarbella.com
SUMMARY:PLAYA PADRE
DESCRIPTION:VALE\nEvery Saturday\nARTCHITEC\nFrom 12:00h\n 
URL:https://aboutmarbella.com/evento/playa-padre-6/2024-11-09/
LOCATION:Playa Padre\, s/n\, Calle playa del cable\, Marbella\, Malaga\, 29603\, España
ATTACH;FMTTYPE=image/png:https://aboutmarbella.com/wp-content/uploads/2024/07/1722264332_06_VALEWEB2024PP-1400-she3nx.png
END:VEVENT
BEGIN:VEVENT
DTSTART;TZID=Europe/Madrid:20241108T120000
DTEND;TZID=Europe/Madrid:20241108T233000
DTSTAMP:20260423T081754
CREATED:20240729T174516Z
LAST-MODIFIED:20240729T174516Z
UID:10000339-1731067200-1731108600@aboutmarbella.com
SUMMARY:PLAYA PADRE
DESCRIPTION:FRIDAY PADRE\nEvery Friday\nEMMERALD\nFrom 12:00h\n 
URL:https://aboutmarbella.com/evento/playa-padre-5/2024-11-08/
LOCATION:Playa Padre\, s/n\, Calle playa del cable\, Marbella\, Malaga\, 29603\, España
ATTACH;FMTTYPE=image/png:https://aboutmarbella.com/wp-content/uploads/2024/07/1722264227_05_FRIDAY_WEB-1400-she3kz.png
END:VEVENT
BEGIN:VEVENT
DTSTART;TZID=Europe/Madrid:20241106T120000
DTEND;TZID=Europe/Madrid:20241106T233000
DTSTAMP:20260423T081754
CREATED:20240729T174210Z
LAST-MODIFIED:20240729T174210Z
UID:10000273-1730894400-1730935800@aboutmarbella.com
SUMMARY:PLAYA PADRE
DESCRIPTION:LUNCH WITH AMIGOS\nEvery Wednesday\nEMMERALD\nFrom 12:00h\n 
URL:https://aboutmarbella.com/evento/playa-padre-3/2024-11-06/
LOCATION:Playa Padre\, s/n\, Calle playa del cable\, Marbella\, Malaga\, 29603\, España
ATTACH;FMTTYPE=image/png:https://aboutmarbella.com/wp-content/uploads/2024/07/1722264007_03_WEDNESDAY_WEB_LUNCH_WITH_AMIGOS-1400-she3ew.png
END:VEVENT
BEGIN:VEVENT
DTSTART;TZID=Europe/Madrid:20241104T120000
DTEND;TZID=Europe/Madrid:20241104T233000
DTSTAMP:20260423T081754
CREATED:20240729T173948Z
LAST-MODIFIED:20240729T173948Z
UID:10000211-1730721600-1730763000@aboutmarbella.com
SUMMARY:PLAYA PADRE
DESCRIPTION:CHAKRA\nEvery Tuesday\nNANO GARRIDO\nFrom 12:00h\n 
URL:https://aboutmarbella.com/evento/playa-padre-2/2024-11-04/
LOCATION:Playa Padre\, s/n\, Calle playa del cable\, Marbella\, Malaga\, 29603\, España
ATTACH;FMTTYPE=image/png:https://aboutmarbella.com/wp-content/uploads/2024/07/1721919311_02_CHAKRA_WEB-1400-sh6pfz.png
END:VEVENT
BEGIN:VEVENT
DTSTART;TZID=Europe/Madrid:20241102T120000
DTEND;TZID=Europe/Madrid:20241102T233000
DTSTAMP:20260423T081754
CREATED:20240729T174713Z
LAST-MODIFIED:20240729T174713Z
UID:10000403-1730548800-1730590200@aboutmarbella.com
SUMMARY:PLAYA PADRE
DESCRIPTION:VALE\nEvery Saturday\nARTCHITEC\nFrom 12:00h\n 
URL:https://aboutmarbella.com/evento/playa-padre-6/2024-11-02/
LOCATION:Playa Padre\, s/n\, Calle playa del cable\, Marbella\, Malaga\, 29603\, España
ATTACH;FMTTYPE=image/png:https://aboutmarbella.com/wp-content/uploads/2024/07/1722264332_06_VALEWEB2024PP-1400-she3nx.png
END:VEVENT
BEGIN:VEVENT
DTSTART;TZID=Europe/Madrid:20241101T120000
DTEND;TZID=Europe/Madrid:20241101T233000
DTSTAMP:20260423T081754
CREATED:20240729T174516Z
LAST-MODIFIED:20240729T174516Z
UID:10000338-1730462400-1730503800@aboutmarbella.com
SUMMARY:PLAYA PADRE
DESCRIPTION:FRIDAY PADRE\nEvery Friday\nEMMERALD\nFrom 12:00h\n 
URL:https://aboutmarbella.com/evento/playa-padre-5/2024-11-01/
LOCATION:Playa Padre\, s/n\, Calle playa del cable\, Marbella\, Malaga\, 29603\, España
ATTACH;FMTTYPE=image/png:https://aboutmarbella.com/wp-content/uploads/2024/07/1722264227_05_FRIDAY_WEB-1400-she3kz.png
END:VEVENT
BEGIN:VEVENT
DTSTART;TZID=Europe/Madrid:20241030T120000
DTEND;TZID=Europe/Madrid:20241030T233000
DTSTAMP:20260423T081754
CREATED:20240729T174210Z
LAST-MODIFIED:20240729T174210Z
UID:10000272-1730289600-1730331000@aboutmarbella.com
SUMMARY:PLAYA PADRE
DESCRIPTION:LUNCH WITH AMIGOS\nEvery Wednesday\nEMMERALD\nFrom 12:00h\n 
URL:https://aboutmarbella.com/evento/playa-padre-3/2024-10-30/
LOCATION:Playa Padre\, s/n\, Calle playa del cable\, Marbella\, Malaga\, 29603\, España
ATTACH;FMTTYPE=image/png:https://aboutmarbella.com/wp-content/uploads/2024/07/1722264007_03_WEDNESDAY_WEB_LUNCH_WITH_AMIGOS-1400-she3ew.png
END:VEVENT
BEGIN:VEVENT
DTSTART;TZID=Europe/Madrid:20241028T120000
DTEND;TZID=Europe/Madrid:20241028T233000
DTSTAMP:20260423T081754
CREATED:20240729T173948Z
LAST-MODIFIED:20240729T173948Z
UID:10000210-1730116800-1730158200@aboutmarbella.com
SUMMARY:PLAYA PADRE
DESCRIPTION:CHAKRA\nEvery Tuesday\nNANO GARRIDO\nFrom 12:00h\n 
URL:https://aboutmarbella.com/evento/playa-padre-2/2024-10-28/
LOCATION:Playa Padre\, s/n\, Calle playa del cable\, Marbella\, Malaga\, 29603\, España
ATTACH;FMTTYPE=image/png:https://aboutmarbella.com/wp-content/uploads/2024/07/1721919311_02_CHAKRA_WEB-1400-sh6pfz.png
END:VEVENT
BEGIN:VEVENT
DTSTART;TZID=Europe/Madrid:20241026T120000
DTEND;TZID=Europe/Madrid:20241026T233000
DTSTAMP:20260423T081754
CREATED:20240729T174713Z
LAST-MODIFIED:20240729T174713Z
UID:10000402-1729944000-1729985400@aboutmarbella.com
SUMMARY:PLAYA PADRE
DESCRIPTION:VALE\nEvery Saturday\nARTCHITEC\nFrom 12:00h\n 
URL:https://aboutmarbella.com/evento/playa-padre-6/2024-10-26/
LOCATION:Playa Padre\, s/n\, Calle playa del cable\, Marbella\, Malaga\, 29603\, España
ATTACH;FMTTYPE=image/png:https://aboutmarbella.com/wp-content/uploads/2024/07/1722264332_06_VALEWEB2024PP-1400-she3nx.png
END:VEVENT
BEGIN:VEVENT
DTSTART;TZID=Europe/Madrid:20241025T120000
DTEND;TZID=Europe/Madrid:20241025T233000
DTSTAMP:20260423T081754
CREATED:20240729T174516Z
LAST-MODIFIED:20240729T174516Z
UID:10000337-1729857600-1729899000@aboutmarbella.com
SUMMARY:PLAYA PADRE
DESCRIPTION:FRIDAY PADRE\nEvery Friday\nEMMERALD\nFrom 12:00h\n 
URL:https://aboutmarbella.com/evento/playa-padre-5/2024-10-25/
LOCATION:Playa Padre\, s/n\, Calle playa del cable\, Marbella\, Malaga\, 29603\, España
ATTACH;FMTTYPE=image/png:https://aboutmarbella.com/wp-content/uploads/2024/07/1722264227_05_FRIDAY_WEB-1400-she3kz.png
END:VEVENT
BEGIN:VEVENT
DTSTART;TZID=Europe/Madrid:20241023T120000
DTEND;TZID=Europe/Madrid:20241023T233000
DTSTAMP:20260423T081754
CREATED:20240729T174210Z
LAST-MODIFIED:20240729T174210Z
UID:10000271-1729684800-1729726200@aboutmarbella.com
SUMMARY:PLAYA PADRE
DESCRIPTION:LUNCH WITH AMIGOS\nEvery Wednesday\nEMMERALD\nFrom 12:00h\n 
URL:https://aboutmarbella.com/evento/playa-padre-3/2024-10-23/
LOCATION:Playa Padre\, s/n\, Calle playa del cable\, Marbella\, Malaga\, 29603\, España
ATTACH;FMTTYPE=image/png:https://aboutmarbella.com/wp-content/uploads/2024/07/1722264007_03_WEDNESDAY_WEB_LUNCH_WITH_AMIGOS-1400-she3ew.png
END:VEVENT
BEGIN:VEVENT
DTSTART;TZID=Europe/Madrid:20241021T120000
DTEND;TZID=Europe/Madrid:20241021T233000
DTSTAMP:20260423T081754
CREATED:20240729T173948Z
LAST-MODIFIED:20240729T173948Z
UID:10000209-1729512000-1729553400@aboutmarbella.com
SUMMARY:PLAYA PADRE
DESCRIPTION:CHAKRA\nEvery Tuesday\nNANO GARRIDO\nFrom 12:00h\n 
URL:https://aboutmarbella.com/evento/playa-padre-2/2024-10-21/
LOCATION:Playa Padre\, s/n\, Calle playa del cable\, Marbella\, Malaga\, 29603\, España
ATTACH;FMTTYPE=image/png:https://aboutmarbella.com/wp-content/uploads/2024/07/1721919311_02_CHAKRA_WEB-1400-sh6pfz.png
END:VEVENT
BEGIN:VEVENT
DTSTART;TZID=Europe/Madrid:20241019T120000
DTEND;TZID=Europe/Madrid:20241019T233000
DTSTAMP:20260423T081754
CREATED:20240729T174713Z
LAST-MODIFIED:20240729T174713Z
UID:10000401-1729339200-1729380600@aboutmarbella.com
SUMMARY:PLAYA PADRE
DESCRIPTION:VALE\nEvery Saturday\nARTCHITEC\nFrom 12:00h\n 
URL:https://aboutmarbella.com/evento/playa-padre-6/2024-10-19/
LOCATION:Playa Padre\, s/n\, Calle playa del cable\, Marbella\, Malaga\, 29603\, España
ATTACH;FMTTYPE=image/png:https://aboutmarbella.com/wp-content/uploads/2024/07/1722264332_06_VALEWEB2024PP-1400-she3nx.png
END:VEVENT
END:VCALENDAR