BEGIN:VCALENDAR
VERSION:2.0
PRODID:-//About Marbella - ECPv6.8.0//NONSGML v1.0//EN
CALSCALE:GREGORIAN
METHOD:PUBLISH
X-WR-CALNAME:About Marbella
X-ORIGINAL-URL:https://aboutmarbella.com
X-WR-CALDESC:Events for About Marbella
REFRESH-INTERVAL;VALUE=DURATION:PT1H
X-Robots-Tag:noindex
X-PUBLISHED-TTL:PT1H
BEGIN:VTIMEZONE
TZID:Europe/Madrid
BEGIN:DAYLIGHT
TZOFFSETFROM:+0100
TZOFFSETTO:+0200
TZNAME:CEST
DTSTART:20250330T010000
END:DAYLIGHT
BEGIN:STANDARD
TZOFFSETFROM:+0200
TZOFFSETTO:+0100
TZNAME:CET
DTSTART:20251026T010000
END:STANDARD
END:VTIMEZONE
BEGIN:VEVENT
DTSTART;TZID=Europe/Madrid:20250929T120000
DTEND;TZID=Europe/Madrid:20250929T233000
DTSTAMP:20260420T050526
CREATED:20240729T173948Z
LAST-MODIFIED:20240729T173948Z
UID:10000258-1759147200-1759188600@aboutmarbella.com
SUMMARY:PLAYA PADRE
DESCRIPTION:CHAKRA\nEvery Tuesday\nNANO GARRIDO\nFrom 12:00h\n 
URL:https://aboutmarbella.com/evento/playa-padre-2/2025-09-29/
LOCATION:Playa Padre\, s/n\, Calle playa del cable\, Marbella\, Malaga\, 29603\, España
ATTACH;FMTTYPE=image/png:https://aboutmarbella.com/wp-content/uploads/2024/07/1721919311_02_CHAKRA_WEB-1400-sh6pfz.png
END:VEVENT
BEGIN:VEVENT
DTSTART;TZID=Europe/Madrid:20250927T120000
DTEND;TZID=Europe/Madrid:20250927T233000
DTSTAMP:20260420T050526
CREATED:20240729T174713Z
LAST-MODIFIED:20240729T174713Z
UID:10000450-1758974400-1759015800@aboutmarbella.com
SUMMARY:PLAYA PADRE
DESCRIPTION:VALE\nEvery Saturday\nARTCHITEC\nFrom 12:00h\n 
URL:https://aboutmarbella.com/evento/playa-padre-6/2025-09-27/
LOCATION:Playa Padre\, s/n\, Calle playa del cable\, Marbella\, Malaga\, 29603\, España
ATTACH;FMTTYPE=image/png:https://aboutmarbella.com/wp-content/uploads/2024/07/1722264332_06_VALEWEB2024PP-1400-she3nx.png
END:VEVENT
BEGIN:VEVENT
DTSTART;TZID=Europe/Madrid:20250926T120000
DTEND;TZID=Europe/Madrid:20250926T233000
DTSTAMP:20260420T050526
CREATED:20240729T174516Z
LAST-MODIFIED:20240729T174516Z
UID:10000385-1758888000-1758929400@aboutmarbella.com
SUMMARY:PLAYA PADRE
DESCRIPTION:FRIDAY PADRE\nEvery Friday\nEMMERALD\nFrom 12:00h\n 
URL:https://aboutmarbella.com/evento/playa-padre-5/2025-09-26/
LOCATION:Playa Padre\, s/n\, Calle playa del cable\, Marbella\, Malaga\, 29603\, España
ATTACH;FMTTYPE=image/png:https://aboutmarbella.com/wp-content/uploads/2024/07/1722264227_05_FRIDAY_WEB-1400-she3kz.png
END:VEVENT
BEGIN:VEVENT
DTSTART;TZID=Europe/Madrid:20250924T120000
DTEND;TZID=Europe/Madrid:20250924T233000
DTSTAMP:20260420T050526
CREATED:20240729T174210Z
LAST-MODIFIED:20240729T174210Z
UID:10000319-1758715200-1758756600@aboutmarbella.com
SUMMARY:PLAYA PADRE
DESCRIPTION:LUNCH WITH AMIGOS\nEvery Wednesday\nEMMERALD\nFrom 12:00h\n 
URL:https://aboutmarbella.com/evento/playa-padre-3/2025-09-24/
LOCATION:Playa Padre\, s/n\, Calle playa del cable\, Marbella\, Malaga\, 29603\, España
ATTACH;FMTTYPE=image/png:https://aboutmarbella.com/wp-content/uploads/2024/07/1722264007_03_WEDNESDAY_WEB_LUNCH_WITH_AMIGOS-1400-she3ew.png
END:VEVENT
BEGIN:VEVENT
DTSTART;TZID=Europe/Madrid:20250922T120000
DTEND;TZID=Europe/Madrid:20250922T233000
DTSTAMP:20260420T050526
CREATED:20240729T173948Z
LAST-MODIFIED:20240729T173948Z
UID:10000257-1758542400-1758583800@aboutmarbella.com
SUMMARY:PLAYA PADRE
DESCRIPTION:CHAKRA\nEvery Tuesday\nNANO GARRIDO\nFrom 12:00h\n 
URL:https://aboutmarbella.com/evento/playa-padre-2/2025-09-22/
LOCATION:Playa Padre\, s/n\, Calle playa del cable\, Marbella\, Malaga\, 29603\, España
ATTACH;FMTTYPE=image/png:https://aboutmarbella.com/wp-content/uploads/2024/07/1721919311_02_CHAKRA_WEB-1400-sh6pfz.png
END:VEVENT
BEGIN:VEVENT
DTSTART;TZID=Europe/Madrid:20250920T120000
DTEND;TZID=Europe/Madrid:20250920T233000
DTSTAMP:20260420T050526
CREATED:20240729T174713Z
LAST-MODIFIED:20240729T174713Z
UID:10000449-1758369600-1758411000@aboutmarbella.com
SUMMARY:PLAYA PADRE
DESCRIPTION:VALE\nEvery Saturday\nARTCHITEC\nFrom 12:00h\n 
URL:https://aboutmarbella.com/evento/playa-padre-6/2025-09-20/
LOCATION:Playa Padre\, s/n\, Calle playa del cable\, Marbella\, Malaga\, 29603\, España
ATTACH;FMTTYPE=image/png:https://aboutmarbella.com/wp-content/uploads/2024/07/1722264332_06_VALEWEB2024PP-1400-she3nx.png
END:VEVENT
BEGIN:VEVENT
DTSTART;TZID=Europe/Madrid:20250919T120000
DTEND;TZID=Europe/Madrid:20250919T233000
DTSTAMP:20260420T050526
CREATED:20240729T174516Z
LAST-MODIFIED:20240729T174516Z
UID:10000384-1758283200-1758324600@aboutmarbella.com
SUMMARY:PLAYA PADRE
DESCRIPTION:FRIDAY PADRE\nEvery Friday\nEMMERALD\nFrom 12:00h\n 
URL:https://aboutmarbella.com/evento/playa-padre-5/2025-09-19/
LOCATION:Playa Padre\, s/n\, Calle playa del cable\, Marbella\, Malaga\, 29603\, España
ATTACH;FMTTYPE=image/png:https://aboutmarbella.com/wp-content/uploads/2024/07/1722264227_05_FRIDAY_WEB-1400-she3kz.png
END:VEVENT
BEGIN:VEVENT
DTSTART;TZID=Europe/Madrid:20250917T120000
DTEND;TZID=Europe/Madrid:20250917T233000
DTSTAMP:20260420T050526
CREATED:20240729T174210Z
LAST-MODIFIED:20240729T174210Z
UID:10000318-1758110400-1758151800@aboutmarbella.com
SUMMARY:PLAYA PADRE
DESCRIPTION:LUNCH WITH AMIGOS\nEvery Wednesday\nEMMERALD\nFrom 12:00h\n 
URL:https://aboutmarbella.com/evento/playa-padre-3/2025-09-17/
LOCATION:Playa Padre\, s/n\, Calle playa del cable\, Marbella\, Malaga\, 29603\, España
ATTACH;FMTTYPE=image/png:https://aboutmarbella.com/wp-content/uploads/2024/07/1722264007_03_WEDNESDAY_WEB_LUNCH_WITH_AMIGOS-1400-she3ew.png
END:VEVENT
BEGIN:VEVENT
DTSTART;TZID=Europe/Madrid:20250915T120000
DTEND;TZID=Europe/Madrid:20250915T233000
DTSTAMP:20260420T050526
CREATED:20240729T173948Z
LAST-MODIFIED:20240729T173948Z
UID:10000256-1757937600-1757979000@aboutmarbella.com
SUMMARY:PLAYA PADRE
DESCRIPTION:CHAKRA\nEvery Tuesday\nNANO GARRIDO\nFrom 12:00h\n 
URL:https://aboutmarbella.com/evento/playa-padre-2/2025-09-15/
LOCATION:Playa Padre\, s/n\, Calle playa del cable\, Marbella\, Malaga\, 29603\, España
ATTACH;FMTTYPE=image/png:https://aboutmarbella.com/wp-content/uploads/2024/07/1721919311_02_CHAKRA_WEB-1400-sh6pfz.png
END:VEVENT
BEGIN:VEVENT
DTSTART;TZID=Europe/Madrid:20250913T120000
DTEND;TZID=Europe/Madrid:20250913T233000
DTSTAMP:20260420T050526
CREATED:20240729T174713Z
LAST-MODIFIED:20240729T174713Z
UID:10000448-1757764800-1757806200@aboutmarbella.com
SUMMARY:PLAYA PADRE
DESCRIPTION:VALE\nEvery Saturday\nARTCHITEC\nFrom 12:00h\n 
URL:https://aboutmarbella.com/evento/playa-padre-6/2025-09-13/
LOCATION:Playa Padre\, s/n\, Calle playa del cable\, Marbella\, Malaga\, 29603\, España
ATTACH;FMTTYPE=image/png:https://aboutmarbella.com/wp-content/uploads/2024/07/1722264332_06_VALEWEB2024PP-1400-she3nx.png
END:VEVENT
BEGIN:VEVENT
DTSTART;TZID=Europe/Madrid:20250912T120000
DTEND;TZID=Europe/Madrid:20250912T233000
DTSTAMP:20260420T050526
CREATED:20240729T174516Z
LAST-MODIFIED:20240729T174516Z
UID:10000383-1757678400-1757719800@aboutmarbella.com
SUMMARY:PLAYA PADRE
DESCRIPTION:FRIDAY PADRE\nEvery Friday\nEMMERALD\nFrom 12:00h\n 
URL:https://aboutmarbella.com/evento/playa-padre-5/2025-09-12/
LOCATION:Playa Padre\, s/n\, Calle playa del cable\, Marbella\, Malaga\, 29603\, España
ATTACH;FMTTYPE=image/png:https://aboutmarbella.com/wp-content/uploads/2024/07/1722264227_05_FRIDAY_WEB-1400-she3kz.png
END:VEVENT
BEGIN:VEVENT
DTSTART;TZID=Europe/Madrid:20250910T120000
DTEND;TZID=Europe/Madrid:20250910T233000
DTSTAMP:20260420T050526
CREATED:20240729T174210Z
LAST-MODIFIED:20240729T174210Z
UID:10000317-1757505600-1757547000@aboutmarbella.com
SUMMARY:PLAYA PADRE
DESCRIPTION:LUNCH WITH AMIGOS\nEvery Wednesday\nEMMERALD\nFrom 12:00h\n 
URL:https://aboutmarbella.com/evento/playa-padre-3/2025-09-10/
LOCATION:Playa Padre\, s/n\, Calle playa del cable\, Marbella\, Malaga\, 29603\, España
ATTACH;FMTTYPE=image/png:https://aboutmarbella.com/wp-content/uploads/2024/07/1722264007_03_WEDNESDAY_WEB_LUNCH_WITH_AMIGOS-1400-she3ew.png
END:VEVENT
BEGIN:VEVENT
DTSTART;TZID=Europe/Madrid:20250908T120000
DTEND;TZID=Europe/Madrid:20250908T233000
DTSTAMP:20260420T050526
CREATED:20240729T173948Z
LAST-MODIFIED:20240729T173948Z
UID:10000255-1757332800-1757374200@aboutmarbella.com
SUMMARY:PLAYA PADRE
DESCRIPTION:CHAKRA\nEvery Tuesday\nNANO GARRIDO\nFrom 12:00h\n 
URL:https://aboutmarbella.com/evento/playa-padre-2/2025-09-08/
LOCATION:Playa Padre\, s/n\, Calle playa del cable\, Marbella\, Malaga\, 29603\, España
ATTACH;FMTTYPE=image/png:https://aboutmarbella.com/wp-content/uploads/2024/07/1721919311_02_CHAKRA_WEB-1400-sh6pfz.png
END:VEVENT
BEGIN:VEVENT
DTSTART;TZID=Europe/Madrid:20250906T120000
DTEND;TZID=Europe/Madrid:20250906T233000
DTSTAMP:20260420T050526
CREATED:20240729T174713Z
LAST-MODIFIED:20240729T174713Z
UID:10000447-1757160000-1757201400@aboutmarbella.com
SUMMARY:PLAYA PADRE
DESCRIPTION:VALE\nEvery Saturday\nARTCHITEC\nFrom 12:00h\n 
URL:https://aboutmarbella.com/evento/playa-padre-6/2025-09-06/
LOCATION:Playa Padre\, s/n\, Calle playa del cable\, Marbella\, Malaga\, 29603\, España
ATTACH;FMTTYPE=image/png:https://aboutmarbella.com/wp-content/uploads/2024/07/1722264332_06_VALEWEB2024PP-1400-she3nx.png
END:VEVENT
BEGIN:VEVENT
DTSTART;TZID=Europe/Madrid:20250905T120000
DTEND;TZID=Europe/Madrid:20250905T233000
DTSTAMP:20260420T050526
CREATED:20240729T174516Z
LAST-MODIFIED:20240729T174516Z
UID:10000382-1757073600-1757115000@aboutmarbella.com
SUMMARY:PLAYA PADRE
DESCRIPTION:FRIDAY PADRE\nEvery Friday\nEMMERALD\nFrom 12:00h\n 
URL:https://aboutmarbella.com/evento/playa-padre-5/2025-09-05/
LOCATION:Playa Padre\, s/n\, Calle playa del cable\, Marbella\, Malaga\, 29603\, España
ATTACH;FMTTYPE=image/png:https://aboutmarbella.com/wp-content/uploads/2024/07/1722264227_05_FRIDAY_WEB-1400-she3kz.png
END:VEVENT
BEGIN:VEVENT
DTSTART;TZID=Europe/Madrid:20250903T120000
DTEND;TZID=Europe/Madrid:20250903T233000
DTSTAMP:20260420T050526
CREATED:20240729T174210Z
LAST-MODIFIED:20240729T174210Z
UID:10000316-1756900800-1756942200@aboutmarbella.com
SUMMARY:PLAYA PADRE
DESCRIPTION:LUNCH WITH AMIGOS\nEvery Wednesday\nEMMERALD\nFrom 12:00h\n 
URL:https://aboutmarbella.com/evento/playa-padre-3/2025-09-03/
LOCATION:Playa Padre\, s/n\, Calle playa del cable\, Marbella\, Malaga\, 29603\, España
ATTACH;FMTTYPE=image/png:https://aboutmarbella.com/wp-content/uploads/2024/07/1722264007_03_WEDNESDAY_WEB_LUNCH_WITH_AMIGOS-1400-she3ew.png
END:VEVENT
BEGIN:VEVENT
DTSTART;TZID=Europe/Madrid:20250901T120000
DTEND;TZID=Europe/Madrid:20250901T233000
DTSTAMP:20260420T050526
CREATED:20240729T173948Z
LAST-MODIFIED:20240729T173948Z
UID:10000254-1756728000-1756769400@aboutmarbella.com
SUMMARY:PLAYA PADRE
DESCRIPTION:CHAKRA\nEvery Tuesday\nNANO GARRIDO\nFrom 12:00h\n 
URL:https://aboutmarbella.com/evento/playa-padre-2/2025-09-01/
LOCATION:Playa Padre\, s/n\, Calle playa del cable\, Marbella\, Malaga\, 29603\, España
ATTACH;FMTTYPE=image/png:https://aboutmarbella.com/wp-content/uploads/2024/07/1721919311_02_CHAKRA_WEB-1400-sh6pfz.png
END:VEVENT
BEGIN:VEVENT
DTSTART;TZID=Europe/Madrid:20250830T120000
DTEND;TZID=Europe/Madrid:20250830T233000
DTSTAMP:20260420T050526
CREATED:20240729T174713Z
LAST-MODIFIED:20240729T174713Z
UID:10000446-1756555200-1756596600@aboutmarbella.com
SUMMARY:PLAYA PADRE
DESCRIPTION:VALE\nEvery Saturday\nARTCHITEC\nFrom 12:00h\n 
URL:https://aboutmarbella.com/evento/playa-padre-6/2025-08-30/
LOCATION:Playa Padre\, s/n\, Calle playa del cable\, Marbella\, Malaga\, 29603\, España
ATTACH;FMTTYPE=image/png:https://aboutmarbella.com/wp-content/uploads/2024/07/1722264332_06_VALEWEB2024PP-1400-she3nx.png
END:VEVENT
BEGIN:VEVENT
DTSTART;TZID=Europe/Madrid:20250829T120000
DTEND;TZID=Europe/Madrid:20250829T233000
DTSTAMP:20260420T050526
CREATED:20240729T174516Z
LAST-MODIFIED:20240729T174516Z
UID:10000381-1756468800-1756510200@aboutmarbella.com
SUMMARY:PLAYA PADRE
DESCRIPTION:FRIDAY PADRE\nEvery Friday\nEMMERALD\nFrom 12:00h\n 
URL:https://aboutmarbella.com/evento/playa-padre-5/2025-08-29/
LOCATION:Playa Padre\, s/n\, Calle playa del cable\, Marbella\, Malaga\, 29603\, España
ATTACH;FMTTYPE=image/png:https://aboutmarbella.com/wp-content/uploads/2024/07/1722264227_05_FRIDAY_WEB-1400-she3kz.png
END:VEVENT
BEGIN:VEVENT
DTSTART;TZID=Europe/Madrid:20250827T120000
DTEND;TZID=Europe/Madrid:20250827T233000
DTSTAMP:20260420T050526
CREATED:20240729T174210Z
LAST-MODIFIED:20240729T174210Z
UID:10000315-1756296000-1756337400@aboutmarbella.com
SUMMARY:PLAYA PADRE
DESCRIPTION:LUNCH WITH AMIGOS\nEvery Wednesday\nEMMERALD\nFrom 12:00h\n 
URL:https://aboutmarbella.com/evento/playa-padre-3/2025-08-27/
LOCATION:Playa Padre\, s/n\, Calle playa del cable\, Marbella\, Malaga\, 29603\, España
ATTACH;FMTTYPE=image/png:https://aboutmarbella.com/wp-content/uploads/2024/07/1722264007_03_WEDNESDAY_WEB_LUNCH_WITH_AMIGOS-1400-she3ew.png
END:VEVENT
BEGIN:VEVENT
DTSTART;TZID=Europe/Madrid:20250825T120000
DTEND;TZID=Europe/Madrid:20250825T233000
DTSTAMP:20260420T050526
CREATED:20240729T173948Z
LAST-MODIFIED:20240729T173948Z
UID:10000253-1756123200-1756164600@aboutmarbella.com
SUMMARY:PLAYA PADRE
DESCRIPTION:CHAKRA\nEvery Tuesday\nNANO GARRIDO\nFrom 12:00h\n 
URL:https://aboutmarbella.com/evento/playa-padre-2/2025-08-25/
LOCATION:Playa Padre\, s/n\, Calle playa del cable\, Marbella\, Malaga\, 29603\, España
ATTACH;FMTTYPE=image/png:https://aboutmarbella.com/wp-content/uploads/2024/07/1721919311_02_CHAKRA_WEB-1400-sh6pfz.png
END:VEVENT
BEGIN:VEVENT
DTSTART;TZID=Europe/Madrid:20250823T120000
DTEND;TZID=Europe/Madrid:20250823T233000
DTSTAMP:20260420T050526
CREATED:20240729T174713Z
LAST-MODIFIED:20240729T174713Z
UID:10000445-1755950400-1755991800@aboutmarbella.com
SUMMARY:PLAYA PADRE
DESCRIPTION:VALE\nEvery Saturday\nARTCHITEC\nFrom 12:00h\n 
URL:https://aboutmarbella.com/evento/playa-padre-6/2025-08-23/
LOCATION:Playa Padre\, s/n\, Calle playa del cable\, Marbella\, Malaga\, 29603\, España
ATTACH;FMTTYPE=image/png:https://aboutmarbella.com/wp-content/uploads/2024/07/1722264332_06_VALEWEB2024PP-1400-she3nx.png
END:VEVENT
BEGIN:VEVENT
DTSTART;TZID=Europe/Madrid:20250822T120000
DTEND;TZID=Europe/Madrid:20250822T233000
DTSTAMP:20260420T050526
CREATED:20240729T174516Z
LAST-MODIFIED:20240729T174516Z
UID:10000380-1755864000-1755905400@aboutmarbella.com
SUMMARY:PLAYA PADRE
DESCRIPTION:FRIDAY PADRE\nEvery Friday\nEMMERALD\nFrom 12:00h\n 
URL:https://aboutmarbella.com/evento/playa-padre-5/2025-08-22/
LOCATION:Playa Padre\, s/n\, Calle playa del cable\, Marbella\, Malaga\, 29603\, España
ATTACH;FMTTYPE=image/png:https://aboutmarbella.com/wp-content/uploads/2024/07/1722264227_05_FRIDAY_WEB-1400-she3kz.png
END:VEVENT
BEGIN:VEVENT
DTSTART;TZID=Europe/Madrid:20250820T120000
DTEND;TZID=Europe/Madrid:20250820T233000
DTSTAMP:20260420T050526
CREATED:20240729T174210Z
LAST-MODIFIED:20240729T174210Z
UID:10000314-1755691200-1755732600@aboutmarbella.com
SUMMARY:PLAYA PADRE
DESCRIPTION:LUNCH WITH AMIGOS\nEvery Wednesday\nEMMERALD\nFrom 12:00h\n 
URL:https://aboutmarbella.com/evento/playa-padre-3/2025-08-20/
LOCATION:Playa Padre\, s/n\, Calle playa del cable\, Marbella\, Malaga\, 29603\, España
ATTACH;FMTTYPE=image/png:https://aboutmarbella.com/wp-content/uploads/2024/07/1722264007_03_WEDNESDAY_WEB_LUNCH_WITH_AMIGOS-1400-she3ew.png
END:VEVENT
BEGIN:VEVENT
DTSTART;TZID=Europe/Madrid:20250818T120000
DTEND;TZID=Europe/Madrid:20250818T233000
DTSTAMP:20260420T050526
CREATED:20240729T173948Z
LAST-MODIFIED:20240729T173948Z
UID:10000252-1755518400-1755559800@aboutmarbella.com
SUMMARY:PLAYA PADRE
DESCRIPTION:CHAKRA\nEvery Tuesday\nNANO GARRIDO\nFrom 12:00h\n 
URL:https://aboutmarbella.com/evento/playa-padre-2/2025-08-18/
LOCATION:Playa Padre\, s/n\, Calle playa del cable\, Marbella\, Malaga\, 29603\, España
ATTACH;FMTTYPE=image/png:https://aboutmarbella.com/wp-content/uploads/2024/07/1721919311_02_CHAKRA_WEB-1400-sh6pfz.png
END:VEVENT
BEGIN:VEVENT
DTSTART;TZID=Europe/Madrid:20250816T120000
DTEND;TZID=Europe/Madrid:20250816T233000
DTSTAMP:20260420T050526
CREATED:20240729T174713Z
LAST-MODIFIED:20240729T174713Z
UID:10000444-1755345600-1755387000@aboutmarbella.com
SUMMARY:PLAYA PADRE
DESCRIPTION:VALE\nEvery Saturday\nARTCHITEC\nFrom 12:00h\n 
URL:https://aboutmarbella.com/evento/playa-padre-6/2025-08-16/
LOCATION:Playa Padre\, s/n\, Calle playa del cable\, Marbella\, Malaga\, 29603\, España
ATTACH;FMTTYPE=image/png:https://aboutmarbella.com/wp-content/uploads/2024/07/1722264332_06_VALEWEB2024PP-1400-she3nx.png
END:VEVENT
BEGIN:VEVENT
DTSTART;TZID=Europe/Madrid:20250815T120000
DTEND;TZID=Europe/Madrid:20250815T233000
DTSTAMP:20260420T050526
CREATED:20240729T174516Z
LAST-MODIFIED:20240729T174516Z
UID:10000379-1755259200-1755300600@aboutmarbella.com
SUMMARY:PLAYA PADRE
DESCRIPTION:FRIDAY PADRE\nEvery Friday\nEMMERALD\nFrom 12:00h\n 
URL:https://aboutmarbella.com/evento/playa-padre-5/2025-08-15/
LOCATION:Playa Padre\, s/n\, Calle playa del cable\, Marbella\, Malaga\, 29603\, España
ATTACH;FMTTYPE=image/png:https://aboutmarbella.com/wp-content/uploads/2024/07/1722264227_05_FRIDAY_WEB-1400-she3kz.png
END:VEVENT
BEGIN:VEVENT
DTSTART;TZID=Europe/Madrid:20250813T120000
DTEND;TZID=Europe/Madrid:20250813T233000
DTSTAMP:20260420T050526
CREATED:20240729T174210Z
LAST-MODIFIED:20240729T174210Z
UID:10000313-1755086400-1755127800@aboutmarbella.com
SUMMARY:PLAYA PADRE
DESCRIPTION:LUNCH WITH AMIGOS\nEvery Wednesday\nEMMERALD\nFrom 12:00h\n 
URL:https://aboutmarbella.com/evento/playa-padre-3/2025-08-13/
LOCATION:Playa Padre\, s/n\, Calle playa del cable\, Marbella\, Malaga\, 29603\, España
ATTACH;FMTTYPE=image/png:https://aboutmarbella.com/wp-content/uploads/2024/07/1722264007_03_WEDNESDAY_WEB_LUNCH_WITH_AMIGOS-1400-she3ew.png
END:VEVENT
BEGIN:VEVENT
DTSTART;TZID=Europe/Madrid:20250811T120000
DTEND;TZID=Europe/Madrid:20250811T233000
DTSTAMP:20260420T050526
CREATED:20240729T173948Z
LAST-MODIFIED:20240729T173948Z
UID:10000251-1754913600-1754955000@aboutmarbella.com
SUMMARY:PLAYA PADRE
DESCRIPTION:CHAKRA\nEvery Tuesday\nNANO GARRIDO\nFrom 12:00h\n 
URL:https://aboutmarbella.com/evento/playa-padre-2/2025-08-11/
LOCATION:Playa Padre\, s/n\, Calle playa del cable\, Marbella\, Malaga\, 29603\, España
ATTACH;FMTTYPE=image/png:https://aboutmarbella.com/wp-content/uploads/2024/07/1721919311_02_CHAKRA_WEB-1400-sh6pfz.png
END:VEVENT
BEGIN:VEVENT
DTSTART;TZID=Europe/Madrid:20250809T120000
DTEND;TZID=Europe/Madrid:20250809T233000
DTSTAMP:20260420T050526
CREATED:20240729T174713Z
LAST-MODIFIED:20240729T174713Z
UID:10000443-1754740800-1754782200@aboutmarbella.com
SUMMARY:PLAYA PADRE
DESCRIPTION:VALE\nEvery Saturday\nARTCHITEC\nFrom 12:00h\n 
URL:https://aboutmarbella.com/evento/playa-padre-6/2025-08-09/
LOCATION:Playa Padre\, s/n\, Calle playa del cable\, Marbella\, Malaga\, 29603\, España
ATTACH;FMTTYPE=image/png:https://aboutmarbella.com/wp-content/uploads/2024/07/1722264332_06_VALEWEB2024PP-1400-she3nx.png
END:VEVENT
END:VCALENDAR